BEGIN:VCALENDAR
VERSION:2.0
PRODID:-//Prāta spēles - ECPv6.15.14//NONSGML v1.0//EN
CALSCALE:GREGORIAN
METHOD:PUBLISH
X-WR-CALNAME:Prāta spēles
X-ORIGINAL-URL:https://prataspeles.com
X-WR-CALDESC:Events for Prāta spēles
REFRESH-INTERVAL;VALUE=DURATION:PT1H
X-Robots-Tag:noindex
X-PUBLISHED-TTL:PT1H
BEGIN:VTIMEZONE
TZID:Europe/Riga
BEGIN:DAYLIGHT
TZOFFSETFROM:+0200
TZOFFSETTO:+0300
TZNAME:EEST
DTSTART:20250330T010000
END:DAYLIGHT
BEGIN:STANDARD
TZOFFSETFROM:+0300
TZOFFSETTO:+0200
TZNAME:EET
DTSTART:20251026T010000
END:STANDARD
BEGIN:DAYLIGHT
TZOFFSETFROM:+0200
TZOFFSETTO:+0300
TZNAME:EEST
DTSTART:20260329T010000
END:DAYLIGHT
BEGIN:STANDARD
TZOFFSETFROM:+0300
TZOFFSETTO:+0200
TZNAME:EET
DTSTART:20261025T010000
END:STANDARD
BEGIN:DAYLIGHT
TZOFFSETFROM:+0200
TZOFFSETTO:+0300
TZNAME:EEST
DTSTART:20270328T010000
END:DAYLIGHT
BEGIN:STANDARD
TZOFFSETFROM:+0300
TZOFFSETTO:+0200
TZNAME:EET
DTSTART:20271031T010000
END:STANDARD
END:VTIMEZONE
BEGIN:VEVENT
DTSTART;TZID=Europe/Riga:20260518T184500
DTEND;TZID=Europe/Riga:20260518T210000
DTSTAMP:20260422T083609
CREATED:20260218T100336Z
LAST-MODIFIED:20260218T100336Z
UID:10001084-1779129900-1779138000@prataspeles.com
SUMMARY:Prāta Spēles pavasara sezona - 10.spēle
DESCRIPTION:Vai meklē kaut ko aizraujošu\, kas liks tavām smadzenēm strādāt pilnīgi citādā veidā? “Prāta Spēles” ir tava iespēja pacelties jaunos augstumos! Šeit zināšanas iegūst jaunu dzīvotspēju\, un katra pareiza atbilde tuvina tevi uzvarai.KĀDU PIEREDZI VARĒSI GAIDĪT:Jautājumi\, kas liks tev aplūkot pasauli no jaunas perspektīvasDraudzīga konkurence\, kas uzkarsēs asinis un uzlabos azartuSmiekli un negaidīti atklājumi katrā solīBalvas\, kas gaida savus čempionus\n Vieta: Blaumaņa iela 38/40\, 3. stāvs Laiks: 18:45 Komandas sastāvs: līdz 6 spēlētājiemPIESAKIES:  prataspeles@prataspeles.com vai www.prataspeles.com\nMūsu atbalstītāji: Pergalė | Delfi.lv | “Mezgls” | ACME Film Latvija | Vitabiotics Latvija “Neurozan” | GABI apavu veikali | Brain Games LV*Fotografēsim tavas uzvaras mirkļus un dalīsimies ar tiem publiski!DOMĀ DROSMĪGI – PIEŅEM IZAICINĀJUMU – IEGŪSTI NEAIZSTĀJAMU PIEREDZI!
URL:https://prataspeles.com/event/prata-speles-pavasara-sezona-10-spele-5/
LOCATION:“Prāta Spēles” zāle\, Blaumaņa iela 38/40\, Rīga\, Latvia
CATEGORIES:Prāta spēles
END:VEVENT
BEGIN:VEVENT
DTSTART;TZID=Europe/Riga:20260519T184500
DTEND;TZID=Europe/Riga:20260519T210000
DTSTAMP:20260422T083609
CREATED:20260218T100352Z
LAST-MODIFIED:20260218T100352Z
UID:10001085-1779216300-1779224400@prataspeles.com
SUMMARY:Prāta Spēles pavasara sezona - 10.spēle
DESCRIPTION:Vai meklē kaut ko aizraujošu\, kas liks tavām smadzenēm strādāt pilnīgi citādā veidā? “Prāta Spēles” ir tava iespēja pacelties jaunos augstumos! Šeit zināšanas iegūst jaunu dzīvotspēju\, un katra pareiza atbilde tuvina tevi uzvarai.KĀDU PIEREDZI VARĒSI GAIDĪT:Jautājumi\, kas liks tev aplūkot pasauli no jaunas perspektīvasDraudzīga konkurence\, kas uzkarsēs asinis un uzlabos azartuSmiekli un negaidīti atklājumi katrā solīBalvas\, kas gaida savus čempionus\n Vieta: Blaumaņa iela 38/40\, 3. stāvs Laiks: 18:45 Komandas sastāvs: līdz 6 spēlētājiemPIESAKIES:  prataspeles@prataspeles.com vai www.prataspeles.com\nMūsu atbalstītāji: Pergalė | Delfi.lv | “Mezgls” | ACME Film Latvija | Vitabiotics Latvija “Neurozan” | GABI apavu veikali | Brain Games LV*Fotografēsim tavas uzvaras mirkļus un dalīsimies ar tiem publiski!DOMĀ DROSMĪGI – PIEŅEM IZAICINĀJUMU – IEGŪSTI NEAIZSTĀJAMU PIEREDZI!
URL:https://prataspeles.com/event/prata-speles-pavasara-sezona-10-spele-6/
LOCATION:“Prāta Spēles” zāle\, Blaumaņa iela 38/40\, Rīga\, Latvia
CATEGORIES:Prāta spēles
END:VEVENT
BEGIN:VEVENT
DTSTART;TZID=Europe/Riga:20260520T184500
DTEND;TZID=Europe/Riga:20260520T210000
DTSTAMP:20260422T083609
CREATED:20260218T100424Z
LAST-MODIFIED:20260218T100424Z
UID:10001086-1779302700-1779310800@prataspeles.com
SUMMARY:Prāta Spēles pavasara sezona - 10.spēle
DESCRIPTION:Vai meklē kaut ko aizraujošu\, kas liks tavām smadzenēm strādāt pilnīgi citādā veidā? “Prāta Spēles” ir tava iespēja pacelties jaunos augstumos! Šeit zināšanas iegūst jaunu dzīvotspēju\, un katra pareiza atbilde tuvina tevi uzvarai.KĀDU PIEREDZI VARĒSI GAIDĪT:Jautājumi\, kas liks tev aplūkot pasauli no jaunas perspektīvasDraudzīga konkurence\, kas uzkarsēs asinis un uzlabos azartuSmiekli un negaidīti atklājumi katrā solīBalvas\, kas gaida savus čempionus\n Vieta: Blaumaņa iela 38/40\, 3. stāvs Laiks: 18:45 Komandas sastāvs: līdz 6 spēlētājiemPIESAKIES:  prataspeles@prataspeles.com vai www.prataspeles.com\nMūsu atbalstītāji: Pergalė | Delfi.lv | “Mezgls” | ACME Film Latvija | Vitabiotics Latvija “Neurozan” | GABI apavu veikali | Brain Games LV*Fotografēsim tavas uzvaras mirkļus un dalīsimies ar tiem publiski!DOMĀ DROSMĪGI – PIEŅEM IZAICINĀJUMU – IEGŪSTI NEAIZSTĀJAMU PIEREDZI!
URL:https://prataspeles.com/event/prata-speles-pavasara-sezona-10-spele-7/
LOCATION:“Prāta Spēles” zāle\, Blaumaņa iela 38/40\, Rīga\, Latvia
CATEGORIES:Prāta spēles
END:VEVENT
BEGIN:VEVENT
DTSTART;TZID=Europe/Riga:20260521T184500
DTEND;TZID=Europe/Riga:20260521T210000
DTSTAMP:20260422T083609
CREATED:20260218T100446Z
LAST-MODIFIED:20260218T100446Z
UID:10001088-1779389100-1779397200@prataspeles.com
SUMMARY:Prāta Spēles pavasara sezona - 10.spēle
DESCRIPTION:Vai meklē kaut ko aizraujošu\, kas liks tavām smadzenēm strādāt pilnīgi citādā veidā? “Prāta Spēles” ir tava iespēja pacelties jaunos augstumos! Šeit zināšanas iegūst jaunu dzīvotspēju\, un katra pareiza atbilde tuvina tevi uzvarai.KĀDU PIEREDZI VARĒSI GAIDĪT:Jautājumi\, kas liks tev aplūkot pasauli no jaunas perspektīvasDraudzīga konkurence\, kas uzkarsēs asinis un uzlabos azartuSmiekli un negaidīti atklājumi katrā solīBalvas\, kas gaida savus čempionus\n Vieta: Blaumaņa iela 38/40\, 3. stāvs Laiks: 18:45 Komandas sastāvs: līdz 6 spēlētājiemPIESAKIES:  prataspeles@prataspeles.com vai www.prataspeles.com\nMūsu atbalstītāji: Pergalė | Delfi.lv | “Mezgls” | ACME Film Latvija | Vitabiotics Latvija “Neurozan” | GABI apavu veikali | Brain Games LV*Fotografēsim tavas uzvaras mirkļus un dalīsimies ar tiem publiski!DOMĀ DROSMĪGI – PIEŅEM IZAICINĀJUMU – IEGŪSTI NEAIZSTĀJAMU PIEREDZI!
URL:https://prataspeles.com/event/prata-speles-pavasara-sezona-10-spele-8/
LOCATION:“Prāta Spēles” zāle\, Blaumaņa iela 38/40\, Rīga\, Latvia
CATEGORIES:Prāta spēles
END:VEVENT
BEGIN:VEVENT
DTSTART;TZID=Europe/Riga:20260526T184500
DTEND;TZID=Europe/Riga:20260526T210000
DTSTAMP:20260422T083609
CREATED:20260218T100707Z
LAST-MODIFIED:20260218T100707Z
UID:10001089-1779821100-1779829200@prataspeles.com
SUMMARY:Prāta Spēles vasaras sezona - 11.spēle
DESCRIPTION:Vai meklē kaut ko aizraujošu\, kas liks tavām smadzenēm strādāt pilnīgi citādā veidā? “Prāta Spēles” ir tava iespēja pacelties jaunos augstumos! Šeit zināšanas iegūst jaunu dzīvotspēju\, un katra pareiza atbilde tuvina tevi uzvarai.KĀDU PIEREDZI VARĒSI GAIDĪT:Jautājumi\, kas liks tev aplūkot pasauli no jaunas perspektīvasDraudzīga konkurence\, kas uzkarsēs asinis un uzlabos azartuSmiekli un negaidīti atklājumi katrā solīBalvas\, kas gaida savus čempionus\n Vieta: Blaumaņa iela 38/40\, 3. stāvs Laiks: 18:45 Komandas sastāvs: līdz 6 spēlētājiemPIESAKIES:  prataspeles@prataspeles.com vai www.prataspeles.com\nMūsu atbalstītāji: Pergalė | Delfi.lv | “Mezgls” | ACME Film Latvija | Vitabiotics Latvija “Neurozan” | GABI apavu veikali | Brain Games LV*Fotografēsim tavas uzvaras mirkļus un dalīsimies ar tiem publiski!DOMĀ DROSMĪGI – PIEŅEM IZAICINĀJUMU – IEGŪSTI NEAIZSTĀJAMU PIEREDZI!
URL:https://prataspeles.com/event/prata-speles-vasaras-sezona-11-spele/
LOCATION:“Prāta Spēles” zāle\, Blaumaņa iela 38/40\, Rīga\, Latvia
CATEGORIES:Prāta spēles
END:VEVENT
BEGIN:VEVENT
DTSTART;TZID=Europe/Riga:20260528T184500
DTEND;TZID=Europe/Riga:20260528T210000
DTSTAMP:20260422T083609
CREATED:20260218T100747Z
LAST-MODIFIED:20260218T100747Z
UID:10001090-1779993900-1780002000@prataspeles.com
SUMMARY:Prāta Spēles vasaras sezona - 11.spēle
DESCRIPTION:Vai meklē kaut ko aizraujošu\, kas liks tavām smadzenēm strādāt pilnīgi citādā veidā? “Prāta Spēles” ir tava iespēja pacelties jaunos augstumos! Šeit zināšanas iegūst jaunu dzīvotspēju\, un katra pareiza atbilde tuvina tevi uzvarai.KĀDU PIEREDZI VARĒSI GAIDĪT:Jautājumi\, kas liks tev aplūkot pasauli no jaunas perspektīvasDraudzīga konkurence\, kas uzkarsēs asinis un uzlabos azartuSmiekli un negaidīti atklājumi katrā solīBalvas\, kas gaida savus čempionus\n Vieta: Blaumaņa iela 38/40\, 3. stāvs Laiks: 18:45 Komandas sastāvs: līdz 6 spēlētājiemPIESAKIES:  prataspeles@prataspeles.com vai www.prataspeles.com\nMūsu atbalstītāji: Pergalė | Delfi.lv | “Mezgls” | ACME Film Latvija | Vitabiotics Latvija “Neurozan” | GABI apavu veikali | Brain Games LV*Fotografēsim tavas uzvaras mirkļus un dalīsimies ar tiem publiski!DOMĀ DROSMĪGI – PIEŅEM IZAICINĀJUMU – IEGŪSTI NEAIZSTĀJAMU PIEREDZI!
URL:https://prataspeles.com/event/prata-speles-vasaras-sezona-11-spele-2/
LOCATION:“Prāta Spēles” zāle\, Blaumaņa iela 38/40\, Rīga\, Latvia
CATEGORIES:Prāta spēles
END:VEVENT
BEGIN:VEVENT
DTSTART;TZID=Europe/Riga:20260529T184500
DTEND;TZID=Europe/Riga:20260529T210000
DTSTAMP:20260422T083609
CREATED:20260218T100803Z
LAST-MODIFIED:20260218T100803Z
UID:10001091-1780080300-1780088400@prataspeles.com
SUMMARY:Prāta Spēles vasaras sezona - 11.spēle
DESCRIPTION:Vai meklē kaut ko aizraujošu\, kas liks tavām smadzenēm strādāt pilnīgi citādā veidā? “Prāta Spēles” ir tava iespēja pacelties jaunos augstumos! Šeit zināšanas iegūst jaunu dzīvotspēju\, un katra pareiza atbilde tuvina tevi uzvarai.KĀDU PIEREDZI VARĒSI GAIDĪT:Jautājumi\, kas liks tev aplūkot pasauli no jaunas perspektīvasDraudzīga konkurence\, kas uzkarsēs asinis un uzlabos azartuSmiekli un negaidīti atklājumi katrā solīBalvas\, kas gaida savus čempionus\n Vieta: Blaumaņa iela 38/40\, 3. stāvs Laiks: 18:45 Komandas sastāvs: līdz 6 spēlētājiemPIESAKIES:  prataspeles@prataspeles.com vai www.prataspeles.com\nMūsu atbalstītāji: Pergalė | Delfi.lv | “Mezgls” | ACME Film Latvija | Vitabiotics Latvija “Neurozan” | GABI apavu veikali | Brain Games LV*Fotografēsim tavas uzvaras mirkļus un dalīsimies ar tiem publiski!DOMĀ DROSMĪGI – PIEŅEM IZAICINĀJUMU – IEGŪSTI NEAIZSTĀJAMU PIEREDZI!
URL:https://prataspeles.com/event/prata-speles-vasaras-sezona-11-spele-3/
LOCATION:“Prāta Spēles” zāle\, Blaumaņa iela 38/40\, Rīga\, Latvia
CATEGORIES:Prāta spēles
END:VEVENT
BEGIN:VEVENT
DTSTART;TZID=Europe/Riga:20260601T184500
DTEND;TZID=Europe/Riga:20260601T210000
DTSTAMP:20260422T083609
CREATED:20260218T100825Z
LAST-MODIFIED:20260218T100825Z
UID:10001092-1780339500-1780347600@prataspeles.com
SUMMARY:Prāta Spēles vasaras sezona - 11.spēle
DESCRIPTION:Vai meklē kaut ko aizraujošu\, kas liks tavām smadzenēm strādāt pilnīgi citādā veidā? “Prāta Spēles” ir tava iespēja pacelties jaunos augstumos! Šeit zināšanas iegūst jaunu dzīvotspēju\, un katra pareiza atbilde tuvina tevi uzvarai.KĀDU PIEREDZI VARĒSI GAIDĪT:Jautājumi\, kas liks tev aplūkot pasauli no jaunas perspektīvasDraudzīga konkurence\, kas uzkarsēs asinis un uzlabos azartuSmiekli un negaidīti atklājumi katrā solīBalvas\, kas gaida savus čempionus\n Vieta: Blaumaņa iela 38/40\, 3. stāvs Laiks: 18:45 Komandas sastāvs: līdz 6 spēlētājiemPIESAKIES:  prataspeles@prataspeles.com vai www.prataspeles.com\nMūsu atbalstītāji: Pergalė | Delfi.lv | “Mezgls” | ACME Film Latvija | Vitabiotics Latvija “Neurozan” | GABI apavu veikali | Brain Games LV*Fotografēsim tavas uzvaras mirkļus un dalīsimies ar tiem publiski!DOMĀ DROSMĪGI – PIEŅEM IZAICINĀJUMU – IEGŪSTI NEAIZSTĀJAMU PIEREDZI!
URL:https://prataspeles.com/event/prata-speles-vasaras-sezona-11-spele-4/
LOCATION:“Prāta Spēles” zāle\, Blaumaņa iela 38/40\, Rīga\, Latvia
CATEGORIES:Prāta spēles
END:VEVENT
BEGIN:VEVENT
DTSTART;TZID=Europe/Riga:20260602T184500
DTEND;TZID=Europe/Riga:20260602T210000
DTSTAMP:20260422T083609
CREATED:20260218T100844Z
LAST-MODIFIED:20260218T100844Z
UID:10001093-1780425900-1780434000@prataspeles.com
SUMMARY:Prāta Spēles vasaras sezona - 11.spēle
DESCRIPTION:Vai meklē kaut ko aizraujošu\, kas liks tavām smadzenēm strādāt pilnīgi citādā veidā? “Prāta Spēles” ir tava iespēja pacelties jaunos augstumos! Šeit zināšanas iegūst jaunu dzīvotspēju\, un katra pareiza atbilde tuvina tevi uzvarai.KĀDU PIEREDZI VARĒSI GAIDĪT:Jautājumi\, kas liks tev aplūkot pasauli no jaunas perspektīvasDraudzīga konkurence\, kas uzkarsēs asinis un uzlabos azartuSmiekli un negaidīti atklājumi katrā solīBalvas\, kas gaida savus čempionus\n Vieta: Blaumaņa iela 38/40\, 3. stāvs Laiks: 18:45 Komandas sastāvs: līdz 6 spēlētājiemPIESAKIES:  prataspeles@prataspeles.com vai www.prataspeles.com\nMūsu atbalstītāji: Pergalė | Delfi.lv | “Mezgls” | ACME Film Latvija | Vitabiotics Latvija “Neurozan” | GABI apavu veikali | Brain Games LV*Fotografēsim tavas uzvaras mirkļus un dalīsimies ar tiem publiski!DOMĀ DROSMĪGI – PIEŅEM IZAICINĀJUMU – IEGŪSTI NEAIZSTĀJAMU PIEREDZI!
URL:https://prataspeles.com/event/prata-speles-vasaras-sezona-11-spele-5/
LOCATION:“Prāta Spēles” zāle\, Blaumaņa iela 38/40\, Rīga\, Latvia
CATEGORIES:Prāta spēles
END:VEVENT
BEGIN:VEVENT
DTSTART;TZID=Europe/Riga:20260603T184500
DTEND;TZID=Europe/Riga:20260603T210000
DTSTAMP:20260422T083609
CREATED:20260218T100900Z
LAST-MODIFIED:20260218T100900Z
UID:10001094-1780512300-1780520400@prataspeles.com
SUMMARY:Prāta Spēles vasaras sezona - 11.spēle
DESCRIPTION:Vai meklē kaut ko aizraujošu\, kas liks tavām smadzenēm strādāt pilnīgi citādā veidā? “Prāta Spēles” ir tava iespēja pacelties jaunos augstumos! Šeit zināšanas iegūst jaunu dzīvotspēju\, un katra pareiza atbilde tuvina tevi uzvarai.KĀDU PIEREDZI VARĒSI GAIDĪT:Jautājumi\, kas liks tev aplūkot pasauli no jaunas perspektīvasDraudzīga konkurence\, kas uzkarsēs asinis un uzlabos azartuSmiekli un negaidīti atklājumi katrā solīBalvas\, kas gaida savus čempionus\n Vieta: Blaumaņa iela 38/40\, 3. stāvs Laiks: 18:45 Komandas sastāvs: līdz 6 spēlētājiemPIESAKIES:  prataspeles@prataspeles.com vai www.prataspeles.com\nMūsu atbalstītāji: Pergalė | Delfi.lv | “Mezgls” | ACME Film Latvija | Vitabiotics Latvija “Neurozan” | GABI apavu veikali | Brain Games LV*Fotografēsim tavas uzvaras mirkļus un dalīsimies ar tiem publiski!DOMĀ DROSMĪGI – PIEŅEM IZAICINĀJUMU – IEGŪSTI NEAIZSTĀJAMU PIEREDZI!
URL:https://prataspeles.com/event/prata-speles-vasaras-sezona-11-spele-6/
LOCATION:“Prāta Spēles” zāle\, Blaumaņa iela 38/40\, Rīga\, Latvia
CATEGORIES:Prāta spēles
END:VEVENT
BEGIN:VEVENT
DTSTART;TZID=Europe/Riga:20260604T184500
DTEND;TZID=Europe/Riga:20260604T210000
DTSTAMP:20260422T083609
CREATED:20260218T100925Z
LAST-MODIFIED:20260218T100925Z
UID:10001095-1780598700-1780606800@prataspeles.com
SUMMARY:Prāta Spēles vasaras sezona - 11.spēle
DESCRIPTION:Vai meklē kaut ko aizraujošu\, kas liks tavām smadzenēm strādāt pilnīgi citādā veidā? “Prāta Spēles” ir tava iespēja pacelties jaunos augstumos! Šeit zināšanas iegūst jaunu dzīvotspēju\, un katra pareiza atbilde tuvina tevi uzvarai.KĀDU PIEREDZI VARĒSI GAIDĪT:Jautājumi\, kas liks tev aplūkot pasauli no jaunas perspektīvasDraudzīga konkurence\, kas uzkarsēs asinis un uzlabos azartuSmiekli un negaidīti atklājumi katrā solīBalvas\, kas gaida savus čempionus\n Vieta: Blaumaņa iela 38/40\, 3. stāvs Laiks: 18:45 Komandas sastāvs: līdz 6 spēlētājiemPIESAKIES:  prataspeles@prataspeles.com vai www.prataspeles.com\nMūsu atbalstītāji: Pergalė | Delfi.lv | “Mezgls” | ACME Film Latvija | Vitabiotics Latvija “Neurozan” | GABI apavu veikali | Brain Games LV*Fotografēsim tavas uzvaras mirkļus un dalīsimies ar tiem publiski!DOMĀ DROSMĪGI – PIEŅEM IZAICINĀJUMU – IEGŪSTI NEAIZSTĀJAMU PIEREDZI!
URL:https://prataspeles.com/event/prata-speles-vasaras-sezona-11-spele-7/
LOCATION:“Prāta Spēles” zāle\, Blaumaņa iela 38/40\, Rīga\, Latvia
CATEGORIES:Prāta spēles
END:VEVENT
BEGIN:VEVENT
DTSTART;TZID=Europe/Riga:20260608T184500
DTEND;TZID=Europe/Riga:20260608T210000
DTSTAMP:20260422T083609
CREATED:20251202T084548Z
LAST-MODIFIED:20260225T100539Z
UID:10001006-1780944300-1780952400@prataspeles.com
SUMMARY:“Prāta Spēles” Pavasara sezona\, Cerība par Cerību kausu 1
DESCRIPTION:🎯 Vieta: Blaumaņa iela 38/40\, 3. stāvs⏰ Laiks: 18:45
URL:https://prataspeles.com/event/ceriba-par-ceribu-kausu-1/
LOCATION:“Prāta Spēles” zāle\, Blaumaņa iela 38/40\, Rīga\, Latvia
CATEGORIES:Prāta spēles
END:VEVENT
BEGIN:VEVENT
DTSTART;TZID=Europe/Riga:20260609T184500
DTEND;TZID=Europe/Riga:20260609T210000
DTSTAMP:20260422T083609
CREATED:20251202T084643Z
LAST-MODIFIED:20260225T100703Z
UID:10001007-1781030700-1781038800@prataspeles.com
SUMMARY:“Prāta Spēles” Pavasara sezona\, Cerība par Cerību kausu 2
DESCRIPTION:🎯 Vieta: Blaumaņa iela 38/40\, 3. stāvs⏰ Laiks: 18:45
URL:https://prataspeles.com/event/prata-speles-ziemas-pavasara-sezona-ceriba-par-ceribu-kausu-2/
LOCATION:“Prāta Spēles” zāle\, Blaumaņa iela 38/40\, Rīga\, Latvia
CATEGORIES:Prāta spēles
END:VEVENT
BEGIN:VEVENT
DTSTART;TZID=Europe/Riga:20260610T184500
DTEND;TZID=Europe/Riga:20260610T210000
DTSTAMP:20260422T083609
CREATED:20251202T085009Z
LAST-MODIFIED:20260225T100720Z
UID:10001008-1781117100-1781125200@prataspeles.com
SUMMARY:“Prāta Spēles” Pavasara sezona\, Cerība par Cerību kausu 3
DESCRIPTION:🎯 Vieta: Blaumaņa iela 38/40\, 3. stāvs⏰ Laiks: 18:45
URL:https://prataspeles.com/event/prata-speles-ziemas-pavasara-sezona-ceriba-par-ceribu-kausu-3/
LOCATION:“Prāta Spēles” zāle\, Blaumaņa iela 38/40\, Rīga\, Latvia
CATEGORIES:Prāta spēles
END:VEVENT
BEGIN:VEVENT
DTSTART;TZID=Europe/Riga:20260612T184500
DTEND;TZID=Europe/Riga:20260612T210000
DTSTAMP:20260422T083609
CREATED:20251202T085203Z
LAST-MODIFIED:20260225T101056Z
UID:10001009-1781289900-1781298000@prataspeles.com
SUMMARY:“Prāta Spēles” Pavasara sezona\, Cerību kauss 1
DESCRIPTION:🎯 Vieta: Blaumaņa iela 38/40\, 3. stāvs⏰ Laiks: 18:45
URL:https://prataspeles.com/event/prata-speles-pavasara-sezona2025-ceribu-kauss-1/
LOCATION:“Prāta Spēles” zāle\, Blaumaņa iela 38/40\, Rīga\, Latvia
CATEGORIES:Prāta spēles
END:VEVENT
BEGIN:VEVENT
DTSTART;TZID=Europe/Riga:20260615T184500
DTEND;TZID=Europe/Riga:20260615T210000
DTSTAMP:20260422T083609
CREATED:20251202T085242Z
LAST-MODIFIED:20260225T100930Z
UID:10001010-1781549100-1781557200@prataspeles.com
SUMMARY:“Prāta Spēles” Pavasara sezona\, Cerību kauss 2
DESCRIPTION:🎯 Vieta: Blaumaņa iela 38/40\, 3. stāvs⏰ Laiks: 18:45
URL:https://prataspeles.com/event/prata-speles-pavasara-sezona2026-ceribu-kauss-2/
LOCATION:“Prāta Spēles” zāle\, Blaumaņa iela 38/40\, Rīga\, Latvia
CATEGORIES:Prāta spēles
END:VEVENT
END:VCALENDAR