BEGIN:VCALENDAR
VERSION:2.0
PRODID:-//Prāta spēles - ECPv6.15.14//NONSGML v1.0//EN
CALSCALE:GREGORIAN
METHOD:PUBLISH
X-WR-CALNAME:Prāta spēles
X-ORIGINAL-URL:https://prataspeles.com
X-WR-CALDESC:Events for Prāta spēles
REFRESH-INTERVAL;VALUE=DURATION:PT1H
X-Robots-Tag:noindex
X-PUBLISHED-TTL:PT1H
BEGIN:VTIMEZONE
TZID:Europe/Riga
BEGIN:DAYLIGHT
TZOFFSETFROM:+0200
TZOFFSETTO:+0300
TZNAME:EEST
DTSTART:20250330T010000
END:DAYLIGHT
BEGIN:STANDARD
TZOFFSETFROM:+0300
TZOFFSETTO:+0200
TZNAME:EET
DTSTART:20251026T010000
END:STANDARD
BEGIN:DAYLIGHT
TZOFFSETFROM:+0200
TZOFFSETTO:+0300
TZNAME:EEST
DTSTART:20260329T010000
END:DAYLIGHT
BEGIN:STANDARD
TZOFFSETFROM:+0300
TZOFFSETTO:+0200
TZNAME:EET
DTSTART:20261025T010000
END:STANDARD
BEGIN:DAYLIGHT
TZOFFSETFROM:+0200
TZOFFSETTO:+0300
TZNAME:EEST
DTSTART:20270328T010000
END:DAYLIGHT
BEGIN:STANDARD
TZOFFSETFROM:+0300
TZOFFSETTO:+0200
TZNAME:EET
DTSTART:20271031T010000
END:STANDARD
END:VTIMEZONE
BEGIN:VEVENT
DTSTART;TZID=Europe/Riga:20260427T184500
DTEND;TZID=Europe/Riga:20260427T210000
DTSTAMP:20260422T123514
CREATED:20260218T095529Z
LAST-MODIFIED:20260218T095529Z
UID:10001074-1777315500-1777323600@prataspeles.com
SUMMARY:Prāta Spēles pavasara sezona - 9.spēle
DESCRIPTION:Vai meklē kaut ko aizraujošu\, kas liks tavām smadzenēm strādāt pilnīgi citādā veidā? “Prāta Spēles” ir tava iespēja pacelties jaunos augstumos! Šeit zināšanas iegūst jaunu dzīvotspēju\, un katra pareiza atbilde tuvina tevi uzvarai.KĀDU PIEREDZI VARĒSI GAIDĪT:Jautājumi\, kas liks tev aplūkot pasauli no jaunas perspektīvasDraudzīga konkurence\, kas uzkarsēs asinis un uzlabos azartuSmiekli un negaidīti atklājumi katrā solīBalvas\, kas gaida savus čempionus\n Vieta: Blaumaņa iela 38/40\, 3. stāvs Laiks: 18:45 Komandas sastāvs: līdz 6 spēlētājiemPIESAKIES:  prataspeles@prataspeles.com vai www.prataspeles.com\nMūsu atbalstītāji: Pergalė | Delfi.lv | “Mezgls” | ACME Film Latvija | Vitabiotics Latvija “Neurozan” | GABI apavu veikali | Brain Games LV*Fotografēsim tavas uzvaras mirkļus un dalīsimies ar tiem publiski!DOMĀ DROSMĪGI – PIEŅEM IZAICINĀJUMU – IEGŪSTI NEAIZSTĀJAMU PIEREDZI!
URL:https://prataspeles.com/event/prata-speles-pavasara-sezona-9-spele-2/
LOCATION:“Prāta Spēles” zāle\, Blaumaņa iela 38/40\, Rīga\, Latvia
CATEGORIES:Prāta spēles
END:VEVENT
BEGIN:VEVENT
DTSTART;TZID=Europe/Riga:20260428T184500
DTEND;TZID=Europe/Riga:20260428T210000
DTSTAMP:20260422T123514
CREATED:20260218T095603Z
LAST-MODIFIED:20260218T095603Z
UID:10001075-1777401900-1777410000@prataspeles.com
SUMMARY:Prāta Spēles pavasara sezona - 9.spēle
DESCRIPTION:Vai meklē kaut ko aizraujošu\, kas liks tavām smadzenēm strādāt pilnīgi citādā veidā? “Prāta Spēles” ir tava iespēja pacelties jaunos augstumos! Šeit zināšanas iegūst jaunu dzīvotspēju\, un katra pareiza atbilde tuvina tevi uzvarai.KĀDU PIEREDZI VARĒSI GAIDĪT:Jautājumi\, kas liks tev aplūkot pasauli no jaunas perspektīvasDraudzīga konkurence\, kas uzkarsēs asinis un uzlabos azartuSmiekli un negaidīti atklājumi katrā solīBalvas\, kas gaida savus čempionus\n Vieta: Blaumaņa iela 38/40\, 3. stāvs Laiks: 18:45 Komandas sastāvs: līdz 6 spēlētājiemPIESAKIES:  prataspeles@prataspeles.com vai www.prataspeles.com\nMūsu atbalstītāji: Pergalė | Delfi.lv | “Mezgls” | ACME Film Latvija | Vitabiotics Latvija “Neurozan” | GABI apavu veikali | Brain Games LV*Fotografēsim tavas uzvaras mirkļus un dalīsimies ar tiem publiski!DOMĀ DROSMĪGI – PIEŅEM IZAICINĀJUMU – IEGŪSTI NEAIZSTĀJAMU PIEREDZI!
URL:https://prataspeles.com/event/prata-speles-pavasara-sezona-9-spele-3/
LOCATION:“Prāta Spēles” zāle\, Blaumaņa iela 38/40\, Rīga\, Latvia
CATEGORIES:Prāta spēles
END:VEVENT
BEGIN:VEVENT
DTSTART;TZID=Europe/Riga:20260429T190000
DTEND;TZID=Europe/Riga:20260429T210000
DTSTAMP:20260422T123514
CREATED:20260323T103248Z
LAST-MODIFIED:20260323T103507Z
UID:10001112-1777489200-1777496400@prataspeles.com
SUMMARY:Muzikālās "Prāta Spēles"
DESCRIPTION:Brūzis Manufaktūra aicina Tevi uz Muzikālās “Prāta Spēles” vakaru\, kur mūzika\, jautrība un draudzīga sacensība garantēs neaizmirstamu pieredzi! \nMeklē vieglu\, jautru un muzikālu vakara izklaidi? Katru trešdienu Brūzī norisinās muzikālās Prāta spēles – lieliska iespēja pārbaudīt savas zināšanas\, dziedāt līdzi un vienkārši labi pavadīt laiku! Pasākums ir piemērots jebkuram vecumam – nāc viens vai kopā ar draugiem un izbaudi pozitīvu atmosfēru. \nĪpaši forši – nākamās spēles tēmu izvēlas paši dalībnieki\, tāpēc katra trešdiena ir citāda un pārsteigumiem pilna! \nKO SAGAIDĪT? \n🎶 Aizraujošus muzikālus jautājumus par populāriem izpildītājiem un hitiem no Latvijas un visas pasaules🎡 Laimes rata pārsteigumus ar iespēju iegūt papildpunktus🏆 Balvas zinošākajām\, veiksmīgākajām un atraktīvākajiem dalībniekiem🔥 Dzīvīgu atmosfēru\, kas liks dungot un dziedāt līdzi labi zināmām dziesmām \n⏰ Sākums plkst. 19:00Ierodies laicīgi\, lai nepalaistu garām spēles sākumu! \n🪑 Galdiņu skaits ierobežotsRezervē vietu\, rakstot & zvanot Brūzis Manufaktūra vai zvanot 28808178. \nNāc un piedzīvo trešdienas vakaru citādi – ar mūziku\, azartu un lielisku kompāniju! 🎤💃
URL:https://prataspeles.com/event/muzikalas-prata-speles-23/
LOCATION:“Brūzis Manufaktūra”\, Brīvības gatve 401C\, Rīga\, Latvia
CATEGORIES:Muzikālās ''Prāta spēles''
END:VEVENT
BEGIN:VEVENT
DTSTART;TZID=Europe/Riga:20260430T184500
DTEND;TZID=Europe/Riga:20260430T210000
DTSTAMP:20260422T123514
CREATED:20260218T095652Z
LAST-MODIFIED:20260218T095652Z
UID:10001076-1777574700-1777582800@prataspeles.com
SUMMARY:Prāta Spēles pavasara sezona - 9.spēle
DESCRIPTION:Vai meklē kaut ko aizraujošu\, kas liks tavām smadzenēm strādāt pilnīgi citādā veidā? “Prāta Spēles” ir tava iespēja pacelties jaunos augstumos! Šeit zināšanas iegūst jaunu dzīvotspēju\, un katra pareiza atbilde tuvina tevi uzvarai.KĀDU PIEREDZI VARĒSI GAIDĪT:Jautājumi\, kas liks tev aplūkot pasauli no jaunas perspektīvasDraudzīga konkurence\, kas uzkarsēs asinis un uzlabos azartuSmiekli un negaidīti atklājumi katrā solīBalvas\, kas gaida savus čempionus\n Vieta: Blaumaņa iela 38/40\, 3. stāvs Laiks: 18:45 Komandas sastāvs: līdz 6 spēlētājiemPIESAKIES:  prataspeles@prataspeles.com vai www.prataspeles.com\nMūsu atbalstītāji: Pergalė | Delfi.lv | “Mezgls” | ACME Film Latvija | Vitabiotics Latvija “Neurozan” | GABI apavu veikali | Brain Games LV*Fotografēsim tavas uzvaras mirkļus un dalīsimies ar tiem publiski!DOMĀ DROSMĪGI – PIEŅEM IZAICINĀJUMU – IEGŪSTI NEAIZSTĀJAMU PIEREDZI!
URL:https://prataspeles.com/event/prata-speles-pavasara-sezona-9-spele-4/
LOCATION:“Prāta Spēles” zāle\, Blaumaņa iela 38/40\, Rīga\, Latvia
CATEGORIES:Prāta spēles
END:VEVENT
BEGIN:VEVENT
DTSTART;TZID=Europe/Riga:20260502T120000
DTEND;TZID=Europe/Riga:20260502T140000
DTSTAMP:20260422T123514
CREATED:20260410T091310Z
LAST-MODIFIED:20260411T201018Z
UID:10001120-1777723200-1777730400@prataspeles.com
SUMMARY:"PRĀTA SPĒLES" ERUDĪCIJAS ČEMPIONĀTS 2026-  Kurmene
DESCRIPTION:2026.gada 2. maijā plkst. 12:00 Kurmenes Tautas namā\, “Pagastmāja”\, Kurmenē startēs   PRĀTA SPĒLES ERUDĪCIJAS ČEMPIONĀTS 2026”. \nTurnīrs norisināsies visa gada garumā dažādos Latvijas reģionos\, un tajā aicināts piedalīties ikviens\, veidojot komandu līdz sešiem dalībniekiem un reģistrējoties vietnē www.prataspeles.com . Dalība ir bez maksas\, tomēr vietu skaits gan ir ierobežots! \nSpēles piedāvā jautājumus ar dažādu sarežģītības pakāpi\, tāpēc piedalīties var jebkura vecuma dalībnieki – pat bērni. Tā ir lieliska iespēja pārbaudīt zināšanas\, gūt pozitīvas emocijas un uzzināt daudz jauna kopā ar ģimeni\, draugiem vai kolēģiem! \n 
URL:https://prataspeles.com/event/prata-speles-erudicijas-cempionats-2026-kurmene/
LOCATION:Kurmenes pagasts\, Bauskas novads\, LV-5115\, Kurmenes pagasts\, Bauskas novads\, LV-5115
CATEGORIES:Latvijas kauss
END:VEVENT
END:VCALENDAR