BEGIN:VCALENDAR
VERSION:2.0
PRODID:-//Prāta spēles - ECPv6.15.14//NONSGML v1.0//EN
CALSCALE:GREGORIAN
METHOD:PUBLISH
X-WR-CALNAME:Prāta spēles
X-ORIGINAL-URL:https://prataspeles.com
X-WR-CALDESC:Events for Prāta spēles
REFRESH-INTERVAL;VALUE=DURATION:PT1H
X-Robots-Tag:noindex
X-PUBLISHED-TTL:PT1H
BEGIN:VTIMEZONE
TZID:Europe/Riga
BEGIN:DAYLIGHT
TZOFFSETFROM:+0200
TZOFFSETTO:+0300
TZNAME:EEST
DTSTART:20240331T010000
END:DAYLIGHT
BEGIN:STANDARD
TZOFFSETFROM:+0300
TZOFFSETTO:+0200
TZNAME:EET
DTSTART:20241027T010000
END:STANDARD
BEGIN:DAYLIGHT
TZOFFSETFROM:+0200
TZOFFSETTO:+0300
TZNAME:EEST
DTSTART:20250330T010000
END:DAYLIGHT
BEGIN:STANDARD
TZOFFSETFROM:+0300
TZOFFSETTO:+0200
TZNAME:EET
DTSTART:20251026T010000
END:STANDARD
BEGIN:DAYLIGHT
TZOFFSETFROM:+0200
TZOFFSETTO:+0300
TZNAME:EEST
DTSTART:20260329T010000
END:DAYLIGHT
BEGIN:STANDARD
TZOFFSETFROM:+0300
TZOFFSETTO:+0200
TZNAME:EET
DTSTART:20261025T010000
END:STANDARD
END:VTIMEZONE
BEGIN:VEVENT
DTSTART;TZID=Europe/Riga:20250506T184500
DTEND;TZID=Europe/Riga:20250506T210000
DTSTAMP:20260421T233158
CREATED:20250326T105035Z
LAST-MODIFIED:20250402T151818Z
UID:10000789-1746557100-1746565200@prataspeles.com
SUMMARY:“Prāta Spēles” Pavasara sezona – 9. spēle
DESCRIPTION:MAINI SAVU DOMĀŠANU! 🚀\n“Prāta Spēles” – tas nav tikai vakars\, tas ir piedzīvojums! \nTevi gaida ne tikai jautājumi – tevi gaida emocijas\, atklājumi un prāta izaicinājumi\, kas paliek atmiņā. Katrs vakars ir jauns stāsts\, un katra atbilde var būt negaidīts pārsteigums! \nKĀPĒC IZVĒLĒTIES MŪS?\n🌟 Unikāli un asprātīgi jautājumi🌟 Silta\, draudzīga atmosfēra🌟 Vērtīgas un pārsteidzošas balvas🌟 Smiekli\, azarts un neaizmirstamas atmiņas \nKO TU IEGŪSI?\n🧠 Zināšanas\, ko izmantosi vēl ilgi🎉 Forši pavadītu vakaru👫 Jaunus draugus vai stiprāku komandu⚡ Veselīgu devu adrenalīna un azarta \nINFORMĀCIJA:\n📍 Adrese: Blaumaņa 38/40 (3. stāvs)🕠 Sākums: 18:45👥 Komandas lielums: 2–6 spēlētāji \n📩 PIETEIKŠANĀS: prataspeles@prataspeles.com \nMŪSU DRAUGI UN ATBALSTĪTĀJI:\n• Pergalė• Delfi• Mezgls• ACME• Neurozan• GABI• Brain Games \n📸 Vakari tiek iemūžināti – esi gatavs uzsmaidīt kamerai! \nIZVĒLIES PRĀTA SPĒLI – IZVĒLIES VAKARU\, KAS IEDVESMO!#PrātaSpēles #Viktorīna #Erudīcija #Izklaide #prataspeles
URL:https://prataspeles.com/event/prata-speles-pavasara-sezona-9-spele/2025-05-06/
LOCATION:“Prāta Spēles” zāle\, Blaumaņa iela 38/40\, Rīga\, Latvia
CATEGORIES:Prāta spēles
END:VEVENT
BEGIN:VEVENT
DTSTART;TZID=Europe/Riga:20250506T184500
DTEND;TZID=Europe/Riga:20250506T210000
DTSTAMP:20260421T233158
CREATED:20250410T100355Z
LAST-MODIFIED:20250410T100355Z
UID:10000818-1746557100-1746565200@prataspeles.com
SUMMARY:IQ+ Pavasara sezona – 9. spēle
DESCRIPTION:🧠 IZAICINI SAVU PRĀTU AR IQ+: ELITĀRA INTELEKTUĀLĀ VIKTORĪNA AR IVO KRUMHOLCU! 🏆 \nVai esat gatavi pārbaudīt savas zināšanas intensīvā prāta maratonā? Meklējam erudītus spēlētājus\, kas alkst intelektuālu izaicinājumu! \nKo jūs sagaida: \n\nDinamiska un intensīva viktorīna ar rūpīgi atlasītiem jautājumiem no dažādām zinātņu\, kultūras un mākslas jomām\nIzcila atmosfēra kopā ar līdzīgi domājošiem intelektuāļiem\nHarizmātiskā Ivo Krumholca vadība\, kas garantē ne tikai zināšanu pārbaudi\, bet arī asprātīgu un iedvesmojošu vakaru\nIespēja paplašināt savu erudīciju un iegūt arī balvas\n\nŠī nav parasta viktorīna – tā ir intelektuāla pieredze\, kas liks jums domāt ārpus ierastajiem rāmjiem un pārbaudīt savas zināšanas visaugstākajā līmenī. \n📍 Norises vieta: Kultūras nams “Atmoda”\, Stabu iela 10\, Rīga Vietu skaits ierobežots! \nPiesakieties jau šodien: 📱 Tālr.: 28602016 📧 E-pasts: iqpozitivs@gmail.com \nPievienojieties mums šajā aizraujošajā zināšanu ceļojumā! Jūsu prāts to ir pelnījis! 🎯 \n#IQ+ #Erudīcija #viktorīna
URL:https://prataspeles.com/event/iq-pavasara-sezona-9-spele/2025-05-06/
LOCATION:Kultūras nams “Atmoda”\, Stabu iela 10\, Rīga\, Latvia
CATEGORIES:IQ+
ATTACH;FMTTYPE=image/jpeg:https://prataspeles.com/wp-content/uploads/2025/04/iq9.jpg
END:VEVENT
BEGIN:VEVENT
DTSTART;TZID=Europe/Riga:20250507T184500
DTEND;TZID=Europe/Riga:20250507T210000
DTSTAMP:20260421T233158
CREATED:20250326T105035Z
LAST-MODIFIED:20250402T151818Z
UID:10000790-1746643500-1746651600@prataspeles.com
SUMMARY:“Prāta Spēles” Pavasara sezona – 9. spēle
DESCRIPTION:MAINI SAVU DOMĀŠANU! 🚀\n“Prāta Spēles” – tas nav tikai vakars\, tas ir piedzīvojums! \nTevi gaida ne tikai jautājumi – tevi gaida emocijas\, atklājumi un prāta izaicinājumi\, kas paliek atmiņā. Katrs vakars ir jauns stāsts\, un katra atbilde var būt negaidīts pārsteigums! \nKĀPĒC IZVĒLĒTIES MŪS?\n🌟 Unikāli un asprātīgi jautājumi🌟 Silta\, draudzīga atmosfēra🌟 Vērtīgas un pārsteidzošas balvas🌟 Smiekli\, azarts un neaizmirstamas atmiņas \nKO TU IEGŪSI?\n🧠 Zināšanas\, ko izmantosi vēl ilgi🎉 Forši pavadītu vakaru👫 Jaunus draugus vai stiprāku komandu⚡ Veselīgu devu adrenalīna un azarta \nINFORMĀCIJA:\n📍 Adrese: Blaumaņa 38/40 (3. stāvs)🕠 Sākums: 18:45👥 Komandas lielums: 2–6 spēlētāji \n📩 PIETEIKŠANĀS: prataspeles@prataspeles.com \nMŪSU DRAUGI UN ATBALSTĪTĀJI:\n• Pergalė• Delfi• Mezgls• ACME• Neurozan• GABI• Brain Games \n📸 Vakari tiek iemūžināti – esi gatavs uzsmaidīt kamerai! \nIZVĒLIES PRĀTA SPĒLI – IZVĒLIES VAKARU\, KAS IEDVESMO!#PrātaSpēles #Viktorīna #Erudīcija #Izklaide #prataspeles
URL:https://prataspeles.com/event/prata-speles-pavasara-sezona-9-spele/2025-05-07/
LOCATION:“Prāta Spēles” zāle\, Blaumaņa iela 38/40\, Rīga\, Latvia
CATEGORIES:Prāta spēles
END:VEVENT
BEGIN:VEVENT
DTSTART;TZID=Europe/Riga:20250507T190000
DTEND;TZID=Europe/Riga:20250507T210000
DTSTAMP:20260421T233158
CREATED:20250509T094821Z
LAST-MODIFIED:20250509T094821Z
UID:10000831-1746644400-1746651600@prataspeles.com
SUMMARY:Muzikālās "Prāta Spēles" rezultāti
DESCRIPTION:Muzikālās “Prāta Spēles” 07.05.2025. rezultāti: \n  \n\n\n\nVieta\nDalībnieks\nRezultāts\n\n\n1\nMorena\n1103\n\n\n2\nŠņageris\n1064\n\n\n3\nRubenes taksists īstais\n990\n\n\n4\nKartupelis(Samanta)\n951\n\n\n5\nCukurzirnītis\n894\n\n\n6\nMarina\n873\n\n\n7\nMEGA Biezenis\n861\n\n\n8\nKlintbizkit\n856\n\n\n9\nGlūmis\n824\n\n\n10\nNicis\n823\n\n\n11\nCHARMING\n819\n\n\n12\nBaloži\n808\n\n\n13\nKarlis\n804\n\n\n14\nAnsis\n770\n\n\n15\nZemenite\n744\n\n\n16\nBitanlifts\n744\n\n\n17\nLauriX\n737\n\n\n18\nLapsa\n717\n\n\n19\nAgense\n709\n\n\n20\nDidii\n690\n\n\n21\nRrR\n666\n\n\n22\nSūzana\n643\n\n\n23\nArigo Toro\n578\n\n\n24\nKIKĪ\n547\n\n\n25\nS\n525\n\n\n26\nLinda\n506\n\n\n27\nDP\n471\n\n\n28\nTatjana P\n467\n\n\n29\nAleksandrs\n421\n\n\n30\nRock bottom\n395\n\n\n31\nMārīte\n325\n\n\n32\nNatali\n286\n\n\n33\nSecret\n232\n\n\n34\nRubenes taksists\n155
URL:https://prataspeles.com/event/muzikalas-prata-speles-rezultati-7/
LOCATION:“Brūzis Manufaktūra”\, Brīvības gatve 401C\, Rīga\, Latvia
CATEGORIES:Muzikālās ''Prāta spēles''
END:VEVENT
BEGIN:VEVENT
DTSTART;TZID=Europe/Riga:20250508T184500
DTEND;TZID=Europe/Riga:20250508T210000
DTSTAMP:20260421T233158
CREATED:20250326T105035Z
LAST-MODIFIED:20250402T151818Z
UID:10000791-1746729900-1746738000@prataspeles.com
SUMMARY:“Prāta Spēles” Pavasara sezona – 9. spēle
DESCRIPTION:MAINI SAVU DOMĀŠANU! 🚀\n“Prāta Spēles” – tas nav tikai vakars\, tas ir piedzīvojums! \nTevi gaida ne tikai jautājumi – tevi gaida emocijas\, atklājumi un prāta izaicinājumi\, kas paliek atmiņā. Katrs vakars ir jauns stāsts\, un katra atbilde var būt negaidīts pārsteigums! \nKĀPĒC IZVĒLĒTIES MŪS?\n🌟 Unikāli un asprātīgi jautājumi🌟 Silta\, draudzīga atmosfēra🌟 Vērtīgas un pārsteidzošas balvas🌟 Smiekli\, azarts un neaizmirstamas atmiņas \nKO TU IEGŪSI?\n🧠 Zināšanas\, ko izmantosi vēl ilgi🎉 Forši pavadītu vakaru👫 Jaunus draugus vai stiprāku komandu⚡ Veselīgu devu adrenalīna un azarta \nINFORMĀCIJA:\n📍 Adrese: Blaumaņa 38/40 (3. stāvs)🕠 Sākums: 18:45👥 Komandas lielums: 2–6 spēlētāji \n📩 PIETEIKŠANĀS: prataspeles@prataspeles.com \nMŪSU DRAUGI UN ATBALSTĪTĀJI:\n• Pergalė• Delfi• Mezgls• ACME• Neurozan• GABI• Brain Games \n📸 Vakari tiek iemūžināti – esi gatavs uzsmaidīt kamerai! \nIZVĒLIES PRĀTA SPĒLI – IZVĒLIES VAKARU\, KAS IEDVESMO!#PrātaSpēles #Viktorīna #Erudīcija #Izklaide #prataspeles
URL:https://prataspeles.com/event/prata-speles-pavasara-sezona-9-spele/2025-05-08/
LOCATION:“Prāta Spēles” zāle\, Blaumaņa iela 38/40\, Rīga\, Latvia
CATEGORIES:Prāta spēles
END:VEVENT
BEGIN:VEVENT
DTSTART;TZID=Europe/Riga:20250509T180000
DTEND;TZID=Europe/Riga:20250509T200000
DTSTAMP:20260421T233158
CREATED:20250414T044313Z
LAST-MODIFIED:20250422T053316Z
UID:10000826-1746813600-1746820800@prataspeles.com
SUMMARY:“LATVIJAS KAUSS 2025” – TURNA
DESCRIPTION:9. maijā plkst. 18:00 Turnas Tautas namā noritēs „Prāta Spēles” Vislatvijas erudīcijas čempionāta „Latvijas kauss 2025” spēles posms. Turnīrs norisināsies visa gada garumā dažādos Latvijas reģionos\, un tajā aicināts piedalīties ikviens\, veidojot komandu līdz sešiem dalībniekiem un reģistrējoties vietnē www.prataspeles.com vai rakstot uz info@prataspeles.lv. Dalība ir bez maksas\, tomēr vietu skaits gan ir ierobežots\, tādēļ aicinām neatlikt pieteikšanos! \nSpēles piedāvā jautājumus ar dažādu sarežģītības pakāpi\, tāpēc piedalīties var jebkura vecuma dalībnieki – pat bērni. Tā ir lieliska iespēja pārbaudīt zināšanas\, gūt pozitīvas emocijas un uzzināt daudz jauna kopā ar ģimeni\, draugiem vai kolēģiem! Maksimālais komandas dalībnieku skaits – 6 personas.
URL:https://prataspeles.com/event/latvijas-kauss-2025-turna/
LOCATION:Turnas Tautas nams\, "Valžkalni"\, Turna\, Valkas novads\, LV-4711
CATEGORIES:Latvijas kauss
ATTACH;FMTTYPE=image/jpeg:https://prataspeles.com/wp-content/uploads/2025/04/Afisa-2.jpg
END:VEVENT
BEGIN:VEVENT
DTSTART;TZID=Europe/Riga:20250509T184500
DTEND;TZID=Europe/Riga:20250509T210000
DTSTAMP:20260421T233158
CREATED:20250326T105035Z
LAST-MODIFIED:20250402T151818Z
UID:10000792-1746816300-1746824400@prataspeles.com
SUMMARY:“Prāta Spēles” Pavasara sezona – 9. spēle
DESCRIPTION:MAINI SAVU DOMĀŠANU! 🚀\n“Prāta Spēles” – tas nav tikai vakars\, tas ir piedzīvojums! \nTevi gaida ne tikai jautājumi – tevi gaida emocijas\, atklājumi un prāta izaicinājumi\, kas paliek atmiņā. Katrs vakars ir jauns stāsts\, un katra atbilde var būt negaidīts pārsteigums! \nKĀPĒC IZVĒLĒTIES MŪS?\n🌟 Unikāli un asprātīgi jautājumi🌟 Silta\, draudzīga atmosfēra🌟 Vērtīgas un pārsteidzošas balvas🌟 Smiekli\, azarts un neaizmirstamas atmiņas \nKO TU IEGŪSI?\n🧠 Zināšanas\, ko izmantosi vēl ilgi🎉 Forši pavadītu vakaru👫 Jaunus draugus vai stiprāku komandu⚡ Veselīgu devu adrenalīna un azarta \nINFORMĀCIJA:\n📍 Adrese: Blaumaņa 38/40 (3. stāvs)🕠 Sākums: 18:45👥 Komandas lielums: 2–6 spēlētāji \n📩 PIETEIKŠANĀS: prataspeles@prataspeles.com \nMŪSU DRAUGI UN ATBALSTĪTĀJI:\n• Pergalė• Delfi• Mezgls• ACME• Neurozan• GABI• Brain Games \n📸 Vakari tiek iemūžināti – esi gatavs uzsmaidīt kamerai! \nIZVĒLIES PRĀTA SPĒLI – IZVĒLIES VAKARU\, KAS IEDVESMO!#PrātaSpēles #Viktorīna #Erudīcija #Izklaide #prataspeles
URL:https://prataspeles.com/event/prata-speles-pavasara-sezona-9-spele/2025-05-09/
LOCATION:“Prāta Spēles” zāle\, Blaumaņa iela 38/40\, Rīga\, Latvia
CATEGORIES:Prāta spēles
END:VEVENT
END:VCALENDAR