BEGIN:VCALENDAR
VERSION:2.0
PRODID:-//Prāta spēles - ECPv6.15.14//NONSGML v1.0//EN
CALSCALE:GREGORIAN
METHOD:PUBLISH
X-WR-CALNAME:Prāta spēles
X-ORIGINAL-URL:https://prataspeles.com
X-WR-CALDESC:Events for Prāta spēles
REFRESH-INTERVAL;VALUE=DURATION:PT1H
X-Robots-Tag:noindex
X-PUBLISHED-TTL:PT1H
BEGIN:VTIMEZONE
TZID:Europe/Riga
BEGIN:DAYLIGHT
TZOFFSETFROM:+0200
TZOFFSETTO:+0300
TZNAME:EEST
DTSTART:20240331T010000
END:DAYLIGHT
BEGIN:STANDARD
TZOFFSETFROM:+0300
TZOFFSETTO:+0200
TZNAME:EET
DTSTART:20241027T010000
END:STANDARD
BEGIN:DAYLIGHT
TZOFFSETFROM:+0200
TZOFFSETTO:+0300
TZNAME:EEST
DTSTART:20250330T010000
END:DAYLIGHT
BEGIN:STANDARD
TZOFFSETFROM:+0300
TZOFFSETTO:+0200
TZNAME:EET
DTSTART:20251026T010000
END:STANDARD
BEGIN:DAYLIGHT
TZOFFSETFROM:+0200
TZOFFSETTO:+0300
TZNAME:EEST
DTSTART:20260329T010000
END:DAYLIGHT
BEGIN:STANDARD
TZOFFSETFROM:+0300
TZOFFSETTO:+0200
TZNAME:EET
DTSTART:20261025T010000
END:STANDARD
END:VTIMEZONE
BEGIN:VEVENT
DTSTART;TZID=Europe/Riga:20250428T184500
DTEND;TZID=Europe/Riga:20250428T210000
DTSTAMP:20260421T221447
CREATED:20250326T105035Z
LAST-MODIFIED:20250402T151818Z
UID:10000787-1745865900-1745874000@prataspeles.com
SUMMARY:“Prāta Spēles” Pavasara sezona – 9. spēle
DESCRIPTION:MAINI SAVU DOMĀŠANU! 🚀\n“Prāta Spēles” – tas nav tikai vakars\, tas ir piedzīvojums! \nTevi gaida ne tikai jautājumi – tevi gaida emocijas\, atklājumi un prāta izaicinājumi\, kas paliek atmiņā. Katrs vakars ir jauns stāsts\, un katra atbilde var būt negaidīts pārsteigums! \nKĀPĒC IZVĒLĒTIES MŪS?\n🌟 Unikāli un asprātīgi jautājumi🌟 Silta\, draudzīga atmosfēra🌟 Vērtīgas un pārsteidzošas balvas🌟 Smiekli\, azarts un neaizmirstamas atmiņas \nKO TU IEGŪSI?\n🧠 Zināšanas\, ko izmantosi vēl ilgi🎉 Forši pavadītu vakaru👫 Jaunus draugus vai stiprāku komandu⚡ Veselīgu devu adrenalīna un azarta \nINFORMĀCIJA:\n📍 Adrese: Blaumaņa 38/40 (3. stāvs)🕠 Sākums: 18:45👥 Komandas lielums: 2–6 spēlētāji \n📩 PIETEIKŠANĀS: prataspeles@prataspeles.com \nMŪSU DRAUGI UN ATBALSTĪTĀJI:\n• Pergalė• Delfi• Mezgls• ACME• Neurozan• GABI• Brain Games \n📸 Vakari tiek iemūžināti – esi gatavs uzsmaidīt kamerai! \nIZVĒLIES PRĀTA SPĒLI – IZVĒLIES VAKARU\, KAS IEDVESMO!#PrātaSpēles #Viktorīna #Erudīcija #Izklaide #prataspeles
URL:https://prataspeles.com/event/prata-speles-pavasara-sezona-9-spele/2025-04-28/
LOCATION:“Prāta Spēles” zāle\, Blaumaņa iela 38/40\, Rīga\, Latvia
CATEGORIES:Prāta spēles
END:VEVENT
BEGIN:VEVENT
DTSTART;TZID=Europe/Riga:20250428T184500
DTEND;TZID=Europe/Riga:20250428T210000
DTSTAMP:20260421T221447
CREATED:20250326T132521Z
LAST-MODIFIED:20250326T132521Z
UID:10000796-1745865900-1745874000@prataspeles.com
SUMMARY:IQ+ Pavasara sezona – 8. spēle
DESCRIPTION:🧠 IZAICINI SAVU PRĀTU AR IQ+: ELITĀRA INTELEKTUĀLĀ VIKTORĪNA AR IVO KRUMHOLCU! 🏆 \nVai esat gatavi pārbaudīt savas zināšanas intensīvā prāta maratonā? Meklējam erudītus spēlētājus\, kas alkst intelektuālu izaicinājumu! \nKo jūs sagaida: \n\nDinamiska un intensīva viktorīna ar rūpīgi atlasītiem jautājumiem no dažādām zinātņu\, kultūras un mākslas jomām\nIzcila atmosfēra kopā ar līdzīgi domājošiem intelektuāļiem\nHarizmātiskā Ivo Krumholca vadība\, kas garantē ne tikai zināšanu pārbaudi\, bet arī asprātīgu un iedvesmojošu vakaru\nIespēja paplašināt savu erudīciju un iegūt arī balvas\n\nŠī nav parasta viktorīna – tā ir intelektuāla pieredze\, kas liks jums domāt ārpus ierastajiem rāmjiem un pārbaudīt savas zināšanas visaugstākajā līmenī. \n📍 Norises vieta: Kultūras nams “Atmoda”\, Stabu iela 10\, Rīga Vietu skaits ierobežots! \nPiesakieties jau šodien: 📱 Tālr.: 28602016 📧 E-pasts: iqpozitivs@gmail.com \nPievienojieties mums šajā aizraujošajā zināšanu ceļojumā! Jūsu prāts to ir pelnījis! 🎯 \n#IQ+ #Erudīcija #viktorīna
URL:https://prataspeles.com/event/iq-pavasara-sezona-8-spele/2025-04-28/
LOCATION:Kultūras nams “Atmoda”\, Stabu iela 10\, Rīga\, Latvia
CATEGORIES:IQ+
ATTACH;FMTTYPE=image/jpeg:https://prataspeles.com/wp-content/uploads/2025/03/iq8.jpg
END:VEVENT
BEGIN:VEVENT
DTSTART;TZID=Europe/Riga:20250429T184500
DTEND;TZID=Europe/Riga:20250429T210000
DTSTAMP:20260421T221447
CREATED:20250326T105035Z
LAST-MODIFIED:20250402T151818Z
UID:10000788-1745952300-1745960400@prataspeles.com
SUMMARY:“Prāta Spēles” Pavasara sezona – 9. spēle
DESCRIPTION:MAINI SAVU DOMĀŠANU! 🚀\n“Prāta Spēles” – tas nav tikai vakars\, tas ir piedzīvojums! \nTevi gaida ne tikai jautājumi – tevi gaida emocijas\, atklājumi un prāta izaicinājumi\, kas paliek atmiņā. Katrs vakars ir jauns stāsts\, un katra atbilde var būt negaidīts pārsteigums! \nKĀPĒC IZVĒLĒTIES MŪS?\n🌟 Unikāli un asprātīgi jautājumi🌟 Silta\, draudzīga atmosfēra🌟 Vērtīgas un pārsteidzošas balvas🌟 Smiekli\, azarts un neaizmirstamas atmiņas \nKO TU IEGŪSI?\n🧠 Zināšanas\, ko izmantosi vēl ilgi🎉 Forši pavadītu vakaru👫 Jaunus draugus vai stiprāku komandu⚡ Veselīgu devu adrenalīna un azarta \nINFORMĀCIJA:\n📍 Adrese: Blaumaņa 38/40 (3. stāvs)🕠 Sākums: 18:45👥 Komandas lielums: 2–6 spēlētāji \n📩 PIETEIKŠANĀS: prataspeles@prataspeles.com \nMŪSU DRAUGI UN ATBALSTĪTĀJI:\n• Pergalė• Delfi• Mezgls• ACME• Neurozan• GABI• Brain Games \n📸 Vakari tiek iemūžināti – esi gatavs uzsmaidīt kamerai! \nIZVĒLIES PRĀTA SPĒLI – IZVĒLIES VAKARU\, KAS IEDVESMO!#PrātaSpēles #Viktorīna #Erudīcija #Izklaide #prataspeles
URL:https://prataspeles.com/event/prata-speles-pavasara-sezona-9-spele/2025-04-29/
LOCATION:“Prāta Spēles” zāle\, Blaumaņa iela 38/40\, Rīga\, Latvia
CATEGORIES:Prāta spēles
END:VEVENT
BEGIN:VEVENT
DTSTART;TZID=Europe/Riga:20250430T184500
DTEND;TZID=Europe/Riga:20250430T210000
DTSTAMP:20260421T221447
CREATED:20250326T105035Z
LAST-MODIFIED:20250402T151818Z
UID:10000799-1746038700-1746046800@prataspeles.com
SUMMARY:“Prāta Spēles” Pavasara sezona – 9. spēle
DESCRIPTION:MAINI SAVU DOMĀŠANU! 🚀\n“Prāta Spēles” – tas nav tikai vakars\, tas ir piedzīvojums! \nTevi gaida ne tikai jautājumi – tevi gaida emocijas\, atklājumi un prāta izaicinājumi\, kas paliek atmiņā. Katrs vakars ir jauns stāsts\, un katra atbilde var būt negaidīts pārsteigums! \nKĀPĒC IZVĒLĒTIES MŪS?\n🌟 Unikāli un asprātīgi jautājumi🌟 Silta\, draudzīga atmosfēra🌟 Vērtīgas un pārsteidzošas balvas🌟 Smiekli\, azarts un neaizmirstamas atmiņas \nKO TU IEGŪSI?\n🧠 Zināšanas\, ko izmantosi vēl ilgi🎉 Forši pavadītu vakaru👫 Jaunus draugus vai stiprāku komandu⚡ Veselīgu devu adrenalīna un azarta \nINFORMĀCIJA:\n📍 Adrese: Blaumaņa 38/40 (3. stāvs)🕠 Sākums: 18:45👥 Komandas lielums: 2–6 spēlētāji \n📩 PIETEIKŠANĀS: prataspeles@prataspeles.com \nMŪSU DRAUGI UN ATBALSTĪTĀJI:\n• Pergalė• Delfi• Mezgls• ACME• Neurozan• GABI• Brain Games \n📸 Vakari tiek iemūžināti – esi gatavs uzsmaidīt kamerai! \nIZVĒLIES PRĀTA SPĒLI – IZVĒLIES VAKARU\, KAS IEDVESMO!#PrātaSpēles #Viktorīna #Erudīcija #Izklaide #prataspeles
URL:https://prataspeles.com/event/prata-speles-pavasara-sezona-9-spele/2025-04-30/
LOCATION:“Prāta Spēles” zāle\, Blaumaņa iela 38/40\, Rīga\, Latvia
CATEGORIES:Prāta spēles
END:VEVENT
BEGIN:VEVENT
DTSTART;TZID=Europe/Riga:20250430T190000
DTEND;TZID=Europe/Riga:20250430T210000
DTSTAMP:20260421T221447
CREATED:20250506T053222Z
LAST-MODIFIED:20250506T053222Z
UID:10000830-1746039600-1746046800@prataspeles.com
SUMMARY:Muzikālās "Prāta Spēles" rezultāti
DESCRIPTION:30.04.2025. rezultāti \n\n\n\nVieta\nDalībnieks\nRezultāts\n\n\n1\nBaloži\n908\n\n\n2\nMarina\n880\n\n\n3\nKorekcija\n852\n\n\n4\nCrisp Lager\n771\n\n\n5\nArigo Toro\n750\n\n\n6\nOne (s)hit wonder\n738\n\n\n7\nGvido\n736\n\n\n8\nDāvis\n735\n\n\n9\nMorena\n733\n\n\n10\nRīgas satiksme\n726\n\n\n11\nNicis\n723\n\n\n12\nDartx\n716\n\n\n13\nEvanģēlistes\n692\n\n\n14\nŠņageris\n691\n\n\n15\nRaunas iela\n651\n\n\n16\nCHARMING\n637\n\n\n17\nBitanlifts\n636\n\n\n18\nZemenite\n634\n\n\n19\nAnsis\n631\n\n\n20\nViviiiiiiiiiiiiiiiiiiiiiiiiiiiii\n591\n\n\n21\nDanucis\n582\n\n\n22\nLauriXxXx\n560\n\n\n23\nAnnija Daniela\n407\n\n\n24\nJenotens\n313\n\n\n25\nAleksandrs\n296
URL:https://prataspeles.com/event/muzikalas-prata-speles-rezultati-6/
LOCATION:“Brūzis Manufaktūra”\, Brīvības gatve 401C\, Rīga\, Latvia
CATEGORIES:Muzikālās ''Prāta spēles''
END:VEVENT
BEGIN:VEVENT
DTSTART;TZID=Europe/Riga:20250502T180000
DTEND;TZID=Europe/Riga:20250502T200000
DTSTAMP:20260421T221447
CREATED:20250402T091918Z
LAST-MODIFIED:20250508T053952Z
UID:10000798-1746208800-1746216000@prataspeles.com
SUMMARY:“LATVIJAS KAUSS 2025” – KURMENE
DESCRIPTION:2. maijā plkst. 18:00 Kurmenes Tautas namā noritēs „Prāta Spēles” Vislatvijas erudīcijas čempionāta „Latvijas kauss 2025” spēles posms. Turnīrs norisināsies visa gada garumā dažādos Latvijas reģionos\, un tajā aicināts piedalīties ikviens\, veidojot komandu līdz sešiem dalībniekiem un reģistrējoties vietnē www.prataspeles.com vai rakstot uz info@prataspeles.lv. Dalība ir bez maksas\, tomēr vietu skaits gan ir ierobežots\, tādēļ aicinām neatlikt pieteikšanos! \nSpēles piedāvā jautājumus ar dažādu sarežģītības pakāpi\, tāpēc piedalīties var jebkura vecuma dalībnieki – pat bērni. Tā ir lieliska iespēja pārbaudīt zināšanas\, gūt pozitīvas emocijas un uzzināt daudz jauna kopā ar ģimeni\, draugiem vai kolēģiem! Maksimālais komandas dalībnieku skaits – 6 personas. \n\n\n\n\n\n\n\n\n\n\n\n\n\n\n\n\n\nKomanda\n1\n2\n3\n4\n5\n6\n7\n8\n9\n10\nKopā\nVieta\n\n\n “Daugavas Lauvas” \n40\n25\n20\n10\n10\n50\n50\n15\n30\n30\n280\n1\n\n\nPutni bez \n30\n20\n10\n30\n-10\n40\n50\n25\n40\n20\n255\n2\n\n\nStopiņš- ne tikai dejojam\n40\n25\n30\n10\n10\n40\n30\n5\n30\n20\n240\n3\n\n\nNē\, nu jā!\n30\n30\n10\n30\n-10\n20\n30\n30\n35\n30\n235\n4\n\n\n STŪRĪŠI\n30\n10\n40\n50\n-10\n30\n-10\n0\n40\n30\n210\n5\n\n\n Ar franču vieglumu\n40\n25\n0\n10\n10\n30\n30\n0\n35\n30\n210\n6\n\n\n“Ir varianti”\n40\n20\n10\n-10\n-30\n30\n50\n30\n30\n30\n200\n7\n\n\nTO TU LABI IZDOMĀJI\n20\n50\n10\n30\n-30\n10\n10\n45\n45\n0\n190\n8\n\n\nEŽA PUSKAŽOCIŅŠ\n50\n20\n10\n10\n-10\n30\n10\n5\n35\n20\n180\n9\n\n\n Visneiedomājamākā komanda\n50\n25\n10\n-10\n-50\n30\n10\n35\n35\n20\n155\n10\n\n\nSpēlētprieks\n20\n20\n10\n50\n-10\n10\n-10\n0\n30\n10\n130\n11\n\n\n Ģimenes grupa\n40\n25\n0\n-30\n-30\n10\n-10\n15\n40\n40\n100\n12\n\n\n Viltīgie Ziķeri\n10\n20\n20\n-30\n-30\n20\n10\n10\n30\n20\n80\n13\n\n\nPalmas\n10\n5\n10\n-10\n-30\n20\n-30\n30\n30\n20\n55\n14\n\n\nTie paši MĒS\n0\n0\n10\n-30\n-50\n20\n30\n5\n25\n30\n40\n15\n\n\n\n\n02.05.2025. “Prāta Spēles” “Latvijas kauss 2025” spēle Kurmenē\n02.05.2025. “Prāta Spēles” “Latvijas kauss 2025” spēle Kurmenē\n02.05.2025. “Prāta Spēles” “Latvijas kauss 2025” spēle Kurmenē\n02.05.2025. “Prāta Spēles” “Latvijas kauss 2025” spēle Kurmenē\n02.05.2025. “Prāta Spēles” “Latvijas kauss 2025” spēle Kurmenē\n02.05.2025. “Prāta Spēles” “Latvijas kauss 2025” spēle Kurmenē\n02.05.2025. “Prāta Spēles” “Latvijas kauss 2025” spēle Kurmenē\n02.05.2025. “Prāta Spēles” “Latvijas kauss 2025” spēle Kurmenē\n02.05.2025. “Prāta Spēles” “Latvijas kauss 2025” spēle Kurmenē\n02.05.2025. “Prāta Spēles” “Latvijas kauss 2025” spēle Kurmenē\n02.05.2025. “Prāta Spēles” “Latvijas kauss 2025” spēle Kurmenē\n02.05.2025. “Prāta Spēles” “Latvijas kauss 2025” spēle Kurmenē\n02.05.2025. “Prāta Spēles” “Latvijas kauss 2025” spēle Kurmenē\n02.05.2025. “Prāta Spēles” “Latvijas kauss 2025” spēle Kurmenē\n02.05.2025. “Prāta Spēles” “Latvijas kauss 2025” spēle Kurmenē\n02.05.2025. “Prāta Spēles” “Latvijas kauss 2025” spēle Kurmenē\n02.05.2025. “Prāta Spēles” “Latvijas kauss 2025” spēle Kurmenē\n02.05.2025. “Prāta Spēles” “Latvijas kauss 2025” spēle Kurmenē\n02.05.2025. “Prāta Spēles” “Latvijas kauss 2025” spēle Kurmenē\n02.05.2025. “Prāta Spēles” “Latvijas kauss 2025” spēle Kurmenē\n02.05.2025. “Prāta Spēles” “Latvijas kauss 2025” spēle Kurmenē\n02.05.2025. “Prāta Spēles” “Latvijas kauss 2025” spēle Kurmenē\n02.05.2025. “Prāta Spēles” “Latvijas kauss 2025” spēle Kurmenē\n02.05.2025. “Prāta Spēles” “Latvijas kauss 2025” spēle Kurmenē\n02.05.2025. “Prāta Spēles” “Latvijas kauss 2025” spēle Kurmenē\n02.05.2025. “Prāta Spēles” “Latvijas kauss 2025” spēle Kurmenē\n02.05.2025. “Prāta Spēles” “Latvijas kauss 2025” spēle Kurmenē
URL:https://prataspeles.com/event/latvijas-kauss-2025-kurmene/
LOCATION:Kurmenes Tautas nams\, "Pagastmāja"\, Kurmene\, LV-5155\, Latvia
CATEGORIES:Latvijas kauss
ATTACH;FMTTYPE=image/jpeg:https://prataspeles.com/wp-content/uploads/2025/04/Afisa.jpg
END:VEVENT
BEGIN:VEVENT
DTSTART;TZID=Europe/Riga:20250503T120000
DTEND;TZID=Europe/Riga:20250503T140000
DTSTAMP:20260421T221447
CREATED:20250403T052741Z
LAST-MODIFIED:20250508T051113Z
UID:10000800-1746273600-1746280800@prataspeles.com
SUMMARY:“LATVIJAS KAUSS 2025” – DOBELE
DESCRIPTION:3. maijā plkst. 12:00 Dobeles pilsētas kultūras namā noritēs „Prāta Spēles” Vislatvijas erudīcijas čempionāta „Latvijas kauss 2025” spēles posms. Turnīrs norisināsies visa gada garumā dažādos Latvijas reģionos\, un tajā aicināts piedalīties ikviens\, veidojot komandu līdz sešiem dalībniekiem un reģistrējoties vietnē www.prataspeles.com vai rakstot uz info@prataspeles.lv. Dalība ir bez maksas\, tomēr vietu skaits gan ir ierobežots\, tādēļ aicinām neatlikt pieteikšanos! \nSpēles piedāvā jautājumus ar dažādu sarežģītības pakāpi\, tāpēc piedalīties var jebkura vecuma dalībnieki – pat bērni. Tā ir lieliska iespēja pārbaudīt zināšanas\, gūt pozitīvas emocijas un uzzināt daudz jauna kopā ar ģimeni\, draugiem vai kolēģiem! Maksimālais komandas dalībnieku skaits – 6 personas. \n  \nRezultāti: \n\n\n\nKomanda\n1\n2\n3\n4\n5\n6\n7\n8\n9\n10\nKopā\nVieta\n\n\n Āreče  \n50\n50\n10\n50\n45\n50\n30\n15\n30\n30\n360\n1\n\n\n DeJaVu  \n40\n40\n30\n40\n50\n30\n30\n20\n50\n10\n340\n2\n\n\n Stende 2  \n50\n50\n10\n50\n45\n30\n-10\n30\n30\n30\n315\n3\n\n\n EŽA PUSKAŽOCIŅŠ\n20\n10\n-10\n30\n40\n50\n50\n25\n30\n30\n275\n4\n\n\n MVP\n20\n50\n-30\n30\n45\n40\n30\n15\n30\n30\n260\n5\n\n\nUz dullo\n10\n20\n10\n30\n20\n50\n30\n10\n40\n20\n240\n6\n\n\n Baroni\n20\n40\n-10\n50\n45\n30\n30\n15\n10\n0\n230\n7\n\n\nBunS\n10\n50\n-10\n40\n35\n10\n30\n10\n20\n30\n225\n8\n\n\n Tukums Smukums\n20\n40\n-10\n30\n30\n10\n10\n20\n30\n40\n220\n9\n\n\nGrudi vēl Grudāki\n30\n40\n-10\n20\n30\n10\n30\n35\n20\n0\n205\n10\n\n\nTā tam būs būt!\n20\n30\n-10\n20\n20\n40\n-10\n25\n40\n30\n205\n11\n\n\nPutni bez\n20\n50\n-30\n30\n30\n10\n10\n25\n40\n20\n205\n12\n\n\n Saulespuķes\n20\n30\n-30\n20\n25\n20\n30\n30\n10\n10\n165\n13\n\n\nVisneiedomājamākā komanda\n10\n30\n-30\n20\n40\n40\n-10\n10\n30\n10\n150\n14\n\n\n Savvaļas puķes\n10\n30\n-30\n40\n5\n0\n50\n10\n10\n10\n135\n15\n\n\nTie paši MĒS\n20\n20\n-30\n10\n25\n20\n-10\n15\n0\n20\n90\n16\n\n\nDIVID\n20\n20\n-10\n0\n20\n0\n-10\n5\n20\n10\n75\n17\n\n\n\n\n			\n				\n			\n				\n				03.05.2025. “Prāta Spēles” “Latvijas kauss 2025” spēle Dobelē\n				\n			\n				\n			\n				\n				03.05.2025. “Prāta Spēles” “Latvijas kauss 2025” spēle Dobelē\n				\n			\n				\n			\n				\n				03.05.2025. “Prāta Spēles” “Latvijas kauss 2025” spēle Dobelē\n				\n			\n				\n			\n				\n				03.05.2025. “Prāta Spēles” “Latvijas kauss 2025” spēle Dobelē\n				\n			\n				\n			\n				\n				03.05.2025. “Prāta Spēles” “Latvijas kauss 2025” spēle Dobelē\n				\n			\n				\n			\n				\n				03.05.2025. “Prāta Spēles” “Latvijas kauss 2025” spēle Dobelē\n				\n			\n				\n			\n				\n				03.05.2025. “Prāta Spēles” “Latvijas kauss 2025” spēle Dobelē\n				\n			\n				\n			\n				\n				03.05.2025. “Prāta Spēles” “Latvijas kauss 2025” spēle Dobelē\n				\n			\n				\n			\n				\n				03.05.2025. “Prāta Spēles” “Latvijas kauss 2025” spēle Dobelē\n				\n			\n				\n			\n				\n				03.05.2025. “Prāta Spēles” “Latvijas kauss 2025” spēle Dobelē\n				\n			\n				\n			\n				\n				03.05.2025. “Prāta Spēles” “Latvijas kauss 2025” spēle Dobelē\n				\n			\n				\n			\n				\n				03.05.2025. “Prāta Spēles” “Latvijas kauss 2025” spēle Dobelē\n				\n			\n				\n			\n				\n				03.05.2025. “Prāta Spēles” “Latvijas kauss 2025” spēle Dobelē\n				\n			\n				\n			\n				\n				03.05.2025. “Prāta Spēles” “Latvijas kauss 2025” spēle Dobelē\n				\n			\n				\n			\n				\n				03.05.2025. “Prāta Spēles” “Latvijas kauss 2025” spēle Dobelē\n				\n			\n				\n			\n				\n				03.05.2025. “Prāta Spēles” “Latvijas kauss 2025” spēle Dobelē\n				\n			\n				\n			\n				\n				03.05.2025. “Prāta Spēles” “Latvijas kauss 2025” spēle Dobelē\n				\n			\n				\n			\n				\n				03.05.2025. “Prāta Spēles” “Latvijas kauss 2025” spēle Dobelē\n				\n			\n				\n			\n				\n				03.05.2025. “Prāta Spēles” “Latvijas kauss 2025” spēle Dobelē\n				\n			\n				\n			\n				\n				03.05.2025. “Prāta Spēles” “Latvijas kauss 2025” spēle Dobelē\n				\n			\n				\n			\n				\n				03.05.2025. “Prāta Spēles” “Latvijas kauss 2025” spēle Dobelē\n				\n			\n				\n			\n				\n				03.05.2025. “Prāta Spēles” “Latvijas kauss 2025” spēle Dobelē\n				\n			\n				\n			\n				\n				03.05.2025. “Prāta Spēles” “Latvijas kauss 2025” spēle Dobelē
URL:https://prataspeles.com/event/latvijas-kauss-2025-dobele/
LOCATION:Dobeles pilsētas Kultūras nams\, Baznīcas iela 6\, Dobele\, Latvia
CATEGORIES:Latvijas kauss
ATTACH;FMTTYPE=image/jpeg:https://prataspeles.com/wp-content/uploads/2025/04/Afisa-1.jpg
END:VEVENT
END:VCALENDAR