BEGIN:VCALENDAR
VERSION:2.0
PRODID:-//Prāta spēles - ECPv6.15.20//NONSGML v1.0//EN
CALSCALE:GREGORIAN
METHOD:PUBLISH
X-WR-CALNAME:Prāta spēles
X-ORIGINAL-URL:https://prataspeles.com
X-WR-CALDESC:Events for Prāta spēles
REFRESH-INTERVAL;VALUE=DURATION:PT1H
X-Robots-Tag:noindex
X-PUBLISHED-TTL:PT1H
BEGIN:VTIMEZONE
TZID:Europe/Riga
BEGIN:DAYLIGHT
TZOFFSETFROM:+0200
TZOFFSETTO:+0300
TZNAME:EEST
DTSTART:20240331T010000
END:DAYLIGHT
BEGIN:STANDARD
TZOFFSETFROM:+0300
TZOFFSETTO:+0200
TZNAME:EET
DTSTART:20241027T010000
END:STANDARD
BEGIN:DAYLIGHT
TZOFFSETFROM:+0200
TZOFFSETTO:+0300
TZNAME:EEST
DTSTART:20250330T010000
END:DAYLIGHT
BEGIN:STANDARD
TZOFFSETFROM:+0300
TZOFFSETTO:+0200
TZNAME:EET
DTSTART:20251026T010000
END:STANDARD
BEGIN:DAYLIGHT
TZOFFSETFROM:+0200
TZOFFSETTO:+0300
TZNAME:EEST
DTSTART:20260329T010000
END:DAYLIGHT
BEGIN:STANDARD
TZOFFSETFROM:+0300
TZOFFSETTO:+0200
TZNAME:EET
DTSTART:20261025T010000
END:STANDARD
END:VTIMEZONE
BEGIN:VEVENT
DTSTART;TZID=Europe/Riga:20250127T183000
DTEND;TZID=Europe/Riga:20250127T210000
DTSTAMP:20260424T025309
CREATED:20250116T081413Z
LAST-MODIFIED:20250116T081413Z
UID:10000707-1738002600-1738011600@prataspeles.com
SUMMARY:IQ+ Pavasara sezona - 2. spēle
DESCRIPTION:🧠 IZAICINI SAVU PRĀTU AR IQ+: ELITĀRA INTELEKTUĀLĀ VIKTORĪNA AR IVO KRUMHOLCU! 🏆 \nVai esat gatavi pārbaudīt savas zināšanas intensīvā prāta maratonā? Meklējam erudītus spēlētājus\, kas alkst intelektuālu izaicinājumu! \nKo jūs sagaida: \n\nDinamiska un intensīva viktorīna ar rūpīgi atlasītiem jautājumiem no dažādām zinātņu\, kultūras un mākslas jomām\nIzcila atmosfēra kopā ar līdzīgi domājošiem intelektuāļiem\nHarizmātiskā Ivo Krumholca vadība\, kas garantē ne tikai zināšanu pārbaudi\, bet arī asprātīgu un iedvesmojošu vakaru\nIespēja paplašināt savu erudīciju un iegūt arī balvas\n\nŠī nav parasta viktorīna – tā ir intelektuāla pieredze\, kas liks jums domāt ārpus ierastajiem rāmjiem un pārbaudīt savas zināšanas visaugstākajā līmenī. \n📍 Norises vieta: Kultūras nams “Atmoda”\, Stabu iela 10\, Rīga Vietu skaits ierobežots! \nPiesakieties jau šodien: 📱 Tālr.: 28602016 📧 E-pasts: iqpozitivs@gmail.com \nPievienojieties mums šajā aizraujošajā zināšanu ceļojumā! Jūsu prāts to ir pelnījis! 🎯 \n#IQ+ #Erudīcija #IntelektuālāIzklaide #IzglītībaUnIzklaide
URL:https://prataspeles.com/event/iq-pavasara-sezona-2-spele/2025-01-27/
LOCATION:Kultūras nams “Atmoda”\, Stabu iela 10\, Rīga\, Latvia
CATEGORIES:IQ+
ATTACH;FMTTYPE=image/jpeg:https://prataspeles.com/wp-content/uploads/2025/01/Blue-Modern-Minimalist-Artificial-Intelligence-Technology-Presentation.jpg
END:VEVENT
BEGIN:VEVENT
DTSTART;TZID=Europe/Riga:20250127T184500
DTEND;TZID=Europe/Riga:20250127T210000
DTSTAMP:20260424T025309
CREATED:20250128T134834Z
LAST-MODIFIED:20250128T134835Z
UID:10000702-1738003500-1738011600@prataspeles.com
SUMMARY:"Prāta Spēles"\, Pavasara sezona - 2. spēle
DESCRIPTION:Baudi kopā būšanas mirkļus izzinošā vidē kopā ar “Prāta Spēles” – pārbaudi savas zināšanas\, uzzini daudz ko jaunu un interesantu un izcili pavadi laiku!\n“Prāta Spēles” viktorīnas iekustina pelēkās šūniņas un rada veselīgu atkarību\, kas veicina smadzeņu darbību!\n\nMaksimālais dalībnieku skaits komandā – 6 personas.\n\nNorises vieta un laiks: “Prāta Spēles” spēļu zāle\, Blaumaņa iela 38/40\, 3. stāvs\, plkst. 18:45\n\nPiesakies: prataspeles@prataspeles.com\n\nPasākuma laikā apmeklētāji var tikt fotogrāfēti un filmēti. Iegūtie materiāli tiek izmantoti publiski.\nAtbalsta:PergalėDelfi.lvŽurnāls “Mezgls”ACME Film LatvijaVitabiotics Latvija “Neurozan”GABI apavu veikaliBrain Games LV\n\nRezultāti:\n\n\n\n\n\nKomanda/Kārta\n1\n2\n3\n4\n5\n6\n7\n8\n9\n10\nkopā\nVieta\n\n\nIlknis 2015\n3\n5\n4\n7\n7\n5\n6\n6\n5\n6\n54\n1\n\n\nDienas Piedāvājums\n2\n4\n4\n8\n6\n5\n9\n4\n5\n5\n52\n2\n\n\nKā teiks\, tā būs!\n2\n3\n4\n9\n5\n5\n4\n6\n6\n4\n48\n3\n\n\nVilks viens\, bet sivēntiņi…\n1\n2\n3\n8\n5\n3\n9\n5\n5\n5\n46\n4\n\n\nGuntis šodien nebūs\n2\n5\n5\n7\n3\n3\n5\n5\n5\n4\n44\n5\6\n\n\nBebrų Suknisinėtojai\n3\n4\n4\n7\n4\n5\n6\n3\n4\n4\n44\n5\6\n\n\nB3\n4\n6\n3\n3\n5\n4\n3\n3\n6\n4\n41\n7\n\n\nWFC\n1\n5\n4\n3\n6\n5\n2\n4\n5\n5\n40\n8\9\n\n\nLielais Ķemeru netīrelis\n2\n4\n4\n4\n6\n4\n2\n4\n6\n4\n40\n8\9\n\n\nEdvīna komanda\n4\n3\n3\n5\n4\n4\n4\n3\n5\n4\n39\n10\n\n\nEndurio\n3\n3\n3\n2\n6\n4\n2\n5\n4\n6\n38\n11\n\n\nFiasko\n2\n4\n2\n7\n4\n5\n1\n2\n5\n5\n37\n12\13\n\n\nKrāmu ielas konsultanti\n2\n3\n2\n4\n5\n2\n6\n3\n5\n5\n37\n12\13\n\n\nSamuraja ceļš\n1\n2\n2\n5\n6\n3\n3\n3\n5\n5\n35\n14\n\n\nRīgas Šmeļi\n0\n2\n4\n7\n2\n2\n5\n2\n4\n3\n31\n15\n\n\nSāļā karamele\n2\n1\n3\n4\n4\n2\n3\n4\n4\n2\n29\n16\n\n\nPagaidām\n1\n1\n2\n2\n2\n3\n1\n3\n4\n2\n21\n17\n\n\nDopamīns vajg\n0\n0\n2\n3\n2\n1\n1\n2\n3\n0\n14\n18\n\n\n\n\n\n\n\n\n\n\n\n\n\n\n\n\n\nVidējais punktu skaits\n1\,52\n2\,48\n2\,52\n4\,13\n3\,57\n2\,83\n3\,13\n2\,91\n3\,74\n3\,17\n30
URL:https://prataspeles.com/event/prata-speles-pavasara-sezona-2-spele-5/
LOCATION:“Prāta Spēles” zāle\, Blaumaņa iela 38/40\, Rīga\, Latvia
CATEGORIES:Prāta spēles
ATTACH;FMTTYPE=image/jpeg:https://prataspeles.com/wp-content/uploads/2025/01/Blue-Modern-Minimalist-Artificial-Intelligence-Technology-Presentation-5.jpg
END:VEVENT
BEGIN:VEVENT
DTSTART;TZID=Europe/Riga:20250128T183000
DTEND;TZID=Europe/Riga:20250128T210000
DTSTAMP:20260424T025309
CREATED:20250116T081413Z
LAST-MODIFIED:20250116T081413Z
UID:10000708-1738089000-1738098000@prataspeles.com
SUMMARY:IQ+ Pavasara sezona - 2. spēle
DESCRIPTION:🧠 IZAICINI SAVU PRĀTU AR IQ+: ELITĀRA INTELEKTUĀLĀ VIKTORĪNA AR IVO KRUMHOLCU! 🏆 \nVai esat gatavi pārbaudīt savas zināšanas intensīvā prāta maratonā? Meklējam erudītus spēlētājus\, kas alkst intelektuālu izaicinājumu! \nKo jūs sagaida: \n\nDinamiska un intensīva viktorīna ar rūpīgi atlasītiem jautājumiem no dažādām zinātņu\, kultūras un mākslas jomām\nIzcila atmosfēra kopā ar līdzīgi domājošiem intelektuāļiem\nHarizmātiskā Ivo Krumholca vadība\, kas garantē ne tikai zināšanu pārbaudi\, bet arī asprātīgu un iedvesmojošu vakaru\nIespēja paplašināt savu erudīciju un iegūt arī balvas\n\nŠī nav parasta viktorīna – tā ir intelektuāla pieredze\, kas liks jums domāt ārpus ierastajiem rāmjiem un pārbaudīt savas zināšanas visaugstākajā līmenī. \n📍 Norises vieta: Kultūras nams “Atmoda”\, Stabu iela 10\, Rīga Vietu skaits ierobežots! \nPiesakieties jau šodien: 📱 Tālr.: 28602016 📧 E-pasts: iqpozitivs@gmail.com \nPievienojieties mums šajā aizraujošajā zināšanu ceļojumā! Jūsu prāts to ir pelnījis! 🎯 \n#IQ+ #Erudīcija #IntelektuālāIzklaide #IzglītībaUnIzklaide
URL:https://prataspeles.com/event/iq-pavasara-sezona-2-spele/2025-01-28/
LOCATION:Kultūras nams “Atmoda”\, Stabu iela 10\, Rīga\, Latvia
CATEGORIES:IQ+
ATTACH;FMTTYPE=image/jpeg:https://prataspeles.com/wp-content/uploads/2025/01/Blue-Modern-Minimalist-Artificial-Intelligence-Technology-Presentation.jpg
END:VEVENT
BEGIN:VEVENT
DTSTART;TZID=Europe/Riga:20250128T184500
DTEND;TZID=Europe/Riga:20250128T210000
DTSTAMP:20260424T025309
CREATED:20250129T063213Z
LAST-MODIFIED:20250129T063214Z
UID:10000703-1738089900-1738098000@prataspeles.com
SUMMARY:"Prāta Spēles"\, Pavasara sezona - 2. spēle
DESCRIPTION:Baudi kopā būšanas mirkļus izzinošā vidē kopā ar “Prāta Spēles” – pārbaudi savas zināšanas\, uzzini daudz ko jaunu un interesantu un izcili pavadi laiku!\n“Prāta Spēles” viktorīnas iekustina pelēkās šūniņas un rada veselīgu atkarību\, kas veicina smadzeņu darbību!\n\nMaksimālais dalībnieku skaits komandā – 6 personas.\n\nNorises vieta un laiks: “Prāta Spēles” spēļu zāle\, Blaumaņa iela 38/40\, 3. stāvs\, plkst. 18:45\n\nPiesakies: prataspeles@prataspeles.com\n\nPasākuma laikā apmeklētāji var tikt fotogrāfēti un filmēti. Iegūtie materiāli tiek izmantoti publiski.\nAtbalsta:PergalėDelfi.lvŽurnāls “Mezgls”ACME Film LatvijaVitabiotics Latvija “Neurozan”GABI apavu veikaliBrain Games LV\n\nRezultāti:\n\n\n\n\nKomanda/Kārta\n1\n2\n3\n4\n5\n6\n7\n8\n9\n10\nkopā\nVieta\n\n\nŠtepselētāju atgriešanās\n3\n4\n5\n8\n7\n6\n7\n6\n6\n5\,5\n57\,5\n1\n\n\nKazas sektors\n3\n4\n4\n6\n6\n5\n7\n7\n5\n6\n53\n2\n\n\nIedvesmas kvartāls\n2\n4\n4\n7\n7\n6\n5\n6\n4\n6\n51\n3\n\n\nLaikmetīgā māksla\n3\n4\n4\n9\n6\n3\n5\n6\n4\n5\n49\n4\n\n\nĢeogrāfu mafija\n3\n4\n5\n7\n7\n3\n7\n3\n4\n5\n48\n5\n\n\nKarmas latvieši\n3\n3\n6\n4\n7\n5\n6\n5\n7\n1\n47\n6\n\n\nNākamreiz noteikti\n2\n4\n2\n7\n7\n3\n2\n4\n6\n5\n42\n7\n\n\nĢeogrāfu mafija II\n2\n3\n4\n7\n5\n4\n4\n3\n4\n5\n41\n8\n\n\nAmpēriņš\n2\n3\n1\n6\n6\n4\n1\n6\n6\n4\n39\n9\n\n\nSkudras svinētāji\n1\n0\n4\n7\n7\n2\n5\n2\n5\n5\n38\n10\n\n\nMamma to zinātu\n2\n2\n4\n6\n5\n4\n3\n1\n4\n5\n36\n11\n\n\nTrompetes atbalss\n1\n2\n1\n6\n5\n4\n2\n5\n5\n2\n33\n12\13\n\n\nVISS SKAIDRS\n1\n2\n4\n2\n4\n4\n5\n2\n5\n4\n33\n12\13\n\n\nGudrības atlūzas\n1\n1\n3\n4\n6\n4\n0\n2\n5\n5\n31\n14\15\n\n\nPelītes un Dace\n1\n2\n2\n5\n5\n4\n5\n2\n3\n2\n31\n14\15\n\n\nDirektoru brīvdienas\n2\n2\n2\n4\n6\n2\n3\n1\n4\n4\n30\n16\n\n\nRektori\n0\n3\n1\n4\n6\n2\n5\n2\n3\n2\n28\n17\n\n\nMēs jau tik pa retam\n1\n1\n3\n3\n2\n1\n0\n0\n3\n2\n16\n18\n\n\n\n\n\n\n\n\n\n\n\n\n\n\n\n\n\nVidējais punktu skaits\n1\,83\n2\,67\n3\,28\n5\,67\n5\,78\n3\,67\n4\n3\,5\n4\,61\n4\,08\n39\,08
URL:https://prataspeles.com/event/prata-speles-pavasara-sezona-2-spele-6/
LOCATION:“Prāta Spēles” zāle\, Blaumaņa iela 38/40\, Rīga\, Latvia
CATEGORIES:Prāta spēles
ATTACH;FMTTYPE=image/jpeg:https://prataspeles.com/wp-content/uploads/2025/01/Blue-Modern-Minimalist-Artificial-Intelligence-Technology-Presentation-5.jpg
END:VEVENT
BEGIN:VEVENT
DTSTART;TZID=Europe/Riga:20250129T184500
DTEND;TZID=Europe/Riga:20250129T210000
DTSTAMP:20260424T025309
CREATED:20250130T073336Z
LAST-MODIFIED:20250130T073337Z
UID:10000704-1738176300-1738184400@prataspeles.com
SUMMARY:"Prāta Spēles"\, Pavasara sezona - 2. spēle
DESCRIPTION:Baudi kopā būšanas mirkļus izzinošā vidē kopā ar “Prāta Spēles” – pārbaudi savas zināšanas\, uzzini daudz ko jaunu un interesantu un izcili pavadi laiku!\n“Prāta Spēles” viktorīnas iekustina pelēkās šūniņas un rada veselīgu atkarību\, kas veicina smadzeņu darbību!\n\nMaksimālais dalībnieku skaits komandā – 6 personas.\n\nNorises vieta un laiks: “Prāta Spēles” spēļu zāle\, Blaumaņa iela 38/40\, 3. stāvs\, plkst. 18:45\n\nPiesakies: prataspeles@prataspeles.com\n\nPasākuma laikā apmeklētāji var tikt fotogrāfēti un filmēti. Iegūtie materiāli tiek izmantoti publiski.\nAtbalsta:PergalėDelfi.lvŽurnāls “Mezgls”ACME Film LatvijaVitabiotics Latvija “Neurozan”GABI apavu veikaliBrain Games LV\n\nRezultāti:\n\n\n\n\n\nKomanda/Kārta\n1\n2\n3\n4\n5\n6\n7\n8\n9\n10\nkopā\nVieta\n\n\nMaiga Ziema\n2\n3\n5\n8\n6\n5\n7\n6\n4\n4\n50\n1\2\n\n\nTimijs ir iekritis akā\n2\n2\n4\n7\n7\n5\n9\n5\n4\n5\n50\n1\2\n\n\nPrācViņZin\n3\n4\n3\n6\n6\n4\n9\n4\n5\n5\n49\n3\4\n\n\nTeaMates\n3\n5\n4\n8\n6\n5\n5\n3\n5\n5\n49\n3\4\n\n\nMans intīms\n3\n1\n4\n6\n7\n4\n8\n6\n5\n4\n48\n5\n\n\nĶertie ķenguri\n2\n4\n6\n4\n6\n5\n8\n5\n4\n3\n47\n6\7\n\n\nStikla kalns\n4\n2\n5\n6\n6\n3\n9\n4\n6\n2\n47\n6\7\n\n\nTītiņi un Vālodzes\n3\n4\n3\n6\n6\n3\n8\n3\n4\n6\n46\n8\n\n\nGrieze\n3\n4\n5\n7\n5\n3\n3\n3\n5\n6\n44\n9\11\n\n\nSfinksa\n3\n1\n3\n9\n2\n3\n9\n5\n5\n4\n44\n9\11\n\n\nVasaras radi\n4\n2\n6\n8\n5\n2\n4\n5\n5\n3\n44\n9\11\n\n\nPēdējā brīdī\n1\n3\n4\n6\n7\n3\n3\n4\n6\n4\n41\n12\14\n\n\nRozā bārbijzeme\n3\n3\n3\n4\n7\n2\n4\n4\n6\n5\n41\n12\14\n\n\nSabojātā reputācija\n2\n4\n2\n6\n7\n3\n3\n6\n5\n3\n41\n12\14\n\n\nKarību novembris\n1\n3\n2\n8\n6\n5\n3\n3\n6\n3\n40\n15\n\n\nLaivotāji\n1\n3\n4\n4\n6\n4\n4\n3\n4\n2\n35\n16\n\n\nLasis Stasis\n2\n3\n3\n6\n5\n2\n2\n3\n4\n3\n33\n17\18\n\n\nДа ладно?\n1\n0\n3\n6\n5\n4\n3\n3\n3\n5\n33\n17\18\n\n\nKFC Outsourced\n1\n2\n4\n4\n5\n2\n1\n4\n3\n4\n30\n19\n\n\nMonta\n3\n1\n3\n2\n4\n2\n2\n3\n4\n5\n29\n20\n\n\nPurva sirēnas\n0\n2\n4\n1\n4\n2\n1\n1\n6\n3\n24\n21\22\n\n\nVienkāršie prāti\n1\n2\n4\n2\n4\n3\n1\n2\n3\n2\n24\n21\22\n\n\nRigonda\n0\n1\n2\n2\n1\n2\n0\n2\n4\n4\n18\n23\n\n\n\n\n\n\n\n\n\n\n\n\n\n\n\n\n\nVidējais punktu skaits\n2\,09\n2\,57\n3\,74\n5\,48\n5\,35\n3\,3\n4\,61\n3\,78\n4\,61\n3\,91\n39\,43
URL:https://prataspeles.com/event/prata-speles-pavasara-sezona-2-spele-7/
LOCATION:“Prāta Spēles” zāle\, Blaumaņa iela 38/40\, Rīga\, Latvia
CATEGORIES:Prāta spēles
ATTACH;FMTTYPE=image/jpeg:https://prataspeles.com/wp-content/uploads/2025/01/Blue-Modern-Minimalist-Artificial-Intelligence-Technology-Presentation-5.jpg
END:VEVENT
BEGIN:VEVENT
DTSTART;TZID=Europe/Riga:20250129T190000
DTEND;TZID=Europe/Riga:20250129T190000
DTSTAMP:20260424T025309
CREATED:20250124T083022Z
LAST-MODIFIED:20250131T063845Z
UID:10000746-1738177200-1738177200@prataspeles.com
SUMMARY:Muzikālās "Prāta Spēles" - dažādi hiti
DESCRIPTION:DAŽĀDI HITI – VAKARS\, KO TU NEDRĪKSTI PALAIST GARĀM! 🎶\nKAD: 29. janvāris\, plkst. 19:00\nKUR: Brūzis Manufaktūra \nHei! Vai esi gatavs vakaram\, kur skanēs pavisam dažādi hiti? Šī būs iespēja gan dzirdēt kādu sev iemīļotu senu hitu\, kas atgādinās Tev par seniem piedzīvojumiem\, gan arī dzirdēt kādu pavisam jaunu hitu\, kas var aizķerties galvā un kļūt par Tavu jauno TOP meldiņu! \nKO TU VARI SAGAIDĪT? \n\nMuzikālu viktorīnu\, kas izkustinās gan prātu\, gan atmiņas! Zini hitu – dziedi līdzi! 🎤\nBEZMAKSAS dalība\, jo foršam vakaram nav vajadzīgas ieejas biļetes.\nBalvas – jā\, pareizi! Tavām muzikālajām zināšanām būs sava atzinība! 🏆\nLaba atmosfēra un gardumi – Brūzis Manufaktūra rūpēsies par Tavu komfortu. Alus\, uzkodas un laba kompānija – kas gan vēl nepieciešams?\n100% laba noskaņa garantēta – dažādi hiti\, kas aizvedīs tevi gan atmiņu ceļojumā\, gan piedāvās kaut ko svaigu!\n\nKAS ŠO VAKARU PADARĪS LABĀKU?\nTu un Tavi draugi! Vai arī ģimene\, kolēģi vai pavisam sveši cilvēki\, kuriem vienkārši patīk mūzika un viktorīnas. Šeit galvenais ir forši pavadīt laiku! \nKĀPĒC REZERVĒT GALDIŅU TAGAD?\nJo labākie galdiņi pazūd ātri! Un Tu taču negribi sēdēt stūrī\, vai ne?  Rezervē galdiņu\, sazinoties ar “Brūzis Manufaktūra” \n  \nRezultāti: \n\n\n\nVieta\nDalībnieks\nRezultāts\n\n\n1\nOne (s)hit wonder\n1109\n\n\n2\nKartupelis(Samanta)\n1101\n\n\n3\nVajag vēl vienu\n1070\n\n\n4\nDagnija\n1065\n\n\n5\nEltons Kleptons\n1047\n\n\n6\nCukurzirnītis\n1019\n\n\n7\nCrisp Lager\n1011\n\n\n8\nNoslogotais tosteris\n991\n\n\n9\nCracklo\n985\n\n\n10\nFishin\n972\n\n\n11\nGlūmis\n968\n\n\n12\nMEGA Biezenis\n952\n\n\n13\nCHARMING\n943\n\n\n14\nEduardo\n933\n\n\n15\nLaurish\n929\n\n\n16\nSimčiks\n926\n\n\n17\nRīgas satiksme\n906\n\n\n18\nRuuzja\n904\n\n\n19\nRikitons\n897\n\n\n20\nT6\n894\n\n\n21\nElaiza\n891\n\n\n22\nAcīte\n878\n\n\n23\nZuze\n853\n\n\n24\nMikus\n848\n\n\n25\nbunba\n848\n\n\n26\nVasarniece\n843\n\n\n27\nkD\n842\n\n\n28\nAnsis\n842\n\n\n29\nMikrene\n840\n\n\n30\nSantumiņš\n836\n\n\n31\nAvokado\n836\n\n\n32\nRonijaa\n835\n\n\n33\nkicina\n829\n\n\n34\nFrigid Clock\n812\n\n\n35\nĶĪŠEZERA MALIŅĀ\n785\n\n\n36\nSamis\n764\n\n\n37\nKoala\n729\n\n\n38\nEsNekoNedzirdu\n728\n\n\n39\nHDpuzle\n679\n\n\n40\nDP\n674\n\n\n41\nEdvīns Degvīns\n654\n\n\n42\nNowig\n649\n\n\n43\nKalsarikänit\n635\n\n\n44\nRock bottom\n588\n\n\n45\nAlex\n496\n\n\n46\nRokoko\n478\n\n\n47\nMartini\n437\n\n\n48\nEga\n390\n\n\n49\nAleksandrs\n308\n\n\n50\nSniegavīrs\n305\n\n\n51\nVg\n46\n\n\n52\nTimeblocker\n24\n\n\n\n  \nwww.prataspeles.com \n#prataspeles #viktorīna #mūzika #izklaide #muzikalasprataspeles
URL:https://prataspeles.com/event/muzikalas-prata-speles-dazadi-hiti/
LOCATION:“Brūzis Manufaktūra”\, Brīvības gatve 401C\, Rīga\, Latvia
CATEGORIES:Muzikālās ''Prāta spēles''
ATTACH;FMTTYPE=image/jpeg:https://prataspeles.com/wp-content/uploads/2025/01/Copy-of-Blue-Modern-Minimalist-Artificial-Intelligence-Technology-Presentation-3.jpg
END:VEVENT
BEGIN:VEVENT
DTSTART;TZID=Europe/Riga:20250130T184500
DTEND;TZID=Europe/Riga:20250130T210000
DTSTAMP:20260424T025309
CREATED:20250115T134050Z
LAST-MODIFIED:20250115T134050Z
UID:10000748-1738262700-1738270800@prataspeles.com
SUMMARY:"Prāta Spēles"\, Pavasara sezona - 2. spēle
DESCRIPTION:Baudi kopā būšanas mirkļus izzinošā vidē kopā ar “Prāta Spēles” – pārbaudi savas zināšanas\, uzzini daudz ko jaunu un interesantu un izcili pavadi laiku!\n“Prāta Spēles” viktorīnas iekustina pelēkās šūniņas un rada veselīgu atkarību\, kas veicina smadzeņu darbību!\n\nMaksimālais dalībnieku skaits komandā – 6 personas.\n\nNorises vieta un laiks: “Prāta Spēles” spēļu zāle\, Blaumaņa iela 38/40\, 3. stāvs\, plkst. 18:45\n\nPiesakies: prataspeles@prataspeles.com\n\nPasākuma laikā apmeklētāji var tikt fotogrāfēti un filmēti. Iegūtie materiāli tiek izmantoti publiski.\nAtbalsta:PergalėDelfi.lvŽurnāls “Mezgls”ACME Film LatvijaVitabiotics Latvija “Neurozan”GABI apavu veikaliBrain Games LV
URL:https://prataspeles.com/event/prata-speles-pavasara-sezona-2-spele/
LOCATION:“Prāta Spēles” zāle\, Blaumaņa iela 38/40\, Rīga\, Latvia
CATEGORIES:Prāta spēles
ATTACH;FMTTYPE=image/jpeg:https://prataspeles.com/wp-content/uploads/2025/01/Blue-Modern-Minimalist-Artificial-Intelligence-Technology-Presentation-5.jpg
END:VEVENT
BEGIN:VEVENT
DTSTART;TZID=Europe/Riga:20250130T184500
DTEND;TZID=Europe/Riga:20250130T210000
DTSTAMP:20260424T025309
CREATED:20250131T070852Z
LAST-MODIFIED:20250131T070853Z
UID:10000705-1738262700-1738270800@prataspeles.com
SUMMARY:"Prāta Spēles"\, Pavasara sezona - 2. spēle
DESCRIPTION:Baudi kopā būšanas mirkļus izzinošā vidē kopā ar “Prāta Spēles” – pārbaudi savas zināšanas\, uzzini daudz ko jaunu un interesantu un izcili pavadi laiku!\n“Prāta Spēles” viktorīnas iekustina pelēkās šūniņas un rada veselīgu atkarību\, kas veicina smadzeņu darbību!\n\nMaksimālais dalībnieku skaits komandā – 6 personas.\n\nNorises vieta un laiks: “Prāta Spēles” spēļu zāle\, Blaumaņa iela 38/40\, 3. stāvs\, plkst. 18:45\n\nPiesakies: prataspeles@prataspeles.com\n\nPasākuma laikā apmeklētāji var tikt fotogrāfēti un filmēti. Iegūtie materiāli tiek izmantoti publiski.\nAtbalsta:PergalėDelfi.lvŽurnāls “Mezgls”ACME Film LatvijaVitabiotics Latvija “Neurozan”GABI apavu veikaliBrain Games LV\n\nRezultāti:\n\n\n\n\nKomanda/Kārta\n1\n2\n3\n4\n5\n6\n7\n8\n9\n10\nkopā\nVieta\n\n\nNu tad neko\n3\n4\n3\n9\n6\n5\n9\n5\n4\n6\n54\n1\n\n\nAloha\n2\n3\n6\n7\n6\n5\n4\n3\n6\n5\n47\n2\n\n\nŠeldoni\n1\n2\n5\n7\n4\n3\n9\n5\n4\n5\n45\n3\n\n\nAtbilde ir 42\n2\n1\n3\n9\n7\n5\n5\n4\n4\n4\,5\n44\,5\n4\n\n\nAB Normal\n1\n2\n4\n7\n6\n3\n4\n5\n5\n5\n42\n5\n\n\nIVARA KRASTA SIEVIETES\n4\n4\n3\n6\n7\n5\n0\n1\n6\n5\n41\n6\8\n\n\nCikos ēdam?\n3\n4\n4\n5\n4\n4\n6\n2\n5\n4\n41\n6\8\n\n\nValsts pieņēmumu dienests\n2\n3\n2\n7\n7\n5\n4\n2\n5\n4\n41\n6\8\n\n\n99\n3\n1\n3\n5\n4\n4\n8\n3\n4\n4\n39\n9\11\n\n\nPēteri-2016\n4\n1\n5\n6\n6\n4\n4\n0\n5\n4\n39\n9\11\n\n\nTIK UZ AUGŠU\n2\n4\n2\n4\n6\n6\n4\n3\n5\n3\n39\n9\11\n\n\nIlga\n3\n3\n2\n6\n4\n4\n1\n4\n6\n3\n36\n12\13\n\n\nJustas\n2\n1\n3\n7\n5\n3\n4\n3\n4\n4\n36\n12\13\n\n\nGaba\n1\n2\n5\n6\n4\n4\n1\n2\n5\n4\n34\n14\15\n\n\nPilnmēness dīleri\n2\n3\n4\n6\n4\n3\n1\n3\n2\n6\n34\n14\15\n\n\nCūkas laime\n3\n2\n4\n2\n5\n2\n1\n4\n4\n5\n32\n16\19\n\n\nČumslis\n1\n1\n4\n6\n4\n3\n1\n3\n5\n4\n32\n16\19\n\n\nEko mozgi\n1\n2\n3\n4\n6\n2\n3\n2\n5\n4\n32\n16\19\n\n\nIbumetīns 400\n2\n1\n3\n4\n6\n3\n2\n5\n3\n3\n32\n16\19\n\n\nJāpadomā\n2\n4\n4\n2\n3\n2\n3\n2\n4\n4\n30\n20\22\n\n\n710′\n2\n3\n2\n2\n5\n2\n3\n3\n5\n3\n30\n20\22\n\n\nGrimstošais kuģis\n2\n1\n5\n3\n5\n3\n1\n2\n5\n3\n30\n20\22\n\n\nAmatieru teātris\n1\n3\n1\n4\n4\n2\n1\n3\n6\n4\n29\n23\24\n\n\n6 banāni\n2\n2\n2\n3\n4\n2\n3\n4\n4\n3\n29\n23\24\n\n\n\n\n\n\n\n\n\n\n\n\n\n\n\n\n\nVidējais punktu skaits\n2\,13\n2\,39\n3\,48\n5\,39\n5\,13\n3\,57\n3\,43\n3\n4\,65\n4\,2\n37\,37
URL:https://prataspeles.com/event/prata-speles-pavasara-sezona-2-spele-8/
LOCATION:“Prāta Spēles” zāle\, Blaumaņa iela 38/40\, Rīga\, Latvia
CATEGORIES:Prāta spēles
ATTACH;FMTTYPE=image/jpeg:https://prataspeles.com/wp-content/uploads/2025/01/Blue-Modern-Minimalist-Artificial-Intelligence-Technology-Presentation-5.jpg
END:VEVENT
BEGIN:VEVENT
DTSTART;TZID=Europe/Riga:20250201T120000
DTEND;TZID=Europe/Riga:20250201T170000
DTSTAMP:20260424T025309
CREATED:20250107T134624Z
LAST-MODIFIED:20250203T065115Z
UID:10000697-1738411200-1738429200@prataspeles.com
SUMMARY:"LATVIJASKAUSS 2025" - TOME
DESCRIPTION:1. februārī plkst. 12:00 Tomes Tautas namā noritēs „Prāta Spēles” Vislatvijas erudīcijas čempionāta „Latvijas kauss 2025” spēles posms. Turnīrs norisināsies visa gada garumā dažādos Latvijas reģionos\, un tajā aicināts piedalīties ikviens\, veidojot komandu līdz sešiem dalībniekiem un reģistrējoties vietnē www.prataspeles.com vai rakstot uz info@prataspeles.lv. Dalība ir bez maksas\, tomēr vietu skaits gan ir ierobežots\, tādēļ aicinām neatlikt pieteikšanos! \nSpēles piedāvā jautājumus ar dažādu sarežģītības pakāpi\, tāpēc piedalīties var jebkura vecuma dalībnieki – pat bērni. Tā ir lieliska iespēja pārbaudīt zināšanas\, gūt pozitīvas emocijas un uzzināt daudz jauna kopā ar ģimeni\, draugiem vai kolēģiem! \n  \nRezultāti: \n\n\n\nKomanda\n1\n2\n3\n4\n5\n6\n7\n8\n9\n10\nKopā\nVieta\n\n\n“Štepselētāju atgriešanās” \n30\n25\n50\n20\n10\n30\n25\n10\n50\n40\n290\n1\n\n\n “Kāda starpība” \n20\n25\n50\n30\n30\n50\n30\n-30\n40\n40\n285\n2\n\n\n“32.Decembris”\n30\n35\n30\n40\n20\n10\n30\n10\n20\n20\n245\n3\n\n\n“Pseidointelektuāļi”\n30\n20\n50\n10\n10\n10\n20\n10\n40\n20\n220\n4\n\n\n“Darām Berkavai”\n20\n10\n30\n40\n0\n50\n20\n-10\n30\n10\n200\n5\n\n\n“EŽA PUSKAŽOCIŅŠ”\n20\n10\n10\n50\n10\n30\n25\n-10\n40\n10\n195\n6\n\n\n “Katram pa…”\n0\n10\n30\n10\n20\n10\n25\n-10\n40\n20\n155\n7\n\n\n“Nāburgi”\n30\n15\n10\n10\n10\n10\n20\n-10\n40\n0\n135\n8\n\n\n “Flamingo”\n0\n10\n30\n20\n10\n10\n15\n10\n10\n10\n125\n9\n\n\n“Tomes Laši”\n10\n10\n50\n10\n10\n-30\n25\n-30\n30\n20\n105\n10\n\n\n\n\n			\n				\n			\n				\n				01.02.2025. “Prāta Spēles” “Latvijas kauss 2025” spēle Tomē\n				\n			\n				\n			\n				\n				01.02.2025. “Prāta Spēles” “Latvijas kauss 2025” spēle Tomē\n				\n			\n				\n			\n				\n				01.02.2025. “Prāta Spēles” “Latvijas kauss 2025” spēle Tomē\n				\n			\n				\n			\n				\n				01.02.2025. “Prāta Spēles” “Latvijas kauss 2025” spēle Tomē\n				\n			\n				\n			\n				\n				01.02.2025. “Prāta Spēles” “Latvijas kauss 2025” spēle Tomē\n				\n			\n				\n			\n				\n				01.02.2025. “Prāta Spēles” “Latvijas kauss 2025” spēle Tomē\n				\n			\n				\n			\n				\n				01.02.2025. “Prāta Spēles” “Latvijas kauss 2025” spēle Tomē\n				\n			\n				\n			\n				\n				01.02.2025. “Prāta Spēles” “Latvijas kauss 2025” spēle Tomē
URL:https://prataspeles.com/event/latvijaskauss-2025-tome/
LOCATION:Tomes tautas nams\, "Tomes tautas nams"\, Tome\, Ķeguma novads\, LV-5020\, Latvia
CATEGORIES:Latvijas kauss
ATTACH;FMTTYPE=image/jpeg:https://prataspeles.com/wp-content/uploads/2025/01/Tome.jpg
END:VEVENT
END:VCALENDAR