BEGIN:VCALENDAR
VERSION:2.0
PRODID:-//Prāta spēles - ECPv6.15.14//NONSGML v1.0//EN
CALSCALE:GREGORIAN
METHOD:PUBLISH
X-WR-CALNAME:Prāta spēles
X-ORIGINAL-URL:https://prataspeles.com
X-WR-CALDESC:Events for Prāta spēles
REFRESH-INTERVAL;VALUE=DURATION:PT1H
X-Robots-Tag:noindex
X-PUBLISHED-TTL:PT1H
BEGIN:VTIMEZONE
TZID:Europe/Riga
BEGIN:DAYLIGHT
TZOFFSETFROM:+0200
TZOFFSETTO:+0300
TZNAME:EEST
DTSTART:20230326T010000
END:DAYLIGHT
BEGIN:STANDARD
TZOFFSETFROM:+0300
TZOFFSETTO:+0200
TZNAME:EET
DTSTART:20231029T010000
END:STANDARD
BEGIN:DAYLIGHT
TZOFFSETFROM:+0200
TZOFFSETTO:+0300
TZNAME:EEST
DTSTART:20240331T010000
END:DAYLIGHT
BEGIN:STANDARD
TZOFFSETFROM:+0300
TZOFFSETTO:+0200
TZNAME:EET
DTSTART:20241027T010000
END:STANDARD
BEGIN:DAYLIGHT
TZOFFSETFROM:+0200
TZOFFSETTO:+0300
TZNAME:EEST
DTSTART:20250330T010000
END:DAYLIGHT
BEGIN:STANDARD
TZOFFSETFROM:+0300
TZOFFSETTO:+0200
TZNAME:EET
DTSTART:20251026T010000
END:STANDARD
END:VTIMEZONE
BEGIN:VEVENT
DTSTART;TZID=Europe/Riga:20241202T184500
DTEND;TZID=Europe/Riga:20241202T210000
DTSTAMP:20260420T013058
CREATED:20241121T140549Z
LAST-MODIFIED:20241121T140851Z
UID:10000309-1733165100-1733173200@prataspeles.com
SUMMARY:“Prāta Spēles” rudens/ziemas sezona\, 7. spēle
DESCRIPTION:Baudi kopā būšanas mirkļus izzinošā vidē kopā ar “Prāta Spēles” – pārbaudi savas zināšanas\, uzzini daudz ko jaunu un interesantu un izcili pavadi laiku!\n\n“Prāta Spēles” viktorīnas iekustina pelēkās šūniņas un rada veselīgu atkarību\, kas veicina smadzeņu darbību!\n\nMaksimālais dalībnieku skaits komandā – 6 personas.\n\nNorises vieta un laiks: “Prāta Spēles” spēļu zāle\, Blaumaņa iela 38/40\, 3. stāvs\, plkst. 18:45\n\nPiesakies: prataspeles@prataspeles.com\n\nPasākuma laikā apmeklētāji var tikt fotogrāfēti un filmēti. Iegūtie materiāli tiek izmantoti publiski.
URL:https://prataspeles.com/event/prata-speles-rudens-ziemas-sezona-7-spele/2024-12-02/
LOCATION:“Prāta Spēles” zāle\, Blaumaņa iela 38/40\, Rīga\, Latvia
CATEGORIES:Prāta spēles
ATTACH;FMTTYPE=image/jpeg:https://prataspeles.com/wp-content/uploads/2024/11/Blue-Modern-Minimalist-Artificial-Intelligence-Technology-Presentation-6-scaled.jpg
END:VEVENT
BEGIN:VEVENT
DTSTART;TZID=Europe/Riga:20241202T184500
DTEND;TZID=Europe/Riga:20241202T210000
DTSTAMP:20260420T013058
CREATED:20241126T133952Z
LAST-MODIFIED:20241126T133952Z
UID:10000679-1733165100-1733173200@prataspeles.com
SUMMARY:IQ+ rudens sezona\, 7. spēle
DESCRIPTION:Piesaki komandas dalību: +371 28 602 016
URL:https://prataspeles.com/event/iq-rudens-sezona-7-spele/2024-12-02/
LOCATION:Kultūras nams “Atmoda”\, Stabu iela 10\, Rīga\, Latvia
CATEGORIES:IQ+
ATTACH;FMTTYPE=image/jpeg:https://prataspeles.com/wp-content/uploads/2024/11/Blue-Modern-Minimalist-Artificial-Intelligence-Technology-Presentation-3-scaled.jpg
END:VEVENT
BEGIN:VEVENT
DTSTART;TZID=Europe/Riga:20241203T184500
DTEND;TZID=Europe/Riga:20241203T210000
DTSTAMP:20260420T013058
CREATED:20241121T140549Z
LAST-MODIFIED:20241121T140851Z
UID:10000310-1733251500-1733259600@prataspeles.com
SUMMARY:“Prāta Spēles” rudens/ziemas sezona\, 7. spēle
DESCRIPTION:Baudi kopā būšanas mirkļus izzinošā vidē kopā ar “Prāta Spēles” – pārbaudi savas zināšanas\, uzzini daudz ko jaunu un interesantu un izcili pavadi laiku!\n\n“Prāta Spēles” viktorīnas iekustina pelēkās šūniņas un rada veselīgu atkarību\, kas veicina smadzeņu darbību!\n\nMaksimālais dalībnieku skaits komandā – 6 personas.\n\nNorises vieta un laiks: “Prāta Spēles” spēļu zāle\, Blaumaņa iela 38/40\, 3. stāvs\, plkst. 18:45\n\nPiesakies: prataspeles@prataspeles.com\n\nPasākuma laikā apmeklētāji var tikt fotogrāfēti un filmēti. Iegūtie materiāli tiek izmantoti publiski.
URL:https://prataspeles.com/event/prata-speles-rudens-ziemas-sezona-7-spele/2024-12-03/
LOCATION:“Prāta Spēles” zāle\, Blaumaņa iela 38/40\, Rīga\, Latvia
CATEGORIES:Prāta spēles
ATTACH;FMTTYPE=image/jpeg:https://prataspeles.com/wp-content/uploads/2024/11/Blue-Modern-Minimalist-Artificial-Intelligence-Technology-Presentation-6-scaled.jpg
END:VEVENT
BEGIN:VEVENT
DTSTART;TZID=Europe/Riga:20241203T184500
DTEND;TZID=Europe/Riga:20241203T210000
DTSTAMP:20260420T013058
CREATED:20241126T133952Z
LAST-MODIFIED:20241126T133952Z
UID:10000680-1733251500-1733259600@prataspeles.com
SUMMARY:IQ+ rudens sezona\, 7. spēle
DESCRIPTION:Piesaki komandas dalību: +371 28 602 016
URL:https://prataspeles.com/event/iq-rudens-sezona-7-spele/2024-12-03/
LOCATION:Kultūras nams “Atmoda”\, Stabu iela 10\, Rīga\, Latvia
CATEGORIES:IQ+
ATTACH;FMTTYPE=image/jpeg:https://prataspeles.com/wp-content/uploads/2024/11/Blue-Modern-Minimalist-Artificial-Intelligence-Technology-Presentation-3-scaled.jpg
END:VEVENT
BEGIN:VEVENT
DTSTART;TZID=Europe/Riga:20241204T184500
DTEND;TZID=Europe/Riga:20241204T210000
DTSTAMP:20260420T013058
CREATED:20241121T140549Z
LAST-MODIFIED:20241121T140851Z
UID:10000311-1733337900-1733346000@prataspeles.com
SUMMARY:“Prāta Spēles” rudens/ziemas sezona\, 7. spēle
DESCRIPTION:Baudi kopā būšanas mirkļus izzinošā vidē kopā ar “Prāta Spēles” – pārbaudi savas zināšanas\, uzzini daudz ko jaunu un interesantu un izcili pavadi laiku!\n\n“Prāta Spēles” viktorīnas iekustina pelēkās šūniņas un rada veselīgu atkarību\, kas veicina smadzeņu darbību!\n\nMaksimālais dalībnieku skaits komandā – 6 personas.\n\nNorises vieta un laiks: “Prāta Spēles” spēļu zāle\, Blaumaņa iela 38/40\, 3. stāvs\, plkst. 18:45\n\nPiesakies: prataspeles@prataspeles.com\n\nPasākuma laikā apmeklētāji var tikt fotogrāfēti un filmēti. Iegūtie materiāli tiek izmantoti publiski.
URL:https://prataspeles.com/event/prata-speles-rudens-ziemas-sezona-7-spele/2024-12-04/
LOCATION:“Prāta Spēles” zāle\, Blaumaņa iela 38/40\, Rīga\, Latvia
CATEGORIES:Prāta spēles
ATTACH;FMTTYPE=image/jpeg:https://prataspeles.com/wp-content/uploads/2024/11/Blue-Modern-Minimalist-Artificial-Intelligence-Technology-Presentation-6-scaled.jpg
END:VEVENT
BEGIN:VEVENT
DTSTART;TZID=Europe/Riga:20241204T190000
DTEND;TZID=Europe/Riga:20241204T210000
DTSTAMP:20260420T013058
CREATED:20241128T161058Z
LAST-MODIFIED:20241128T161058Z
UID:10000682-1733338800-1733346000@prataspeles.com
SUMMARY:Muzikālās "Prāta Spēles"\, rokmūzikas viktorīna
DESCRIPTION:Aizraujošs vakars\, ko Tu nevēlēsies palaist garām! 🎶🍺\n📅 4. decembrī plkst. 19:00 tiekamies Brūzis Manufaktūrā – vietā\, kur mūzika un viktorīna savienojas unikālā piedzīvojumā!\nAicini draugus\, ģimeni vai kolēģus\, vai nāc viens pats – garantējam izklaidi ikvienam. Šis vakars būs pilns ar populārākajām rokmūzikas dziesmām un aizraujošu viktorīnu\, kas izaicinās tavu prātu un muzikālās zināšanas. 🎤🎸 \n\nKo sagaidīt?\n🌟 Ieeja bez maksas – nāc un piedalies bez saistībām!\n🌟 Ikvienam piemērots – nav vecuma ierobežojuma.\n🌟 Laimes rats ar pārsteigumiem – griez un laimē īpašas balvas! 🎁\n🌟 Ekskluzīvas balvas no Brūzis Manufaktūra! \n🍔 Gardumi un alus: Izbaudi gardos ēdienus un īpaši uz vietas brūvēto alu – dažādas garšas\, svaigi un neatkārtojami! \n\n🔗 Uzzini vairāk un rezervē vakaru:\nhttps://prataspeles.com/muzikalas-prata-speles/ \n📸 Svarīgi: Pasākuma laikā dalībnieki var tikt fotografēti un filmēti. Materiāli var tikt izmantoti publiskajā komunikācijā. \nOrganizē: Prāta Spēles\n#prataspeles #muzikalasprataspeles \n🎉 Izklaide\, mūzika un draudzīgs sacensību gars – tiekamies! ✨
URL:https://prataspeles.com/event/muzikalas-prata-speles-rokmuzikas-viktorina/
CATEGORIES:Muzikālās ''Prāta spēles''
ATTACH;FMTTYPE=image/jpeg:https://prataspeles.com/wp-content/uploads/2024/11/Blue-Modern-Minimalist-Artificial-Intelligence-Technology-Presentation-8-scaled.jpg
END:VEVENT
BEGIN:VEVENT
DTSTART;TZID=Europe/Riga:20241205T184500
DTEND;TZID=Europe/Riga:20241205T210000
DTSTAMP:20260420T013058
CREATED:20241121T140549Z
LAST-MODIFIED:20241121T140851Z
UID:10000312-1733424300-1733432400@prataspeles.com
SUMMARY:“Prāta Spēles” rudens/ziemas sezona\, 7. spēle
DESCRIPTION:Baudi kopā būšanas mirkļus izzinošā vidē kopā ar “Prāta Spēles” – pārbaudi savas zināšanas\, uzzini daudz ko jaunu un interesantu un izcili pavadi laiku!\n\n“Prāta Spēles” viktorīnas iekustina pelēkās šūniņas un rada veselīgu atkarību\, kas veicina smadzeņu darbību!\n\nMaksimālais dalībnieku skaits komandā – 6 personas.\n\nNorises vieta un laiks: “Prāta Spēles” spēļu zāle\, Blaumaņa iela 38/40\, 3. stāvs\, plkst. 18:45\n\nPiesakies: prataspeles@prataspeles.com\n\nPasākuma laikā apmeklētāji var tikt fotogrāfēti un filmēti. Iegūtie materiāli tiek izmantoti publiski.
URL:https://prataspeles.com/event/prata-speles-rudens-ziemas-sezona-7-spele/2024-12-05/
LOCATION:“Prāta Spēles” zāle\, Blaumaņa iela 38/40\, Rīga\, Latvia
CATEGORIES:Prāta spēles
ATTACH;FMTTYPE=image/jpeg:https://prataspeles.com/wp-content/uploads/2024/11/Blue-Modern-Minimalist-Artificial-Intelligence-Technology-Presentation-6-scaled.jpg
END:VEVENT
END:VCALENDAR