BEGIN:VCALENDAR
VERSION:2.0
PRODID:-//Prāta spēles - ECPv6.15.14//NONSGML v1.0//EN
CALSCALE:GREGORIAN
METHOD:PUBLISH
X-WR-CALNAME:Prāta spēles
X-ORIGINAL-URL:https://prataspeles.com
X-WR-CALDESC:Events for Prāta spēles
REFRESH-INTERVAL;VALUE=DURATION:PT1H
X-Robots-Tag:noindex
X-PUBLISHED-TTL:PT1H
BEGIN:VTIMEZONE
TZID:Europe/Riga
BEGIN:DAYLIGHT
TZOFFSETFROM:+0200
TZOFFSETTO:+0300
TZNAME:EEST
DTSTART:20250330T010000
END:DAYLIGHT
BEGIN:STANDARD
TZOFFSETFROM:+0300
TZOFFSETTO:+0200
TZNAME:EET
DTSTART:20251026T010000
END:STANDARD
BEGIN:DAYLIGHT
TZOFFSETFROM:+0200
TZOFFSETTO:+0300
TZNAME:EEST
DTSTART:20260329T010000
END:DAYLIGHT
BEGIN:STANDARD
TZOFFSETFROM:+0300
TZOFFSETTO:+0200
TZNAME:EET
DTSTART:20261025T010000
END:STANDARD
BEGIN:DAYLIGHT
TZOFFSETFROM:+0200
TZOFFSETTO:+0300
TZNAME:EEST
DTSTART:20270328T010000
END:DAYLIGHT
BEGIN:STANDARD
TZOFFSETFROM:+0300
TZOFFSETTO:+0200
TZNAME:EET
DTSTART:20271031T010000
END:STANDARD
END:VTIMEZONE
BEGIN:VEVENT
DTSTART;TZID=Europe/Riga:20260615T184500
DTEND;TZID=Europe/Riga:20260615T210000
DTSTAMP:20260422T141411
CREATED:20251202T085242Z
LAST-MODIFIED:20260225T100930Z
UID:10001010-1781549100-1781557200@prataspeles.com
SUMMARY:“Prāta Spēles” Pavasara sezona\, Cerību kauss 2
DESCRIPTION:🎯 Vieta: Blaumaņa iela 38/40\, 3. stāvs⏰ Laiks: 18:45
URL:https://prataspeles.com/event/prata-speles-pavasara-sezona2026-ceribu-kauss-2/
LOCATION:“Prāta Spēles” zāle\, Blaumaņa iela 38/40\, Rīga\, Latvia
CATEGORIES:Prāta spēles
END:VEVENT
BEGIN:VEVENT
DTSTART;TZID=Europe/Riga:20260617T184500
DTEND;TZID=Europe/Riga:20260617T184500
DTSTAMP:20260422T141411
CREATED:20251202T085529Z
LAST-MODIFIED:20260414T145504Z
UID:10001011-1781721900-1781721900@prataspeles.com
SUMMARY:“Prāta Spēles” Pavasara/Vasaras sezonas  - FINĀLS
DESCRIPTION:Tiekamies plkst. 18.45 Tallinas kvartāla Angārā.\nPavasara /Vasaras sezonas 2026 Finālā\, lai noskaidrotu šīs sezonas uzvarētājus!\n 
URL:https://prataspeles.com/event/prata-speles-pavasara-sezona2026-finals/
LOCATION:Tallinas kvartāla “Angārs”\, Tallinas iela 10-3\, Rīga
CATEGORIES:Prāta spēles
END:VEVENT
END:VCALENDAR