BEGIN:VCALENDAR
VERSION:2.0
PRODID:-//Prāta spēles - ECPv6.15.14//NONSGML v1.0//EN
CALSCALE:GREGORIAN
METHOD:PUBLISH
X-WR-CALNAME:Prāta spēles
X-ORIGINAL-URL:https://prataspeles.com
X-WR-CALDESC:Events for Prāta spēles
REFRESH-INTERVAL;VALUE=DURATION:PT1H
X-Robots-Tag:noindex
X-PUBLISHED-TTL:PT1H
BEGIN:VTIMEZONE
TZID:Europe/Riga
BEGIN:DAYLIGHT
TZOFFSETFROM:+0200
TZOFFSETTO:+0300
TZNAME:EEST
DTSTART:20250330T010000
END:DAYLIGHT
BEGIN:STANDARD
TZOFFSETFROM:+0300
TZOFFSETTO:+0200
TZNAME:EET
DTSTART:20251026T010000
END:STANDARD
BEGIN:DAYLIGHT
TZOFFSETFROM:+0200
TZOFFSETTO:+0300
TZNAME:EEST
DTSTART:20260329T010000
END:DAYLIGHT
BEGIN:STANDARD
TZOFFSETFROM:+0300
TZOFFSETTO:+0200
TZNAME:EET
DTSTART:20261025T010000
END:STANDARD
BEGIN:DAYLIGHT
TZOFFSETFROM:+0200
TZOFFSETTO:+0300
TZNAME:EEST
DTSTART:20270328T010000
END:DAYLIGHT
BEGIN:STANDARD
TZOFFSETFROM:+0300
TZOFFSETTO:+0200
TZNAME:EET
DTSTART:20271031T010000
END:STANDARD
END:VTIMEZONE
BEGIN:VEVENT
DTSTART;TZID=Europe/Riga:20260303T184500
DTEND;TZID=Europe/Riga:20260303T210000
DTSTAMP:20260422T025235
CREATED:20251201T120525Z
LAST-MODIFIED:20251201T120525Z
UID:10000992-1772563500-1772571600@prataspeles.com
SUMMARY:Prāta Spēles ziema/pavasaris sezona - 5.spēle
DESCRIPTION:Vai meklē kaut ko aizraujošu\, kas liks tavām smadzenēm strādāt pilnīgi citādā veidā? “Prāta Spēles” ir tava iespēja pacelties jaunos augstumos! Šeit zināšanas iegūst jaunu dzīvotspēju\, un katra pareiza atbilde tuvina tevi uzvarai.KĀDU PIEREDZI VARĒSI GAIDĪT:Jautājumi\, kas liks tev aplūkot pasauli no jaunas perspektīvasDraudzīga konkurence\, kas uzkarsēs asinis un uzlabos azartuSmiekli un negaidīti atklājumi katrā solīBalvas\, kas gaida savus čempionus\n Vieta: Blaumaņa iela 38/40\, 3. stāvs Laiks: 18:45 Komandas sastāvs: līdz 6 spēlētājiemPIESAKIES:  prataspeles@prataspeles.com vai www.prataspeles.com\nMūsu atbalstītāji: Pergalė | Delfi.lv | “Mezgls” | ACME Film Latvija | Vitabiotics Latvija “Neurozan” | GABI apavu veikali | Brain Games LV*Fotografēsim tavas uzvaras mirkļus un dalīsimies ar tiem publiski!DOMĀ DROSMĪGI – PIEŅEM IZAICINĀJUMU – IEGŪSTI NEAIZSTĀJAMU PIEREDZI!
URL:https://prataspeles.com/event/prata-speles-ziema-pavasaris-sezona-5-spele/
LOCATION:“Prāta Spēles” zāle\, Blaumaņa iela 38/40\, Rīga\, Latvia
CATEGORIES:Prāta spēles
END:VEVENT
BEGIN:VEVENT
DTSTART;TZID=Europe/Riga:20260305T184500
DTEND;TZID=Europe/Riga:20260305T210000
DTSTAMP:20260422T025235
CREATED:20251201T120604Z
LAST-MODIFIED:20251201T120604Z
UID:10000993-1772736300-1772744400@prataspeles.com
SUMMARY:Prāta Spēles ziema/pavasaris sezona - 5.spēle
DESCRIPTION:Vai meklē kaut ko aizraujošu\, kas liks tavām smadzenēm strādāt pilnīgi citādā veidā? “Prāta Spēles” ir tava iespēja pacelties jaunos augstumos! Šeit zināšanas iegūst jaunu dzīvotspēju\, un katra pareiza atbilde tuvina tevi uzvarai.KĀDU PIEREDZI VARĒSI GAIDĪT:Jautājumi\, kas liks tev aplūkot pasauli no jaunas perspektīvasDraudzīga konkurence\, kas uzkarsēs asinis un uzlabos azartuSmiekli un negaidīti atklājumi katrā solīBalvas\, kas gaida savus čempionus\n Vieta: Blaumaņa iela 38/40\, 3. stāvs Laiks: 18:45 Komandas sastāvs: līdz 6 spēlētājiemPIESAKIES:  prataspeles@prataspeles.com vai www.prataspeles.com\nMūsu atbalstītāji: Pergalė | Delfi.lv | “Mezgls” | ACME Film Latvija | Vitabiotics Latvija “Neurozan” | GABI apavu veikali | Brain Games LV*Fotografēsim tavas uzvaras mirkļus un dalīsimies ar tiem publiski!DOMĀ DROSMĪGI – PIEŅEM IZAICINĀJUMU – IEGŪSTI NEAIZSTĀJAMU PIEREDZI!
URL:https://prataspeles.com/event/prata-speles-ziema-pavasaris-sezona-5-spele-2/
LOCATION:“Prāta Spēles” zāle\, Blaumaņa iela 38/40\, Rīga\, Latvia
CATEGORIES:Prāta spēles
END:VEVENT
BEGIN:VEVENT
DTSTART;TZID=Europe/Riga:20260306T184500
DTEND;TZID=Europe/Riga:20260306T210000
DTSTAMP:20260422T025235
CREATED:20251201T120632Z
LAST-MODIFIED:20251201T120632Z
UID:10000994-1772822700-1772830800@prataspeles.com
SUMMARY:Prāta Spēles ziema/pavasaris sezona - 5.spēle
DESCRIPTION:Vai meklē kaut ko aizraujošu\, kas liks tavām smadzenēm strādāt pilnīgi citādā veidā? “Prāta Spēles” ir tava iespēja pacelties jaunos augstumos! Šeit zināšanas iegūst jaunu dzīvotspēju\, un katra pareiza atbilde tuvina tevi uzvarai.KĀDU PIEREDZI VARĒSI GAIDĪT:Jautājumi\, kas liks tev aplūkot pasauli no jaunas perspektīvasDraudzīga konkurence\, kas uzkarsēs asinis un uzlabos azartuSmiekli un negaidīti atklājumi katrā solīBalvas\, kas gaida savus čempionus\n Vieta: Blaumaņa iela 38/40\, 3. stāvs Laiks: 18:45 Komandas sastāvs: līdz 6 spēlētājiemPIESAKIES:  prataspeles@prataspeles.com vai www.prataspeles.com\nMūsu atbalstītāji: Pergalė | Delfi.lv | “Mezgls” | ACME Film Latvija | Vitabiotics Latvija “Neurozan” | GABI apavu veikali | Brain Games LV*Fotografēsim tavas uzvaras mirkļus un dalīsimies ar tiem publiski!DOMĀ DROSMĪGI – PIEŅEM IZAICINĀJUMU – IEGŪSTI NEAIZSTĀJAMU PIEREDZI!
URL:https://prataspeles.com/event/prata-speles-ziema-pavasaris-sezona-5-spele-3/
LOCATION:“Prāta Spēles” zāle\, Blaumaņa iela 38/40\, Rīga\, Latvia
CATEGORIES:Prāta spēles
END:VEVENT
BEGIN:VEVENT
DTSTART;TZID=Europe/Riga:20260309T184500
DTEND;TZID=Europe/Riga:20260309T210000
DTSTAMP:20260422T025235
CREATED:20251201T120657Z
LAST-MODIFIED:20251201T120657Z
UID:10000995-1773081900-1773090000@prataspeles.com
SUMMARY:Prāta Spēles ziema/pavasaris sezona - 5.spēle
DESCRIPTION:Vai meklē kaut ko aizraujošu\, kas liks tavām smadzenēm strādāt pilnīgi citādā veidā? “Prāta Spēles” ir tava iespēja pacelties jaunos augstumos! Šeit zināšanas iegūst jaunu dzīvotspēju\, un katra pareiza atbilde tuvina tevi uzvarai.KĀDU PIEREDZI VARĒSI GAIDĪT:Jautājumi\, kas liks tev aplūkot pasauli no jaunas perspektīvasDraudzīga konkurence\, kas uzkarsēs asinis un uzlabos azartuSmiekli un negaidīti atklājumi katrā solīBalvas\, kas gaida savus čempionus\n Vieta: Blaumaņa iela 38/40\, 3. stāvs Laiks: 18:45 Komandas sastāvs: līdz 6 spēlētājiemPIESAKIES:  prataspeles@prataspeles.com vai www.prataspeles.com\nMūsu atbalstītāji: Pergalė | Delfi.lv | “Mezgls” | ACME Film Latvija | Vitabiotics Latvija “Neurozan” | GABI apavu veikali | Brain Games LV*Fotografēsim tavas uzvaras mirkļus un dalīsimies ar tiem publiski!DOMĀ DROSMĪGI – PIEŅEM IZAICINĀJUMU – IEGŪSTI NEAIZSTĀJAMU PIEREDZI!
URL:https://prataspeles.com/event/prata-speles-ziema-pavasaris-sezona-5-spele-4/
LOCATION:“Prāta Spēles” zāle\, Blaumaņa iela 38/40\, Rīga\, Latvia
CATEGORIES:Prāta spēles
END:VEVENT
BEGIN:VEVENT
DTSTART;TZID=Europe/Riga:20260310T184500
DTEND;TZID=Europe/Riga:20260310T210000
DTSTAMP:20260422T025235
CREATED:20251201T120726Z
LAST-MODIFIED:20251201T120726Z
UID:10000996-1773168300-1773176400@prataspeles.com
SUMMARY:Prāta Spēles ziema/pavasaris sezona - 5.spēle
DESCRIPTION:Vai meklē kaut ko aizraujošu\, kas liks tavām smadzenēm strādāt pilnīgi citādā veidā? “Prāta Spēles” ir tava iespēja pacelties jaunos augstumos! Šeit zināšanas iegūst jaunu dzīvotspēju\, un katra pareiza atbilde tuvina tevi uzvarai.KĀDU PIEREDZI VARĒSI GAIDĪT:Jautājumi\, kas liks tev aplūkot pasauli no jaunas perspektīvasDraudzīga konkurence\, kas uzkarsēs asinis un uzlabos azartuSmiekli un negaidīti atklājumi katrā solīBalvas\, kas gaida savus čempionus\n Vieta: Blaumaņa iela 38/40\, 3. stāvs Laiks: 18:45 Komandas sastāvs: līdz 6 spēlētājiemPIESAKIES:  prataspeles@prataspeles.com vai www.prataspeles.com\nMūsu atbalstītāji: Pergalė | Delfi.lv | “Mezgls” | ACME Film Latvija | Vitabiotics Latvija “Neurozan” | GABI apavu veikali | Brain Games LV*Fotografēsim tavas uzvaras mirkļus un dalīsimies ar tiem publiski!DOMĀ DROSMĪGI – PIEŅEM IZAICINĀJUMU – IEGŪSTI NEAIZSTĀJAMU PIEREDZI!
URL:https://prataspeles.com/event/prata-speles-ziema-pavasaris-sezona-5-spele-5/
LOCATION:“Prāta Spēles” zāle\, Blaumaņa iela 38/40\, Rīga\, Latvia
CATEGORIES:Prāta spēles
END:VEVENT
BEGIN:VEVENT
DTSTART;TZID=Europe/Riga:20260311T184500
DTEND;TZID=Europe/Riga:20260311T210000
DTSTAMP:20260422T025235
CREATED:20251201T120800Z
LAST-MODIFIED:20251201T120800Z
UID:10000997-1773254700-1773262800@prataspeles.com
SUMMARY:Prāta Spēles ziema/pavasaris sezona - 5.spēle
DESCRIPTION:Vai meklē kaut ko aizraujošu\, kas liks tavām smadzenēm strādāt pilnīgi citādā veidā? “Prāta Spēles” ir tava iespēja pacelties jaunos augstumos! Šeit zināšanas iegūst jaunu dzīvotspēju\, un katra pareiza atbilde tuvina tevi uzvarai.KĀDU PIEREDZI VARĒSI GAIDĪT:Jautājumi\, kas liks tev aplūkot pasauli no jaunas perspektīvasDraudzīga konkurence\, kas uzkarsēs asinis un uzlabos azartuSmiekli un negaidīti atklājumi katrā solīBalvas\, kas gaida savus čempionus\n Vieta: Blaumaņa iela 38/40\, 3. stāvs Laiks: 18:45 Komandas sastāvs: līdz 6 spēlētājiemPIESAKIES:  prataspeles@prataspeles.com vai www.prataspeles.com\nMūsu atbalstītāji: Pergalė | Delfi.lv | “Mezgls” | ACME Film Latvija | Vitabiotics Latvija “Neurozan” | GABI apavu veikali | Brain Games LV*Fotografēsim tavas uzvaras mirkļus un dalīsimies ar tiem publiski!DOMĀ DROSMĪGI – PIEŅEM IZAICINĀJUMU – IEGŪSTI NEAIZSTĀJAMU PIEREDZI!
URL:https://prataspeles.com/event/prata-speles-ziema-pavasaris-sezona-5-spele-6/
LOCATION:“Prāta Spēles” zāle\, Blaumaņa iela 38/40\, Rīga\, Latvia
CATEGORIES:Prāta spēles
END:VEVENT
BEGIN:VEVENT
DTSTART;TZID=Europe/Riga:20260312T184500
DTEND;TZID=Europe/Riga:20260312T210000
DTSTAMP:20260422T025235
CREATED:20251201T120825Z
LAST-MODIFIED:20251201T120825Z
UID:10000998-1773341100-1773349200@prataspeles.com
SUMMARY:Prāta Spēles ziema/pavasaris sezona - 5.spēle
DESCRIPTION:Vai meklē kaut ko aizraujošu\, kas liks tavām smadzenēm strādāt pilnīgi citādā veidā? “Prāta Spēles” ir tava iespēja pacelties jaunos augstumos! Šeit zināšanas iegūst jaunu dzīvotspēju\, un katra pareiza atbilde tuvina tevi uzvarai.KĀDU PIEREDZI VARĒSI GAIDĪT:Jautājumi\, kas liks tev aplūkot pasauli no jaunas perspektīvasDraudzīga konkurence\, kas uzkarsēs asinis un uzlabos azartuSmiekli un negaidīti atklājumi katrā solīBalvas\, kas gaida savus čempionus\n Vieta: Blaumaņa iela 38/40\, 3. stāvs Laiks: 18:45 Komandas sastāvs: līdz 6 spēlētājiemPIESAKIES:  prataspeles@prataspeles.com vai www.prataspeles.com\nMūsu atbalstītāji: Pergalė | Delfi.lv | “Mezgls” | ACME Film Latvija | Vitabiotics Latvija “Neurozan” | GABI apavu veikali | Brain Games LV*Fotografēsim tavas uzvaras mirkļus un dalīsimies ar tiem publiski!DOMĀ DROSMĪGI – PIEŅEM IZAICINĀJUMU – IEGŪSTI NEAIZSTĀJAMU PIEREDZI!
URL:https://prataspeles.com/event/prata-speles-ziema-pavasaris-sezona-5-spele-7/
LOCATION:“Prāta Spēles” zāle\, Blaumaņa iela 38/40\, Rīga\, Latvia
CATEGORIES:Prāta spēles
END:VEVENT
BEGIN:VEVENT
DTSTART;TZID=Europe/Riga:20260317T184500
DTEND;TZID=Europe/Riga:20260317T210000
DTSTAMP:20260422T025235
CREATED:20251202T083846Z
LAST-MODIFIED:20251202T083846Z
UID:10000999-1773773100-1773781200@prataspeles.com
SUMMARY:Prāta Spēles ziema/pavasaris sezona - 6.spēle
DESCRIPTION:Vai meklē kaut ko aizraujošu\, kas liks tavām smadzenēm strādāt pilnīgi citādā veidā? “Prāta Spēles” ir tava iespēja pacelties jaunos augstumos! Šeit zināšanas iegūst jaunu dzīvotspēju\, un katra pareiza atbilde tuvina tevi uzvarai.KĀDU PIEREDZI VARĒSI GAIDĪT:Jautājumi\, kas liks tev aplūkot pasauli no jaunas perspektīvasDraudzīga konkurence\, kas uzkarsēs asinis un uzlabos azartuSmiekli un negaidīti atklājumi katrā solīBalvas\, kas gaida savus čempionus\n Vieta: Blaumaņa iela 38/40\, 3. stāvs Laiks: 18:45 Komandas sastāvs: līdz 6 spēlētājiemPIESAKIES:  prataspeles@prataspeles.com vai www.prataspeles.com\nMūsu atbalstītāji: Pergalė | Delfi.lv | “Mezgls” | ACME Film Latvija | Vitabiotics Latvija “Neurozan” | GABI apavu veikali | Brain Games LV*Fotografēsim tavas uzvaras mirkļus un dalīsimies ar tiem publiski!DOMĀ DROSMĪGI – PIEŅEM IZAICINĀJUMU – IEGŪSTI NEAIZSTĀJAMU PIEREDZI!
URL:https://prataspeles.com/event/prata-speles-ziema-pavasaris-sezona-6-spele/
LOCATION:“Prāta Spēles” zāle\, Blaumaņa iela 38/40\, Rīga\, Latvia
CATEGORIES:Prāta spēles
END:VEVENT
BEGIN:VEVENT
DTSTART;TZID=Europe/Riga:20260319T184500
DTEND;TZID=Europe/Riga:20260319T210000
DTSTAMP:20260422T025235
CREATED:20251202T083915Z
LAST-MODIFIED:20251202T083915Z
UID:10001000-1773945900-1773954000@prataspeles.com
SUMMARY:Prāta Spēles ziema/pavasaris sezona - 6.spēle
DESCRIPTION:Vai meklē kaut ko aizraujošu\, kas liks tavām smadzenēm strādāt pilnīgi citādā veidā? “Prāta Spēles” ir tava iespēja pacelties jaunos augstumos! Šeit zināšanas iegūst jaunu dzīvotspēju\, un katra pareiza atbilde tuvina tevi uzvarai.KĀDU PIEREDZI VARĒSI GAIDĪT:Jautājumi\, kas liks tev aplūkot pasauli no jaunas perspektīvasDraudzīga konkurence\, kas uzkarsēs asinis un uzlabos azartuSmiekli un negaidīti atklājumi katrā solīBalvas\, kas gaida savus čempionus\n Vieta: Blaumaņa iela 38/40\, 3. stāvs Laiks: 18:45 Komandas sastāvs: līdz 6 spēlētājiemPIESAKIES:  prataspeles@prataspeles.com vai www.prataspeles.com\nMūsu atbalstītāji: Pergalė | Delfi.lv | “Mezgls” | ACME Film Latvija | Vitabiotics Latvija “Neurozan” | GABI apavu veikali | Brain Games LV*Fotografēsim tavas uzvaras mirkļus un dalīsimies ar tiem publiski!DOMĀ DROSMĪGI – PIEŅEM IZAICINĀJUMU – IEGŪSTI NEAIZSTĀJAMU PIEREDZI!
URL:https://prataspeles.com/event/prata-speles-ziema-pavasaris-sezona-6-spele-2/
LOCATION:“Prāta Spēles” zāle\, Blaumaņa iela 38/40\, Rīga\, Latvia
CATEGORIES:Prāta spēles
END:VEVENT
BEGIN:VEVENT
DTSTART;TZID=Europe/Riga:20260320T184500
DTEND;TZID=Europe/Riga:20260320T210000
DTSTAMP:20260422T025235
CREATED:20251202T083938Z
LAST-MODIFIED:20251202T083938Z
UID:10001001-1774032300-1774040400@prataspeles.com
SUMMARY:Prāta Spēles ziema/pavasaris sezona - 6.spēle
DESCRIPTION:Vai meklē kaut ko aizraujošu\, kas liks tavām smadzenēm strādāt pilnīgi citādā veidā? “Prāta Spēles” ir tava iespēja pacelties jaunos augstumos! Šeit zināšanas iegūst jaunu dzīvotspēju\, un katra pareiza atbilde tuvina tevi uzvarai.KĀDU PIEREDZI VARĒSI GAIDĪT:Jautājumi\, kas liks tev aplūkot pasauli no jaunas perspektīvasDraudzīga konkurence\, kas uzkarsēs asinis un uzlabos azartuSmiekli un negaidīti atklājumi katrā solīBalvas\, kas gaida savus čempionus\n Vieta: Blaumaņa iela 38/40\, 3. stāvs Laiks: 18:45 Komandas sastāvs: līdz 6 spēlētājiemPIESAKIES:  prataspeles@prataspeles.com vai www.prataspeles.com\nMūsu atbalstītāji: Pergalė | Delfi.lv | “Mezgls” | ACME Film Latvija | Vitabiotics Latvija “Neurozan” | GABI apavu veikali | Brain Games LV*Fotografēsim tavas uzvaras mirkļus un dalīsimies ar tiem publiski!DOMĀ DROSMĪGI – PIEŅEM IZAICINĀJUMU – IEGŪSTI NEAIZSTĀJAMU PIEREDZI!
URL:https://prataspeles.com/event/prata-speles-ziema-pavasaris-sezona-6-spele-3/
LOCATION:“Prāta Spēles” zāle\, Blaumaņa iela 38/40\, Rīga\, Latvia
CATEGORIES:Prāta spēles
END:VEVENT
BEGIN:VEVENT
DTSTART;TZID=Europe/Riga:20260323T184500
DTEND;TZID=Europe/Riga:20260323T210000
DTSTAMP:20260422T025235
CREATED:20251202T084007Z
LAST-MODIFIED:20251202T084007Z
UID:10001002-1774291500-1774299600@prataspeles.com
SUMMARY:Prāta Spēles ziema/pavasaris sezona - 6.spēle
DESCRIPTION:Vai meklē kaut ko aizraujošu\, kas liks tavām smadzenēm strādāt pilnīgi citādā veidā? “Prāta Spēles” ir tava iespēja pacelties jaunos augstumos! Šeit zināšanas iegūst jaunu dzīvotspēju\, un katra pareiza atbilde tuvina tevi uzvarai.KĀDU PIEREDZI VARĒSI GAIDĪT:Jautājumi\, kas liks tev aplūkot pasauli no jaunas perspektīvasDraudzīga konkurence\, kas uzkarsēs asinis un uzlabos azartuSmiekli un negaidīti atklājumi katrā solīBalvas\, kas gaida savus čempionus\n Vieta: Blaumaņa iela 38/40\, 3. stāvs Laiks: 18:45 Komandas sastāvs: līdz 6 spēlētājiemPIESAKIES:  prataspeles@prataspeles.com vai www.prataspeles.com\nMūsu atbalstītāji: Pergalė | Delfi.lv | “Mezgls” | ACME Film Latvija | Vitabiotics Latvija “Neurozan” | GABI apavu veikali | Brain Games LV*Fotografēsim tavas uzvaras mirkļus un dalīsimies ar tiem publiski!DOMĀ DROSMĪGI – PIEŅEM IZAICINĀJUMU – IEGŪSTI NEAIZSTĀJAMU PIEREDZI!
URL:https://prataspeles.com/event/prata-speles-ziema-pavasaris-sezona-6-spele-4/
LOCATION:“Prāta Spēles” zāle\, Blaumaņa iela 38/40\, Rīga\, Latvia
CATEGORIES:Prāta spēles
END:VEVENT
BEGIN:VEVENT
DTSTART;TZID=Europe/Riga:20260324T184500
DTEND;TZID=Europe/Riga:20260324T210000
DTSTAMP:20260422T025235
CREATED:20251202T084030Z
LAST-MODIFIED:20251202T084030Z
UID:10001003-1774377900-1774386000@prataspeles.com
SUMMARY:Prāta Spēles ziema/pavasaris sezona - 6.spēle
DESCRIPTION:Vai meklē kaut ko aizraujošu\, kas liks tavām smadzenēm strādāt pilnīgi citādā veidā? “Prāta Spēles” ir tava iespēja pacelties jaunos augstumos! Šeit zināšanas iegūst jaunu dzīvotspēju\, un katra pareiza atbilde tuvina tevi uzvarai.KĀDU PIEREDZI VARĒSI GAIDĪT:Jautājumi\, kas liks tev aplūkot pasauli no jaunas perspektīvasDraudzīga konkurence\, kas uzkarsēs asinis un uzlabos azartuSmiekli un negaidīti atklājumi katrā solīBalvas\, kas gaida savus čempionus\n Vieta: Blaumaņa iela 38/40\, 3. stāvs Laiks: 18:45 Komandas sastāvs: līdz 6 spēlētājiemPIESAKIES:  prataspeles@prataspeles.com vai www.prataspeles.com\nMūsu atbalstītāji: Pergalė | Delfi.lv | “Mezgls” | ACME Film Latvija | Vitabiotics Latvija “Neurozan” | GABI apavu veikali | Brain Games LV*Fotografēsim tavas uzvaras mirkļus un dalīsimies ar tiem publiski!DOMĀ DROSMĪGI – PIEŅEM IZAICINĀJUMU – IEGŪSTI NEAIZSTĀJAMU PIEREDZI!
URL:https://prataspeles.com/event/prata-speles-ziema-pavasaris-sezona-6-spele-5/
LOCATION:“Prāta Spēles” zāle\, Blaumaņa iela 38/40\, Rīga\, Latvia
CATEGORIES:Prāta spēles
END:VEVENT
BEGIN:VEVENT
DTSTART;TZID=Europe/Riga:20260325T184500
DTEND;TZID=Europe/Riga:20260325T210000
DTSTAMP:20260422T025235
CREATED:20251202T084144Z
LAST-MODIFIED:20251202T084144Z
UID:10001004-1774464300-1774472400@prataspeles.com
SUMMARY:Prāta Spēles ziema/pavasaris sezona - 6.spēle
DESCRIPTION:Vai meklē kaut ko aizraujošu\, kas liks tavām smadzenēm strādāt pilnīgi citādā veidā? “Prāta Spēles” ir tava iespēja pacelties jaunos augstumos! Šeit zināšanas iegūst jaunu dzīvotspēju\, un katra pareiza atbilde tuvina tevi uzvarai.KĀDU PIEREDZI VARĒSI GAIDĪT:Jautājumi\, kas liks tev aplūkot pasauli no jaunas perspektīvasDraudzīga konkurence\, kas uzkarsēs asinis un uzlabos azartuSmiekli un negaidīti atklājumi katrā solīBalvas\, kas gaida savus čempionus\n Vieta: Blaumaņa iela 38/40\, 3. stāvs Laiks: 18:45 Komandas sastāvs: līdz 6 spēlētājiemPIESAKIES:  prataspeles@prataspeles.com vai www.prataspeles.com\nMūsu atbalstītāji: Pergalė | Delfi.lv | “Mezgls” | ACME Film Latvija | Vitabiotics Latvija “Neurozan” | GABI apavu veikali | Brain Games LV*Fotografēsim tavas uzvaras mirkļus un dalīsimies ar tiem publiski!DOMĀ DROSMĪGI – PIEŅEM IZAICINĀJUMU – IEGŪSTI NEAIZSTĀJAMU PIEREDZI!
URL:https://prataspeles.com/event/prata-speles-ziema-pavasaris-sezona-6-spele-6/
LOCATION:“Prāta Spēles” zāle\, Blaumaņa iela 38/40\, Rīga\, Latvia
CATEGORIES:Prāta spēles
END:VEVENT
BEGIN:VEVENT
DTSTART;TZID=Europe/Riga:20260326T184500
DTEND;TZID=Europe/Riga:20260326T210000
DTSTAMP:20260422T025235
CREATED:20251202T084215Z
LAST-MODIFIED:20251202T084215Z
UID:10001005-1774550700-1774558800@prataspeles.com
SUMMARY:Prāta Spēles ziema/pavasaris sezona - 6.spēle
DESCRIPTION:Vai meklē kaut ko aizraujošu\, kas liks tavām smadzenēm strādāt pilnīgi citādā veidā? “Prāta Spēles” ir tava iespēja pacelties jaunos augstumos! Šeit zināšanas iegūst jaunu dzīvotspēju\, un katra pareiza atbilde tuvina tevi uzvarai.KĀDU PIEREDZI VARĒSI GAIDĪT:Jautājumi\, kas liks tev aplūkot pasauli no jaunas perspektīvasDraudzīga konkurence\, kas uzkarsēs asinis un uzlabos azartuSmiekli un negaidīti atklājumi katrā solīBalvas\, kas gaida savus čempionus\n Vieta: Blaumaņa iela 38/40\, 3. stāvs Laiks: 18:45 Komandas sastāvs: līdz 6 spēlētājiemPIESAKIES:  prataspeles@prataspeles.com vai www.prataspeles.com\nMūsu atbalstītāji: Pergalė | Delfi.lv | “Mezgls” | ACME Film Latvija | Vitabiotics Latvija “Neurozan” | GABI apavu veikali | Brain Games LV*Fotografēsim tavas uzvaras mirkļus un dalīsimies ar tiem publiski!DOMĀ DROSMĪGI – PIEŅEM IZAICINĀJUMU – IEGŪSTI NEAIZSTĀJAMU PIEREDZI!
URL:https://prataspeles.com/event/prata-speles-ziema-pavasaris-sezona-6-spele-7/
LOCATION:“Prāta Spēles” zāle\, Blaumaņa iela 38/40\, Rīga\, Latvia
CATEGORIES:Prāta spēles
END:VEVENT
BEGIN:VEVENT
DTSTART;TZID=Europe/Riga:20260327T190000
DTEND;TZID=Europe/Riga:20260327T190000
DTSTAMP:20260422T025235
CREATED:20260312T084848Z
LAST-MODIFIED:20260312T090710Z
UID:10001101-1774638000-1774638000@prataspeles.com
SUMMARY:QUIZ 2.sezona | PRĀTA SPĒLES BALAUMANĪ
DESCRIPTION:Piesaki komandu\, ieņem vietu pie spēles galda un iespējams tieši tava komanda būs tā\, kura plūks uzvaras laurus un slavu. \nRadoši aizvadījuši košas BLAUMAŅA ziemas NOMAS brīvdienas\, esam gatavi atkal vērt durvis vislieliskākajai publikai\, azartiskākajiem notikumiem un skaistākajiem koncertiem.\nJaunais gads BLAUMANĪ ienāk kā spilgts un drosmīgs turpinājums stāstam\, kuru kopā ar jums sarakstījām rokrakstā\, kas prot svinēt dzīvi ar saturu.\nTā būs atgriešanās pie iemīļotā\, solis nezināmajā\, sarunas pieredzē\, pārsteigumi mūzikā\, brīvība dejās\, šoks unikalitātē un visam pāri mīlestība viesmīlībā! \nPavisam drīz stāstīsim visus pavasara jaunumus\, bet sākam ar labu tradīciju – BLAUMAŅA QUIZ 2. sezonas vol.2.\nNoteikumi nemainīgi!\nDalībnieku sastāvs un skaits drīkst mainīties no spēles uz spēli\, nepārsniedzot maksimāli atļauto – 6 spēlētāji.\nGalvenais ir godīga spēle\, komandas gars un vēlme forši pavadīt laiku!\nKomandu piesaki\, zvanot T-26555609 \nArī jautājumi\, tāpat kā pērn\, dziļā slepenībā tiek turēti “Prāta Spēļu” profesionāļu rokās.\nNav noskaņojuma mesties gudrību līkločos? Nāc atbalstīt un baudīt vakara atmosfēru! \n.\nDurvis vaļā no 19:00\nViktorīna 20:00\nPēc spēles\, protams\, dejas un kokteiļi!\nBārā gudrie kokteiļi un ĢIRTS\nBiļetes platformā “Biļešu Paradīze” un kultūrvietā BLAUMANIS 🤎 \nPasākuma laikā var tikt filmēts un fotografēts. Video un foto materiāli var tikt izmantoti pasākuma organizatora publicitātes materiālos.
URL:https://prataspeles.com/event/quiz-2-sezona-prata-speles-balaumani/
CATEGORIES:Prāta spēles
ATTACH;FMTTYPE=image/jpeg:https://prataspeles.com/wp-content/uploads/2026/02/WhatsApp-Image-2026-02-26-at-11.08.00.jpeg
END:VEVENT
BEGIN:VEVENT
DTSTART;TZID=Europe/Riga:20260331T184500
DTEND;TZID=Europe/Riga:20260331T210000
DTSTAMP:20260422T025235
CREATED:20260218T091520Z
LAST-MODIFIED:20260218T091520Z
UID:10001059-1774982700-1774990800@prataspeles.com
SUMMARY:Prāta Spēles pavasara sezona - 7.spēle
DESCRIPTION:Vai meklē kaut ko aizraujošu\, kas liks tavām smadzenēm strādāt pilnīgi citādā veidā? “Prāta Spēles” ir tava iespēja pacelties jaunos augstumos! Šeit zināšanas iegūst jaunu dzīvotspēju\, un katra pareiza atbilde tuvina tevi uzvarai.KĀDU PIEREDZI VARĒSI GAIDĪT:Jautājumi\, kas liks tev aplūkot pasauli no jaunas perspektīvasDraudzīga konkurence\, kas uzkarsēs asinis un uzlabos azartuSmiekli un negaidīti atklājumi katrā solīBalvas\, kas gaida savus čempionus\n Vieta: Blaumaņa iela 38/40\, 3. stāvs Laiks: 18:45 Komandas sastāvs: līdz 6 spēlētājiemPIESAKIES:  prataspeles@prataspeles.com vai www.prataspeles.com\nMūsu atbalstītāji: Pergalė | Delfi.lv | “Mezgls” | ACME Film Latvija | Vitabiotics Latvija “Neurozan” | GABI apavu veikali | Brain Games LV*Fotografēsim tavas uzvaras mirkļus un dalīsimies ar tiem publiski!DOMĀ DROSMĪGI – PIEŅEM IZAICINĀJUMU – IEGŪSTI NEAIZSTĀJAMU PIEREDZI!
URL:https://prataspeles.com/event/prata-speles-pavasaris-sezona-7-spele/
LOCATION:“Prāta Spēles” zāle\, Blaumaņa iela 38/40\, Rīga\, Latvia
CATEGORIES:Prāta spēles
END:VEVENT
END:VCALENDAR