BEGIN:VCALENDAR
VERSION:2.0
PRODID:-//Prāta spēles - ECPv6.15.14//NONSGML v1.0//EN
CALSCALE:GREGORIAN
METHOD:PUBLISH
X-ORIGINAL-URL:https://prataspeles.com
X-WR-CALDESC:Events for Prāta spēles
REFRESH-INTERVAL;VALUE=DURATION:PT1H
X-Robots-Tag:noindex
X-PUBLISHED-TTL:PT1H
BEGIN:VTIMEZONE
TZID:Europe/Riga
BEGIN:DAYLIGHT
TZOFFSETFROM:+0200
TZOFFSETTO:+0300
TZNAME:EEST
DTSTART:20240331T010000
END:DAYLIGHT
BEGIN:STANDARD
TZOFFSETFROM:+0300
TZOFFSETTO:+0200
TZNAME:EET
DTSTART:20241027T010000
END:STANDARD
BEGIN:DAYLIGHT
TZOFFSETFROM:+0200
TZOFFSETTO:+0300
TZNAME:EEST
DTSTART:20250330T010000
END:DAYLIGHT
BEGIN:STANDARD
TZOFFSETFROM:+0300
TZOFFSETTO:+0200
TZNAME:EET
DTSTART:20251026T010000
END:STANDARD
BEGIN:DAYLIGHT
TZOFFSETFROM:+0200
TZOFFSETTO:+0300
TZNAME:EEST
DTSTART:20260329T010000
END:DAYLIGHT
BEGIN:STANDARD
TZOFFSETFROM:+0300
TZOFFSETTO:+0200
TZNAME:EET
DTSTART:20261025T010000
END:STANDARD
END:VTIMEZONE
BEGIN:VEVENT
DTSTART;TZID=Europe/Riga:20250506T184500
DTEND;TZID=Europe/Riga:20250506T210000
DTSTAMP:20260422T172041
CREATED:20250326T105035Z
LAST-MODIFIED:20250402T151818Z
UID:10000789-1746557100-1746565200@prataspeles.com
SUMMARY:“Prāta Spēles” Pavasara sezona – 9. spēle
DESCRIPTION:MAINI SAVU DOMĀŠANU! 🚀\n“Prāta Spēles” – tas nav tikai vakars\, tas ir piedzīvojums! \nTevi gaida ne tikai jautājumi – tevi gaida emocijas\, atklājumi un prāta izaicinājumi\, kas paliek atmiņā. Katrs vakars ir jauns stāsts\, un katra atbilde var būt negaidīts pārsteigums! \nKĀPĒC IZVĒLĒTIES MŪS?\n🌟 Unikāli un asprātīgi jautājumi🌟 Silta\, draudzīga atmosfēra🌟 Vērtīgas un pārsteidzošas balvas🌟 Smiekli\, azarts un neaizmirstamas atmiņas \nKO TU IEGŪSI?\n🧠 Zināšanas\, ko izmantosi vēl ilgi🎉 Forši pavadītu vakaru👫 Jaunus draugus vai stiprāku komandu⚡ Veselīgu devu adrenalīna un azarta \nINFORMĀCIJA:\n📍 Adrese: Blaumaņa 38/40 (3. stāvs)🕠 Sākums: 18:45👥 Komandas lielums: 2–6 spēlētāji \n📩 PIETEIKŠANĀS: prataspeles@prataspeles.com \nMŪSU DRAUGI UN ATBALSTĪTĀJI:\n• Pergalė• Delfi• Mezgls• ACME• Neurozan• GABI• Brain Games \n📸 Vakari tiek iemūžināti – esi gatavs uzsmaidīt kamerai! \nIZVĒLIES PRĀTA SPĒLI – IZVĒLIES VAKARU\, KAS IEDVESMO!#PrātaSpēles #Viktorīna #Erudīcija #Izklaide #prataspeles
URL:https://prataspeles.com/event/prata-speles-pavasara-sezona-9-spele/2025-05-06/
LOCATION:“Prāta Spēles” zāle\, Blaumaņa iela 38/40\, Rīga\, Latvia
CATEGORIES:Prāta spēles
END:VEVENT
BEGIN:VEVENT
DTSTART;TZID=Europe/Riga:20250507T184500
DTEND;TZID=Europe/Riga:20250507T210000
DTSTAMP:20260422T172041
CREATED:20250326T105035Z
LAST-MODIFIED:20250402T151818Z
UID:10000790-1746643500-1746651600@prataspeles.com
SUMMARY:“Prāta Spēles” Pavasara sezona – 9. spēle
DESCRIPTION:MAINI SAVU DOMĀŠANU! 🚀\n“Prāta Spēles” – tas nav tikai vakars\, tas ir piedzīvojums! \nTevi gaida ne tikai jautājumi – tevi gaida emocijas\, atklājumi un prāta izaicinājumi\, kas paliek atmiņā. Katrs vakars ir jauns stāsts\, un katra atbilde var būt negaidīts pārsteigums! \nKĀPĒC IZVĒLĒTIES MŪS?\n🌟 Unikāli un asprātīgi jautājumi🌟 Silta\, draudzīga atmosfēra🌟 Vērtīgas un pārsteidzošas balvas🌟 Smiekli\, azarts un neaizmirstamas atmiņas \nKO TU IEGŪSI?\n🧠 Zināšanas\, ko izmantosi vēl ilgi🎉 Forši pavadītu vakaru👫 Jaunus draugus vai stiprāku komandu⚡ Veselīgu devu adrenalīna un azarta \nINFORMĀCIJA:\n📍 Adrese: Blaumaņa 38/40 (3. stāvs)🕠 Sākums: 18:45👥 Komandas lielums: 2–6 spēlētāji \n📩 PIETEIKŠANĀS: prataspeles@prataspeles.com \nMŪSU DRAUGI UN ATBALSTĪTĀJI:\n• Pergalė• Delfi• Mezgls• ACME• Neurozan• GABI• Brain Games \n📸 Vakari tiek iemūžināti – esi gatavs uzsmaidīt kamerai! \nIZVĒLIES PRĀTA SPĒLI – IZVĒLIES VAKARU\, KAS IEDVESMO!#PrātaSpēles #Viktorīna #Erudīcija #Izklaide #prataspeles
URL:https://prataspeles.com/event/prata-speles-pavasara-sezona-9-spele/2025-05-07/
LOCATION:“Prāta Spēles” zāle\, Blaumaņa iela 38/40\, Rīga\, Latvia
CATEGORIES:Prāta spēles
END:VEVENT
BEGIN:VEVENT
DTSTART;TZID=Europe/Riga:20250508T184500
DTEND;TZID=Europe/Riga:20250508T210000
DTSTAMP:20260422T172041
CREATED:20250326T105035Z
LAST-MODIFIED:20250402T151818Z
UID:10000791-1746729900-1746738000@prataspeles.com
SUMMARY:“Prāta Spēles” Pavasara sezona – 9. spēle
DESCRIPTION:MAINI SAVU DOMĀŠANU! 🚀\n“Prāta Spēles” – tas nav tikai vakars\, tas ir piedzīvojums! \nTevi gaida ne tikai jautājumi – tevi gaida emocijas\, atklājumi un prāta izaicinājumi\, kas paliek atmiņā. Katrs vakars ir jauns stāsts\, un katra atbilde var būt negaidīts pārsteigums! \nKĀPĒC IZVĒLĒTIES MŪS?\n🌟 Unikāli un asprātīgi jautājumi🌟 Silta\, draudzīga atmosfēra🌟 Vērtīgas un pārsteidzošas balvas🌟 Smiekli\, azarts un neaizmirstamas atmiņas \nKO TU IEGŪSI?\n🧠 Zināšanas\, ko izmantosi vēl ilgi🎉 Forši pavadītu vakaru👫 Jaunus draugus vai stiprāku komandu⚡ Veselīgu devu adrenalīna un azarta \nINFORMĀCIJA:\n📍 Adrese: Blaumaņa 38/40 (3. stāvs)🕠 Sākums: 18:45👥 Komandas lielums: 2–6 spēlētāji \n📩 PIETEIKŠANĀS: prataspeles@prataspeles.com \nMŪSU DRAUGI UN ATBALSTĪTĀJI:\n• Pergalė• Delfi• Mezgls• ACME• Neurozan• GABI• Brain Games \n📸 Vakari tiek iemūžināti – esi gatavs uzsmaidīt kamerai! \nIZVĒLIES PRĀTA SPĒLI – IZVĒLIES VAKARU\, KAS IEDVESMO!#PrātaSpēles #Viktorīna #Erudīcija #Izklaide #prataspeles
URL:https://prataspeles.com/event/prata-speles-pavasara-sezona-9-spele/2025-05-08/
LOCATION:“Prāta Spēles” zāle\, Blaumaņa iela 38/40\, Rīga\, Latvia
CATEGORIES:Prāta spēles
END:VEVENT
BEGIN:VEVENT
DTSTART;TZID=Europe/Riga:20250509T184500
DTEND;TZID=Europe/Riga:20250509T210000
DTSTAMP:20260422T172041
CREATED:20250326T105035Z
LAST-MODIFIED:20250402T151818Z
UID:10000792-1746816300-1746824400@prataspeles.com
SUMMARY:“Prāta Spēles” Pavasara sezona – 9. spēle
DESCRIPTION:MAINI SAVU DOMĀŠANU! 🚀\n“Prāta Spēles” – tas nav tikai vakars\, tas ir piedzīvojums! \nTevi gaida ne tikai jautājumi – tevi gaida emocijas\, atklājumi un prāta izaicinājumi\, kas paliek atmiņā. Katrs vakars ir jauns stāsts\, un katra atbilde var būt negaidīts pārsteigums! \nKĀPĒC IZVĒLĒTIES MŪS?\n🌟 Unikāli un asprātīgi jautājumi🌟 Silta\, draudzīga atmosfēra🌟 Vērtīgas un pārsteidzošas balvas🌟 Smiekli\, azarts un neaizmirstamas atmiņas \nKO TU IEGŪSI?\n🧠 Zināšanas\, ko izmantosi vēl ilgi🎉 Forši pavadītu vakaru👫 Jaunus draugus vai stiprāku komandu⚡ Veselīgu devu adrenalīna un azarta \nINFORMĀCIJA:\n📍 Adrese: Blaumaņa 38/40 (3. stāvs)🕠 Sākums: 18:45👥 Komandas lielums: 2–6 spēlētāji \n📩 PIETEIKŠANĀS: prataspeles@prataspeles.com \nMŪSU DRAUGI UN ATBALSTĪTĀJI:\n• Pergalė• Delfi• Mezgls• ACME• Neurozan• GABI• Brain Games \n📸 Vakari tiek iemūžināti – esi gatavs uzsmaidīt kamerai! \nIZVĒLIES PRĀTA SPĒLI – IZVĒLIES VAKARU\, KAS IEDVESMO!#PrātaSpēles #Viktorīna #Erudīcija #Izklaide #prataspeles
URL:https://prataspeles.com/event/prata-speles-pavasara-sezona-9-spele/2025-05-09/
LOCATION:“Prāta Spēles” zāle\, Blaumaņa iela 38/40\, Rīga\, Latvia
CATEGORIES:Prāta spēles
END:VEVENT
BEGIN:VEVENT
DTSTART;TZID=Europe/Riga:20250513T184500
DTEND;TZID=Europe/Riga:20250513T210000
DTSTAMP:20260422T172041
CREATED:20250410T084217Z
LAST-MODIFIED:20250410T084217Z
UID:10000803-1747161900-1747170000@prataspeles.com
SUMMARY:“Prāta Spēles” Pavasara sezona\, 10. spēle
DESCRIPTION:Vai meklē kaut ko aizraujošu\, kas liks tavām smadzenēm strādāt pilnīgi citādā veidā? “Prāta Spēles” ir tava iespēja pacelties jaunos augstumos! Šeit zināšanas iegūst jaunu dzīvotspēju\, un katra pareiza atbilde tuvina tevi uzvarai. \nKĀDU PIEREDZI VARĒSI GAIDĪT: \n\n\nJautājumi\, kas liks tev aplūkot pasauli no jaunas perspektīvas \n\n\nDraudzīga konkurence\, kas uzkarsēs asinis un uzlabos azartu \n\n\nSmiekli un negaidīti atklājumi katrā solī \n\n\nBalvas\, kas gaida savus čempionus \n\n\n🎯 Vieta: Blaumaņa iela 38/40\, 3. stāvs⏰ Laiks: 18:45🤝 Komandas lielums: līdz 6 spēlētājiem \nPIESAKIES: 📲 prataspeles@prataspeles.com \nMūsu atbalstītāji: Pergalė | Delfi.lv | “Mezgls” | ACME Film Latvija | Vitabiotics Latvia “Neurozan” | GABI apavu veikali | Brain Games LV \n*Fotografēsim tavas uzvaras mirkļus un dalīsimies ar tiem publiski! \nDOMĀ DROSĪGI – PIEŅEM IZAICINĀJUMU – IEGŪSTI NEAIZSTĀJAMU PIEREDZI! \n#PrātaSpēles #prataspeles #Izklaide #Viktorīna
URL:https://prataspeles.com/event/prata-speles-pavasara-sezona-10-spele/2025-05-13/
LOCATION:“Prāta Spēles” zāle\, Blaumaņa iela 38/40\, Rīga\, Latvia
CATEGORIES:Prāta spēles
ATTACH;FMTTYPE=image/jpeg:https://prataspeles.com/wp-content/uploads/2025/04/10.jpg
END:VEVENT
BEGIN:VEVENT
DTSTART;TZID=Europe/Riga:20250515T184500
DTEND;TZID=Europe/Riga:20250515T210000
DTSTAMP:20260422T172041
CREATED:20250410T084217Z
LAST-MODIFIED:20250410T084217Z
UID:10000804-1747334700-1747342800@prataspeles.com
SUMMARY:“Prāta Spēles” Pavasara sezona\, 10. spēle
DESCRIPTION:Vai meklē kaut ko aizraujošu\, kas liks tavām smadzenēm strādāt pilnīgi citādā veidā? “Prāta Spēles” ir tava iespēja pacelties jaunos augstumos! Šeit zināšanas iegūst jaunu dzīvotspēju\, un katra pareiza atbilde tuvina tevi uzvarai. \nKĀDU PIEREDZI VARĒSI GAIDĪT: \n\n\nJautājumi\, kas liks tev aplūkot pasauli no jaunas perspektīvas \n\n\nDraudzīga konkurence\, kas uzkarsēs asinis un uzlabos azartu \n\n\nSmiekli un negaidīti atklājumi katrā solī \n\n\nBalvas\, kas gaida savus čempionus \n\n\n🎯 Vieta: Blaumaņa iela 38/40\, 3. stāvs⏰ Laiks: 18:45🤝 Komandas lielums: līdz 6 spēlētājiem \nPIESAKIES: 📲 prataspeles@prataspeles.com \nMūsu atbalstītāji: Pergalė | Delfi.lv | “Mezgls” | ACME Film Latvija | Vitabiotics Latvia “Neurozan” | GABI apavu veikali | Brain Games LV \n*Fotografēsim tavas uzvaras mirkļus un dalīsimies ar tiem publiski! \nDOMĀ DROSĪGI – PIEŅEM IZAICINĀJUMU – IEGŪSTI NEAIZSTĀJAMU PIEREDZI! \n#PrātaSpēles #prataspeles #Izklaide #Viktorīna
URL:https://prataspeles.com/event/prata-speles-pavasara-sezona-10-spele/2025-05-15/
LOCATION:“Prāta Spēles” zāle\, Blaumaņa iela 38/40\, Rīga\, Latvia
CATEGORIES:Prāta spēles
ATTACH;FMTTYPE=image/jpeg:https://prataspeles.com/wp-content/uploads/2025/04/10.jpg
END:VEVENT
BEGIN:VEVENT
DTSTART;TZID=Europe/Riga:20250516T184500
DTEND;TZID=Europe/Riga:20250516T210000
DTSTAMP:20260422T172041
CREATED:20250410T084217Z
LAST-MODIFIED:20250410T084217Z
UID:10000805-1747421100-1747429200@prataspeles.com
SUMMARY:“Prāta Spēles” Pavasara sezona\, 10. spēle
DESCRIPTION:Vai meklē kaut ko aizraujošu\, kas liks tavām smadzenēm strādāt pilnīgi citādā veidā? “Prāta Spēles” ir tava iespēja pacelties jaunos augstumos! Šeit zināšanas iegūst jaunu dzīvotspēju\, un katra pareiza atbilde tuvina tevi uzvarai. \nKĀDU PIEREDZI VARĒSI GAIDĪT: \n\n\nJautājumi\, kas liks tev aplūkot pasauli no jaunas perspektīvas \n\n\nDraudzīga konkurence\, kas uzkarsēs asinis un uzlabos azartu \n\n\nSmiekli un negaidīti atklājumi katrā solī \n\n\nBalvas\, kas gaida savus čempionus \n\n\n🎯 Vieta: Blaumaņa iela 38/40\, 3. stāvs⏰ Laiks: 18:45🤝 Komandas lielums: līdz 6 spēlētājiem \nPIESAKIES: 📲 prataspeles@prataspeles.com \nMūsu atbalstītāji: Pergalė | Delfi.lv | “Mezgls” | ACME Film Latvija | Vitabiotics Latvia “Neurozan” | GABI apavu veikali | Brain Games LV \n*Fotografēsim tavas uzvaras mirkļus un dalīsimies ar tiem publiski! \nDOMĀ DROSĪGI – PIEŅEM IZAICINĀJUMU – IEGŪSTI NEAIZSTĀJAMU PIEREDZI! \n#PrātaSpēles #prataspeles #Izklaide #Viktorīna
URL:https://prataspeles.com/event/prata-speles-pavasara-sezona-10-spele/2025-05-16/
LOCATION:“Prāta Spēles” zāle\, Blaumaņa iela 38/40\, Rīga\, Latvia
CATEGORIES:Prāta spēles
ATTACH;FMTTYPE=image/jpeg:https://prataspeles.com/wp-content/uploads/2025/04/10.jpg
END:VEVENT
BEGIN:VEVENT
DTSTART;TZID=Europe/Riga:20250519T184500
DTEND;TZID=Europe/Riga:20250519T210000
DTSTAMP:20260422T172041
CREATED:20250410T084217Z
LAST-MODIFIED:20250410T084217Z
UID:10000806-1747680300-1747688400@prataspeles.com
SUMMARY:“Prāta Spēles” Pavasara sezona\, 10. spēle
DESCRIPTION:Vai meklē kaut ko aizraujošu\, kas liks tavām smadzenēm strādāt pilnīgi citādā veidā? “Prāta Spēles” ir tava iespēja pacelties jaunos augstumos! Šeit zināšanas iegūst jaunu dzīvotspēju\, un katra pareiza atbilde tuvina tevi uzvarai. \nKĀDU PIEREDZI VARĒSI GAIDĪT: \n\n\nJautājumi\, kas liks tev aplūkot pasauli no jaunas perspektīvas \n\n\nDraudzīga konkurence\, kas uzkarsēs asinis un uzlabos azartu \n\n\nSmiekli un negaidīti atklājumi katrā solī \n\n\nBalvas\, kas gaida savus čempionus \n\n\n🎯 Vieta: Blaumaņa iela 38/40\, 3. stāvs⏰ Laiks: 18:45🤝 Komandas lielums: līdz 6 spēlētājiem \nPIESAKIES: 📲 prataspeles@prataspeles.com \nMūsu atbalstītāji: Pergalė | Delfi.lv | “Mezgls” | ACME Film Latvija | Vitabiotics Latvia “Neurozan” | GABI apavu veikali | Brain Games LV \n*Fotografēsim tavas uzvaras mirkļus un dalīsimies ar tiem publiski! \nDOMĀ DROSĪGI – PIEŅEM IZAICINĀJUMU – IEGŪSTI NEAIZSTĀJAMU PIEREDZI! \n#PrātaSpēles #prataspeles #Izklaide #Viktorīna
URL:https://prataspeles.com/event/prata-speles-pavasara-sezona-10-spele/2025-05-19/
LOCATION:“Prāta Spēles” zāle\, Blaumaņa iela 38/40\, Rīga\, Latvia
CATEGORIES:Prāta spēles
ATTACH;FMTTYPE=image/jpeg:https://prataspeles.com/wp-content/uploads/2025/04/10.jpg
END:VEVENT
BEGIN:VEVENT
DTSTART;TZID=Europe/Riga:20250520T184500
DTEND;TZID=Europe/Riga:20250520T210000
DTSTAMP:20260422T172041
CREATED:20250410T084217Z
LAST-MODIFIED:20250410T084217Z
UID:10000807-1747766700-1747774800@prataspeles.com
SUMMARY:“Prāta Spēles” Pavasara sezona\, 10. spēle
DESCRIPTION:Vai meklē kaut ko aizraujošu\, kas liks tavām smadzenēm strādāt pilnīgi citādā veidā? “Prāta Spēles” ir tava iespēja pacelties jaunos augstumos! Šeit zināšanas iegūst jaunu dzīvotspēju\, un katra pareiza atbilde tuvina tevi uzvarai. \nKĀDU PIEREDZI VARĒSI GAIDĪT: \n\n\nJautājumi\, kas liks tev aplūkot pasauli no jaunas perspektīvas \n\n\nDraudzīga konkurence\, kas uzkarsēs asinis un uzlabos azartu \n\n\nSmiekli un negaidīti atklājumi katrā solī \n\n\nBalvas\, kas gaida savus čempionus \n\n\n🎯 Vieta: Blaumaņa iela 38/40\, 3. stāvs⏰ Laiks: 18:45🤝 Komandas lielums: līdz 6 spēlētājiem \nPIESAKIES: 📲 prataspeles@prataspeles.com \nMūsu atbalstītāji: Pergalė | Delfi.lv | “Mezgls” | ACME Film Latvija | Vitabiotics Latvia “Neurozan” | GABI apavu veikali | Brain Games LV \n*Fotografēsim tavas uzvaras mirkļus un dalīsimies ar tiem publiski! \nDOMĀ DROSĪGI – PIEŅEM IZAICINĀJUMU – IEGŪSTI NEAIZSTĀJAMU PIEREDZI! \n#PrātaSpēles #prataspeles #Izklaide #Viktorīna
URL:https://prataspeles.com/event/prata-speles-pavasara-sezona-10-spele/2025-05-20/
LOCATION:“Prāta Spēles” zāle\, Blaumaņa iela 38/40\, Rīga\, Latvia
CATEGORIES:Prāta spēles
ATTACH;FMTTYPE=image/jpeg:https://prataspeles.com/wp-content/uploads/2025/04/10.jpg
END:VEVENT
BEGIN:VEVENT
DTSTART;TZID=Europe/Riga:20250521T184500
DTEND;TZID=Europe/Riga:20250521T210000
DTSTAMP:20260422T172041
CREATED:20250410T084217Z
LAST-MODIFIED:20250410T084217Z
UID:10000808-1747853100-1747861200@prataspeles.com
SUMMARY:“Prāta Spēles” Pavasara sezona\, 10. spēle
DESCRIPTION:Vai meklē kaut ko aizraujošu\, kas liks tavām smadzenēm strādāt pilnīgi citādā veidā? “Prāta Spēles” ir tava iespēja pacelties jaunos augstumos! Šeit zināšanas iegūst jaunu dzīvotspēju\, un katra pareiza atbilde tuvina tevi uzvarai. \nKĀDU PIEREDZI VARĒSI GAIDĪT: \n\n\nJautājumi\, kas liks tev aplūkot pasauli no jaunas perspektīvas \n\n\nDraudzīga konkurence\, kas uzkarsēs asinis un uzlabos azartu \n\n\nSmiekli un negaidīti atklājumi katrā solī \n\n\nBalvas\, kas gaida savus čempionus \n\n\n🎯 Vieta: Blaumaņa iela 38/40\, 3. stāvs⏰ Laiks: 18:45🤝 Komandas lielums: līdz 6 spēlētājiem \nPIESAKIES: 📲 prataspeles@prataspeles.com \nMūsu atbalstītāji: Pergalė | Delfi.lv | “Mezgls” | ACME Film Latvija | Vitabiotics Latvia “Neurozan” | GABI apavu veikali | Brain Games LV \n*Fotografēsim tavas uzvaras mirkļus un dalīsimies ar tiem publiski! \nDOMĀ DROSĪGI – PIEŅEM IZAICINĀJUMU – IEGŪSTI NEAIZSTĀJAMU PIEREDZI! \n#PrātaSpēles #prataspeles #Izklaide #Viktorīna
URL:https://prataspeles.com/event/prata-speles-pavasara-sezona-10-spele/2025-05-21/
LOCATION:“Prāta Spēles” zāle\, Blaumaņa iela 38/40\, Rīga\, Latvia
CATEGORIES:Prāta spēles
ATTACH;FMTTYPE=image/jpeg:https://prataspeles.com/wp-content/uploads/2025/04/10.jpg
END:VEVENT
BEGIN:VEVENT
DTSTART;TZID=Europe/Riga:20250522T184500
DTEND;TZID=Europe/Riga:20250522T210000
DTSTAMP:20260422T172041
CREATED:20250410T084217Z
LAST-MODIFIED:20250410T084217Z
UID:10000809-1747939500-1747947600@prataspeles.com
SUMMARY:“Prāta Spēles” Pavasara sezona\, 10. spēle
DESCRIPTION:Vai meklē kaut ko aizraujošu\, kas liks tavām smadzenēm strādāt pilnīgi citādā veidā? “Prāta Spēles” ir tava iespēja pacelties jaunos augstumos! Šeit zināšanas iegūst jaunu dzīvotspēju\, un katra pareiza atbilde tuvina tevi uzvarai. \nKĀDU PIEREDZI VARĒSI GAIDĪT: \n\n\nJautājumi\, kas liks tev aplūkot pasauli no jaunas perspektīvas \n\n\nDraudzīga konkurence\, kas uzkarsēs asinis un uzlabos azartu \n\n\nSmiekli un negaidīti atklājumi katrā solī \n\n\nBalvas\, kas gaida savus čempionus \n\n\n🎯 Vieta: Blaumaņa iela 38/40\, 3. stāvs⏰ Laiks: 18:45🤝 Komandas lielums: līdz 6 spēlētājiem \nPIESAKIES: 📲 prataspeles@prataspeles.com \nMūsu atbalstītāji: Pergalė | Delfi.lv | “Mezgls” | ACME Film Latvija | Vitabiotics Latvia “Neurozan” | GABI apavu veikali | Brain Games LV \n*Fotografēsim tavas uzvaras mirkļus un dalīsimies ar tiem publiski! \nDOMĀ DROSĪGI – PIEŅEM IZAICINĀJUMU – IEGŪSTI NEAIZSTĀJAMU PIEREDZI! \n#PrātaSpēles #prataspeles #Izklaide #Viktorīna
URL:https://prataspeles.com/event/prata-speles-pavasara-sezona-10-spele/2025-05-22/
LOCATION:“Prāta Spēles” zāle\, Blaumaņa iela 38/40\, Rīga\, Latvia
CATEGORIES:Prāta spēles
ATTACH;FMTTYPE=image/jpeg:https://prataspeles.com/wp-content/uploads/2025/04/10.jpg
END:VEVENT
BEGIN:VEVENT
DTSTART;TZID=Europe/Riga:20250527T184500
DTEND;TZID=Europe/Riga:20250527T210000
DTSTAMP:20260422T172041
CREATED:20250410T084751Z
LAST-MODIFIED:20250410T084751Z
UID:10000810-1748371500-1748379600@prataspeles.com
SUMMARY:“Prāta Spēles” Pavasara sezona\, 11. spēle
DESCRIPTION:Vai vēlies pārbaudīt savas zināšanas\, piedaloties aizraujošā viktorīnā? “Prāta Spēles” ir īstā vieta\, kur smadzenes tiek aktivizētas\, bet konkurence kļūst aizvien intensīvāka! Šeit katra pareiza atbilde ir soli tuvāk uzvarai un jaunām atklāsmēm. \nKAS MŪS GAIDA: \n\n\nIzglītojoši jautājumi\, kas liks tev skatīties uz pasauli no citas puses \n\n\nDraudzīgas sacensības\, kas veicinās aizrautību un kaislību \n\n\nSmiekli\, pārsteigumi un jauni atklājumi katrā mirklī \n\n\nIespaidīgas balvas\, kas gaida savus uzvarētājus \n\n\n🎯 Vieta: Blaumaņa iela 38/40\, 3. stāvs⏰ Laiks: 18:45🤝 Komanda: līdz 6 spēlētājiem \nPIESAKIES: 📲 prataspeles@prataspeles.com \nAtbalsta partneri: Pergalė | Delfi.lv | “Mezgls” | ACME Film Latvija | Vitabiotics Latvija “Neurozan” | GABI apavu veikali | Brain Games LV \n*Fotografēsim tavas uzvaras mirkļus un dalīsimies ar tiem publiski! \nDOMĀ RADOŠI – PIEŅEM IZAICINĀJUMU UN IEGŪSTI NEAIZSTĀJAMU PIEREDZI!#PrātaSpēles #prataspeles #Izklaide #Viktorīna
URL:https://prataspeles.com/event/prata-speles-pavasara-sezona-11-spele/2025-05-27/
LOCATION:“Prāta Spēles” zāle\, Blaumaņa iela 38/40\, Rīga\, Latvia
CATEGORIES:Prāta spēles
ATTACH;FMTTYPE=image/jpeg:https://prataspeles.com/wp-content/uploads/2025/04/11.jpg
END:VEVENT
BEGIN:VEVENT
DTSTART;TZID=Europe/Riga:20250529T184500
DTEND;TZID=Europe/Riga:20250529T210000
DTSTAMP:20260422T172041
CREATED:20250410T084751Z
LAST-MODIFIED:20250410T084751Z
UID:10000811-1748544300-1748552400@prataspeles.com
SUMMARY:“Prāta Spēles” Pavasara sezona\, 11. spēle
DESCRIPTION:Vai vēlies pārbaudīt savas zināšanas\, piedaloties aizraujošā viktorīnā? “Prāta Spēles” ir īstā vieta\, kur smadzenes tiek aktivizētas\, bet konkurence kļūst aizvien intensīvāka! Šeit katra pareiza atbilde ir soli tuvāk uzvarai un jaunām atklāsmēm. \nKAS MŪS GAIDA: \n\n\nIzglītojoši jautājumi\, kas liks tev skatīties uz pasauli no citas puses \n\n\nDraudzīgas sacensības\, kas veicinās aizrautību un kaislību \n\n\nSmiekli\, pārsteigumi un jauni atklājumi katrā mirklī \n\n\nIespaidīgas balvas\, kas gaida savus uzvarētājus \n\n\n🎯 Vieta: Blaumaņa iela 38/40\, 3. stāvs⏰ Laiks: 18:45🤝 Komanda: līdz 6 spēlētājiem \nPIESAKIES: 📲 prataspeles@prataspeles.com \nAtbalsta partneri: Pergalė | Delfi.lv | “Mezgls” | ACME Film Latvija | Vitabiotics Latvija “Neurozan” | GABI apavu veikali | Brain Games LV \n*Fotografēsim tavas uzvaras mirkļus un dalīsimies ar tiem publiski! \nDOMĀ RADOŠI – PIEŅEM IZAICINĀJUMU UN IEGŪSTI NEAIZSTĀJAMU PIEREDZI!#PrātaSpēles #prataspeles #Izklaide #Viktorīna
URL:https://prataspeles.com/event/prata-speles-pavasara-sezona-11-spele/2025-05-29/
LOCATION:“Prāta Spēles” zāle\, Blaumaņa iela 38/40\, Rīga\, Latvia
CATEGORIES:Prāta spēles
ATTACH;FMTTYPE=image/jpeg:https://prataspeles.com/wp-content/uploads/2025/04/11.jpg
END:VEVENT
BEGIN:VEVENT
DTSTART;TZID=Europe/Riga:20250530T184500
DTEND;TZID=Europe/Riga:20250530T210000
DTSTAMP:20260422T172041
CREATED:20250410T084751Z
LAST-MODIFIED:20250410T084751Z
UID:10000812-1748630700-1748638800@prataspeles.com
SUMMARY:“Prāta Spēles” Pavasara sezona\, 11. spēle
DESCRIPTION:Vai vēlies pārbaudīt savas zināšanas\, piedaloties aizraujošā viktorīnā? “Prāta Spēles” ir īstā vieta\, kur smadzenes tiek aktivizētas\, bet konkurence kļūst aizvien intensīvāka! Šeit katra pareiza atbilde ir soli tuvāk uzvarai un jaunām atklāsmēm. \nKAS MŪS GAIDA: \n\n\nIzglītojoši jautājumi\, kas liks tev skatīties uz pasauli no citas puses \n\n\nDraudzīgas sacensības\, kas veicinās aizrautību un kaislību \n\n\nSmiekli\, pārsteigumi un jauni atklājumi katrā mirklī \n\n\nIespaidīgas balvas\, kas gaida savus uzvarētājus \n\n\n🎯 Vieta: Blaumaņa iela 38/40\, 3. stāvs⏰ Laiks: 18:45🤝 Komanda: līdz 6 spēlētājiem \nPIESAKIES: 📲 prataspeles@prataspeles.com \nAtbalsta partneri: Pergalė | Delfi.lv | “Mezgls” | ACME Film Latvija | Vitabiotics Latvija “Neurozan” | GABI apavu veikali | Brain Games LV \n*Fotografēsim tavas uzvaras mirkļus un dalīsimies ar tiem publiski! \nDOMĀ RADOŠI – PIEŅEM IZAICINĀJUMU UN IEGŪSTI NEAIZSTĀJAMU PIEREDZI!#PrātaSpēles #prataspeles #Izklaide #Viktorīna
URL:https://prataspeles.com/event/prata-speles-pavasara-sezona-11-spele/2025-05-30/
LOCATION:“Prāta Spēles” zāle\, Blaumaņa iela 38/40\, Rīga\, Latvia
CATEGORIES:Prāta spēles
ATTACH;FMTTYPE=image/jpeg:https://prataspeles.com/wp-content/uploads/2025/04/11.jpg
END:VEVENT
END:VCALENDAR