BEGIN:VCALENDAR
VERSION:2.0
PRODID:-//Prāta spēles - ECPv6.15.20//NONSGML v1.0//EN
CALSCALE:GREGORIAN
METHOD:PUBLISH
X-ORIGINAL-URL:https://prataspeles.com
X-WR-CALDESC:Events for Prāta spēles
REFRESH-INTERVAL;VALUE=DURATION:PT1H
X-Robots-Tag:noindex
X-PUBLISHED-TTL:PT1H
BEGIN:VTIMEZONE
TZID:Europe/Riga
BEGIN:DAYLIGHT
TZOFFSETFROM:+0200
TZOFFSETTO:+0300
TZNAME:EEST
DTSTART:20250330T010000
END:DAYLIGHT
BEGIN:STANDARD
TZOFFSETFROM:+0300
TZOFFSETTO:+0200
TZNAME:EET
DTSTART:20251026T010000
END:STANDARD
BEGIN:DAYLIGHT
TZOFFSETFROM:+0200
TZOFFSETTO:+0300
TZNAME:EEST
DTSTART:20260329T010000
END:DAYLIGHT
BEGIN:STANDARD
TZOFFSETFROM:+0300
TZOFFSETTO:+0200
TZNAME:EET
DTSTART:20261025T010000
END:STANDARD
BEGIN:DAYLIGHT
TZOFFSETFROM:+0200
TZOFFSETTO:+0300
TZNAME:EEST
DTSTART:20270328T010000
END:DAYLIGHT
BEGIN:STANDARD
TZOFFSETFROM:+0300
TZOFFSETTO:+0200
TZNAME:EET
DTSTART:20271031T010000
END:STANDARD
END:VTIMEZONE
BEGIN:VEVENT
DTSTART;VALUE=DATE:20260311
DTEND;VALUE=DATE:20260312
DTSTAMP:20260424T103147
CREATED:20260312T152724Z
LAST-MODIFIED:20260312T152724Z
UID:10001109-1773187200-1773273599@prataspeles.com
SUMMARY:Muzikālās "Prāta Spēles". Rezultāti
DESCRIPTION:Vieta\nSpēlētājs\nPunkti\n\n\n1\nKartupelis(Samanta)\n1060\n\n\n2\nAmfora\n947\n\n\n3\nLKEK\n915\n\n\n4\nCukurzirnītis\n892\n\n\n5\nGlūmis\n844\n\n\n6\nRainisskrienviens\n819\n\n\n7\nMEGA Biezenis\n795\n\n\n8\nKingslayer\n794\n\n\n9\nMagnijs\n793\n\n\n10\nDasijs\n786\n\n\n11\nLiriskā atkāpe\n780\n\n\n12\nPaulīne\n768\n\n\n13\nDagnija\n744\n\n\n14\nMatilde\n722\n\n\n15\nI’m a loser baby\n718\n\n\n16\nKK\n701\n\n\n17\nJenoc\n699\n\n\n18\nJ\n683\n\n\n19\nKRONE\n683\n\n\n20\nChevits\n678\n\n\n21\nNoteiktiNavEmsis\n666\n\n\n22\nLindy\n661\n\n\n23\nPookie\n658\n\n\n24\nPienene\n653\n\n\n25\nCOCOlover\n625\n\n\n26\nElla\n624\n\n\n27\nFlying Čezeta\n621\n\n\n28\nkika\n620\n\n\n29\nMatīt\n604\n\n\n30\nGuess & Pray\n578\n\n\n31\nStrēlnieks\n510\n\n\n32\nAleksandrs\n459\n\n\n33\nAM\n415\n\n\n34\nSintija E\n349\n\n\n35\nVG\n308\n\n\n36\nReinchu\n293\n\n\n37\nJoe\n249\n\n\n38\nLaurix\n215\n\n\n39\nLemūra paduse\n91
URL:https://prataspeles.com/event/muzikalas-prata-speles-rezultati-45/
LOCATION:“Brūzis Manufaktūra”\, Brīvības gatve 401C\, Rīga\, Latvia
CATEGORIES:Muzikālās ''Prāta spēles''
END:VEVENT
BEGIN:VEVENT
DTSTART;TZID=Europe/Riga:20260311T190000
DTEND;TZID=Europe/Riga:20260311T210000
DTSTAMP:20260424T103147
CREATED:20260129T171522Z
LAST-MODIFIED:20260129T171546Z
UID:10001049-1773255600-1773262800@prataspeles.com
SUMMARY:Muzikālās "Prāta Spēles"
DESCRIPTION:Brūzis Manufaktūra aicina Tevi uz Muzikālās “Prāta Spēles” vakaru\, kur mūzika\, jautrība un draudzīga sacensība garantēs neaizmirstamu pieredzi! \nKO SAGAIDĪT?🎤 Aizraujošus muzikālo viktorīnu par pēdējo gadu populārākajām dziesmām un māksliniekiem🎁 Pārsteigumus no laimes rata🏆 Balvas veiksmīgākajiem un atraktīvākajiem dalībniekiem🔥 Atmosfēru\, kas liks dziedāt līdzi pēdējo gadu hitus! 🔥 \n⏰ SVARĪGI! Ierodies jlaicīgi\, lai būtu gatavs startam 19:00! \n🪑 GALDIŅU SKAITS IEROBEŽOTS! Rezervē vietu\, sazinoties ar Brūzis Manufaktūra vai zvanot 28808178 . \nNāc viens vai kopā ar draugiem – tevi sagaida vakars\, kas būs pilns mūzikas\, jautrības un lieliskām emocijām! 🎶 \nPasākuma laikā dalībnieki var tikt fotografēti un filmēti. Iegūtie materiāli var tikt izmantoti publiski. \n#prataspeles #viktorīna #brūzismanufaktūra #muzikalasprataspeles
URL:https://prataspeles.com/event/muzikalas-prata-speles-15/
LOCATION:“Brūzis Manufaktūra”\, Brīvības gatve 401C\, Rīga\, Latvia
CATEGORIES:Muzikālās ''Prāta spēles''
END:VEVENT
END:VCALENDAR