BEGIN:VCALENDAR
VERSION:2.0
PRODID:-//Prāta spēles - ECPv6.15.20//NONSGML v1.0//EN
CALSCALE:GREGORIAN
METHOD:PUBLISH
X-WR-CALNAME:Prāta spēles
X-ORIGINAL-URL:https://prataspeles.com
X-WR-CALDESC:Events for Prāta spēles
REFRESH-INTERVAL;VALUE=DURATION:PT1H
X-Robots-Tag:noindex
X-PUBLISHED-TTL:PT1H
BEGIN:VTIMEZONE
TZID:Europe/Riga
BEGIN:DAYLIGHT
TZOFFSETFROM:+0200
TZOFFSETTO:+0300
TZNAME:EEST
DTSTART:20250330T010000
END:DAYLIGHT
BEGIN:STANDARD
TZOFFSETFROM:+0300
TZOFFSETTO:+0200
TZNAME:EET
DTSTART:20251026T010000
END:STANDARD
BEGIN:DAYLIGHT
TZOFFSETFROM:+0200
TZOFFSETTO:+0300
TZNAME:EEST
DTSTART:20260329T010000
END:DAYLIGHT
BEGIN:STANDARD
TZOFFSETFROM:+0300
TZOFFSETTO:+0200
TZNAME:EET
DTSTART:20261025T010000
END:STANDARD
BEGIN:DAYLIGHT
TZOFFSETFROM:+0200
TZOFFSETTO:+0300
TZNAME:EEST
DTSTART:20270328T010000
END:DAYLIGHT
BEGIN:STANDARD
TZOFFSETFROM:+0300
TZOFFSETTO:+0200
TZNAME:EET
DTSTART:20271031T010000
END:STANDARD
END:VTIMEZONE
BEGIN:VEVENT
DTSTART;VALUE=DATE:20260128
DTEND;VALUE=DATE:20260129
DTSTAMP:20260424T085711
CREATED:20260130T081804Z
LAST-MODIFIED:20260130T081804Z
UID:10001051-1769558400-1769644799@prataspeles.com
SUMMARY:Muzikālās "Prāta Spēles". Rezultāti
DESCRIPTION:Vieta\nSpēlētājs\nPunkti\n\n\n1\nMilka\n931\n\n\n2\nKartupelis(Samanta)\n874\n\n\n3\nJohny\n818\n\n\n4\nGlūmis\n732\n\n\n5\nSimčiks\n722\n\n\n6\nEduardo\n716\n\n\n7\netgars\n624\n\n\n8\nKrista un Rainers\n605\n\n\n9\nBrūzīte\n587\n\n\n10\nRonijaa\n563\n\n\n11\nJ-Dawg\n515\n\n\n12\nOhno\n476\n\n\n13\nBav\n423\n\n\n14\nJackson2\n409\n\n\n15\nHeyJude\n388\n\n\n16\nAnna 🙂\n327\n\n\n17\nJANCIS\n112
URL:https://prataspeles.com/event/muzikalas-prata-speles-rezultati-38/
LOCATION:“Brūzis Manufaktūra”\, Brīvības gatve 401C\, Rīga\, Latvia
CATEGORIES:Muzikālās ''Prāta spēles''
END:VEVENT
BEGIN:VEVENT
DTSTART;TZID=Europe/Riga:20260128T190000
DTEND;TZID=Europe/Riga:20260128T210000
DTSTAMP:20260424T085711
CREATED:20260103T214524Z
LAST-MODIFIED:20260103T214524Z
UID:10001042-1769626800-1769634000@prataspeles.com
SUMMARY:Muzikālās "Prāta Spēles"
DESCRIPTION:Brūzis Manufaktūra aicina Tevi uz Muzikālās “Prāta Spēles” vakaru\, kur mūzika\, jautrība un draudzīga sacensība garantēs neaizmirstamu pieredzi! \nKO SAGAIDĪT?🎤 Aizraujošus muzikālo viktorīnu par pēdējo gadu populārākajām dziesmām un māksliniekiem🎁 Pārsteigumus no laimes rata🏆 Balvas veiksmīgākajiem un atraktīvākajiem dalībniekiem🔥 Atmosfēru\, kas liks dziedāt līdzi pēdējo gadu hitus! 🔥 \n⏰ SVARĪGI! Ierodies jlaicīgi\, lai būtu gatavs startam 19:00! \n🪑 GALDIŅU SKAITS IEROBEŽOTS! Rezervē vietu\, sazinoties ar Brūzis Manufaktūra vai zvanot 28808178 . \nNāc viens vai kopā ar draugiem – tevi sagaida vakars\, kas būs pilns mūzikas\, jautrības un lieliskām emocijām! 🎶 \nPasākuma laikā dalībnieki var tikt fotografēti un filmēti. Iegūtie materiāli var tikt izmantoti publiski. \n#prataspeles #viktorīna #brūzismanufaktūra #muzikalasprataspeles
URL:https://prataspeles.com/event/muzikalas-prata-speles-11/
LOCATION:“Brūzis Manufaktūra”\, Brīvības gatve 401C\, Rīga\, Latvia
CATEGORIES:Muzikālās ''Prāta spēles''
END:VEVENT
END:VCALENDAR