BEGIN:VCALENDAR
VERSION:2.0
PRODID:-//Prāta spēles - ECPv6.15.20//NONSGML v1.0//EN
CALSCALE:GREGORIAN
METHOD:PUBLISH
X-WR-CALNAME:Prāta spēles
X-ORIGINAL-URL:https://prataspeles.com
X-WR-CALDESC:Events for Prāta spēles
REFRESH-INTERVAL;VALUE=DURATION:PT1H
X-Robots-Tag:noindex
X-PUBLISHED-TTL:PT1H
BEGIN:VTIMEZONE
TZID:Europe/Riga
BEGIN:DAYLIGHT
TZOFFSETFROM:+0200
TZOFFSETTO:+0300
TZNAME:EEST
DTSTART:20240331T010000
END:DAYLIGHT
BEGIN:STANDARD
TZOFFSETFROM:+0300
TZOFFSETTO:+0200
TZNAME:EET
DTSTART:20241027T010000
END:STANDARD
BEGIN:DAYLIGHT
TZOFFSETFROM:+0200
TZOFFSETTO:+0300
TZNAME:EEST
DTSTART:20250330T010000
END:DAYLIGHT
BEGIN:STANDARD
TZOFFSETFROM:+0300
TZOFFSETTO:+0200
TZNAME:EET
DTSTART:20251026T010000
END:STANDARD
BEGIN:DAYLIGHT
TZOFFSETFROM:+0200
TZOFFSETTO:+0300
TZNAME:EEST
DTSTART:20260329T010000
END:DAYLIGHT
BEGIN:STANDARD
TZOFFSETFROM:+0300
TZOFFSETTO:+0200
TZNAME:EET
DTSTART:20261025T010000
END:STANDARD
END:VTIMEZONE
BEGIN:VEVENT
DTSTART;TZID=Europe/Riga:20250731T190000
DTEND;TZID=Europe/Riga:20250731T210000
DTSTAMP:20260425T170823
CREATED:20250801T081738Z
LAST-MODIFIED:20250801T081738Z
UID:10000871-1753988400-1753995600@prataspeles.com
SUMMARY:Muzikālās "Prāta Spēles" rezultāti
DESCRIPTION:Muzikālās “Prāta Spēles” rezultāti\, 31.07.2025. \n\n\n\n\n\n\n\nVieta\nDalībnieks\nScore\n\n\n1\nOne (s)hit wonder\n1047\n\n\n2\nKartupelis(Samanta)\n1038\n\n\n3\nIndrika9\n1000\n\n\n4\nPūpēdis\n948\n\n\n5\nKarpačo\n945\n\n\n6\nBabyshark\n899\n\n\n7\nSkaidrīte\n889\n\n\n8\nBlue\n873\n\n\n9\nGEEK\n861\n\n\n10\nRikitons\n853\n\n\n11\nRiri\n837\n\n\n12\nMilka\n834\n\n\n13\nCHARMING\n827\n\n\n14\nIlvaa\n820\n\n\n15\nPaulīne\n818\n\n\n16\nLilons\n814\n\n\n17\nSandra\n812\n\n\n18\nSlinkā\n788\n\n\n19\nSantumiņš\n784\n\n\n20\nRonja\n784\n\n\n21\nLil D\n769\n\n\n22\nBrekfestboy\n769\n\n\n23\nNT\n764\n\n\n24\nBober\n762\n\n\n25\nFuffs\n762\n\n\n26\nAukstāZupaBijaSkāba\n762\n\n\n27\nTruši\n759\n\n\n28\nČarmanders\n750\n\n\n29\nZoja\n741\n\n\n30\nLLetina\n721\n\n\n31\nArtis ar Loru\n717\n\n\n32\nlaurux\n716\n\n\n33\nkrūms\n704\n\n\n34\nZivs\n698\n\n\n35\nAlmita\n697\n\n\n36\nyeehaw\n696\n\n\n37\nKi-Lo\n693\n\n\n38\nVāverēni1\n669\n\n\n39\nHehe\n653\n\n\n40\nSabix\n652\n\n\n41\nNela\n643\n\n\n42\nVaverens4\n626\n\n\n43\nAleksandrs\n622\n\n\n44\nVaverens3\n616\n\n\n45\nVāverēns 6\n592\n\n\n46\nKrstps\n589\n\n\n47\nAnsis\n566\n\n\n48\nUldis\n561\n\n\n49\nLutausis\n503\n\n\n50\nOldCatLady112\n502\n\n\n51\nvaverens 2\n501\n\n\n52\nIevish\n496\n\n\n53\nOlgaris\n428\n\n\n54\nVāverēns 5\n418\n\n\n55\nrazbainieks\n0\n\n\n56\nVaverens 7\n0\n\n\n\n 
URL:https://prataspeles.com/event/muzikalas-prata-speles-rezultati-15/
CATEGORIES:Muzikālās ''Prāta spēles''
END:VEVENT
END:VCALENDAR