BEGIN:VCALENDAR
VERSION:2.0
PRODID:-//Prāta spēles - ECPv6.15.20//NONSGML v1.0//EN
CALSCALE:GREGORIAN
METHOD:PUBLISH
X-WR-CALNAME:Prāta spēles
X-ORIGINAL-URL:https://prataspeles.com
X-WR-CALDESC:Events for Prāta spēles
REFRESH-INTERVAL;VALUE=DURATION:PT1H
X-Robots-Tag:noindex
X-PUBLISHED-TTL:PT1H
BEGIN:VTIMEZONE
TZID:Europe/Riga
BEGIN:DAYLIGHT
TZOFFSETFROM:+0200
TZOFFSETTO:+0300
TZNAME:EEST
DTSTART:20230326T010000
END:DAYLIGHT
BEGIN:STANDARD
TZOFFSETFROM:+0300
TZOFFSETTO:+0200
TZNAME:EET
DTSTART:20231029T010000
END:STANDARD
BEGIN:DAYLIGHT
TZOFFSETFROM:+0200
TZOFFSETTO:+0300
TZNAME:EEST
DTSTART:20240331T010000
END:DAYLIGHT
BEGIN:STANDARD
TZOFFSETFROM:+0300
TZOFFSETTO:+0200
TZNAME:EET
DTSTART:20241027T010000
END:STANDARD
BEGIN:DAYLIGHT
TZOFFSETFROM:+0200
TZOFFSETTO:+0300
TZNAME:EEST
DTSTART:20250330T010000
END:DAYLIGHT
BEGIN:STANDARD
TZOFFSETFROM:+0300
TZOFFSETTO:+0200
TZNAME:EET
DTSTART:20251026T010000
END:STANDARD
END:VTIMEZONE
BEGIN:VEVENT
DTSTART;TZID=Europe/Riga:20241113T190000
DTEND;TZID=Europe/Riga:20241113T210000
DTSTAMP:20260425T135030
CREATED:20241108T084424Z
LAST-MODIFIED:20241108T084425Z
UID:10000008-1731524400-1731531600@prataspeles.com
SUMMARY:Muzikālās "Prāta Spēles"
DESCRIPTION:Bez dalības maksas un bez iepriekšējas reģistrācijas! \nIespēja rezervēt galdiņu un ieskatīties ēdienkartē: https://bruzismanufaktura.lv/
URL:https://prataspeles.com/event/muzikalas-prata-speles-3/
LOCATION:“Brūzis Manufaktūra”\, Brīvības gatve 401C\, Rīga\, Latvia
CATEGORIES:Muzikālās ''Prāta spēles''
ATTACH;FMTTYPE=image/jpeg:https://prataspeles.com/wp-content/uploads/2024/10/Blue-Modern-Minimalist-Artificial-Intelligence-Technology-Presentation-30-scaled.jpg
END:VEVENT
BEGIN:VEVENT
DTSTART;TZID=Europe/Riga:20241116T190000
DTEND;TZID=Europe/Riga:20241116T213000
DTSTAMP:20260425T135030
CREATED:20241108T104659Z
LAST-MODIFIED:20241108T104659Z
UID:10000286-1731783600-1731792600@prataspeles.com
SUMMARY:"Moby Kafe" Muzikālās "Prāta Spēles"
DESCRIPTION:“Moby Kafe” Muzikālās “Prāta Spēles” ieskandinās ballīšu dziesmas!\n\n 16.11. nāc uz “Moby Kafe”\, kur Tevi gaidīs Muzikālās “Prāta Spēles” ar labākajām ballīšu dziesmām\, aizraujošo laimes rata griešanu un pārsteigumiem! Ierodies laicīgi – jau līdz plkst. 19:00\, lai spēli sāktu plkst. 19:30! Ņem vērā\, ka šis būs 16+ pasākums!\n\n Aicinām tevi nākt ar radiem\, draugiem\, kolēģiem vai solo! Dalības maksa šajā muzikālajā piedzīvojumā ir vien 5 eur no personas un apmaksu varēsi veikt uz vietas.\n\nUn kā ierasts – rezultatīvākie dziesmu minēšanas spēles dalībnieki tiks pie foršām dāvanām no “Moby Kafe”!\n\n “Moby Kafe” vietu skaits ir ierobežots\, tādēļ\, lai nodrošinātu sev labāko vietu\, nekavējies un rezervē galdiņu jau tagad\, zvanot uz +371 29115115!\n\n Atcerēsimies šo īpašo brīdi kopā! Pasākuma laikā dalībnieki var tikt filmēti un fotogrāfēti\, iegūtie materiāli var tikt izmantoti publiski.
URL:https://prataspeles.com/event/moby-kafe-muzikalas-prata-speles/
LOCATION:MOBY KAFE\, Dzirnas\, Mārupes novads\, Latvia
CATEGORIES:Muzikālās ''Prāta spēles''
ATTACH;FMTTYPE=image/jpeg:https://prataspeles.com/wp-content/uploads/2024/11/Blue-Modern-Minimalist-Artificial-Intelligence-Technology-Presentation-32-scaled.jpg
END:VEVENT
END:VCALENDAR