BEGIN:VCALENDAR
VERSION:2.0
PRODID:-//Prāta spēles - ECPv6.15.20//NONSGML v1.0//EN
CALSCALE:GREGORIAN
METHOD:PUBLISH
X-ORIGINAL-URL:https://prataspeles.com
X-WR-CALDESC:Events for Prāta spēles
REFRESH-INTERVAL;VALUE=DURATION:PT1H
X-Robots-Tag:noindex
X-PUBLISHED-TTL:PT1H
BEGIN:VTIMEZONE
TZID:Europe/Riga
BEGIN:DAYLIGHT
TZOFFSETFROM:+0200
TZOFFSETTO:+0300
TZNAME:EEST
DTSTART:20250330T010000
END:DAYLIGHT
BEGIN:STANDARD
TZOFFSETFROM:+0300
TZOFFSETTO:+0200
TZNAME:EET
DTSTART:20251026T010000
END:STANDARD
BEGIN:DAYLIGHT
TZOFFSETFROM:+0200
TZOFFSETTO:+0300
TZNAME:EEST
DTSTART:20260329T010000
END:DAYLIGHT
BEGIN:STANDARD
TZOFFSETFROM:+0300
TZOFFSETTO:+0200
TZNAME:EET
DTSTART:20261025T010000
END:STANDARD
BEGIN:DAYLIGHT
TZOFFSETFROM:+0200
TZOFFSETTO:+0300
TZNAME:EEST
DTSTART:20270328T010000
END:DAYLIGHT
BEGIN:STANDARD
TZOFFSETFROM:+0300
TZOFFSETTO:+0200
TZNAME:EET
DTSTART:20271031T010000
END:STANDARD
END:VTIMEZONE
BEGIN:VEVENT
DTSTART;VALUE=DATE:20260204
DTEND;VALUE=DATE:20260205
DTSTAMP:20260424T073046
CREATED:20260206T115404Z
LAST-MODIFIED:20260206T115404Z
UID:10001053-1770163200-1770249599@prataspeles.com
SUMMARY:Muzikālās "Prāta Spēles". Rezultāti
DESCRIPTION:Vieta\nSpēlētājs\nPunkti\n\n\n1\nInez\n962\n\n\n2\nKK\n792\n\n\n3\nChangals\n750\n\n\n4\nKartupelis(Samanta)\n740\n\n\n5\nFreeway1\n733\n\n\n6\nDP\n684\n\n\n7\nFreeway\n644\n\n\n8\nRock Bottom\n617\n\n\n9\nMimis\n599\n\n\n10\nIKA\n574\n\n\n11\nAleksandrs\n544\n\n\n12\nJurisV\n481\n\n\n13\nLily\n417\n\n\n14\nS\n301
URL:https://prataspeles.com/event/muzikalas-prata-speles-rezultati-39/
LOCATION:“Brūzis Manufaktūra”\, Brīvības gatve 401C\, Rīga\, Latvia
CATEGORIES:Muzikālās ''Prāta spēles''
END:VEVENT
BEGIN:VEVENT
DTSTART;TZID=Europe/Riga:20260204T190000
DTEND;TZID=Europe/Riga:20260204T210000
DTSTAMP:20260424T073046
CREATED:20260129T171348Z
LAST-MODIFIED:20260129T171348Z
UID:10001046-1770231600-1770238800@prataspeles.com
SUMMARY:Muzikālās "Prāta Spēles"
DESCRIPTION:Brūzis Manufaktūra aicina Tevi uz Muzikālās “Prāta Spēles” vakaru\, kur mūzika\, jautrība un draudzīga sacensība garantēs neaizmirstamu pieredzi! \nKO SAGAIDĪT?🎤 Aizraujošus muzikālo viktorīnu par pēdējo gadu populārākajām dziesmām un māksliniekiem🎁 Pārsteigumus no laimes rata🏆 Balvas veiksmīgākajiem un atraktīvākajiem dalībniekiem🔥 Atmosfēru\, kas liks dziedāt līdzi pēdējo gadu hitus! 🔥 \n⏰ SVARĪGI! Ierodies jlaicīgi\, lai būtu gatavs startam 19:00! \n🪑 GALDIŅU SKAITS IEROBEŽOTS! Rezervē vietu\, sazinoties ar Brūzis Manufaktūra vai zvanot 28808178 . \nNāc viens vai kopā ar draugiem – tevi sagaida vakars\, kas būs pilns mūzikas\, jautrības un lieliskām emocijām! 🎶 \nPasākuma laikā dalībnieki var tikt fotografēti un filmēti. Iegūtie materiāli var tikt izmantoti publiski. \n#prataspeles #viktorīna #brūzismanufaktūra #muzikalasprataspeles
URL:https://prataspeles.com/event/muzikalas-prata-speles-12/
LOCATION:“Brūzis Manufaktūra”\, Brīvības gatve 401C\, Rīga\, Latvia
CATEGORIES:Muzikālās ''Prāta spēles''
END:VEVENT
BEGIN:VEVENT
DTSTART;VALUE=DATE:20260211
DTEND;VALUE=DATE:20260212
DTSTAMP:20260424T073046
CREATED:20260213T063315Z
LAST-MODIFIED:20260213T063315Z
UID:10001054-1770768000-1770854399@prataspeles.com
SUMMARY:Muzikālās "Prāta Spēles". Rezultāti
DESCRIPTION:Vieta\nSpēlētājs\nPunkti\n\n\n1\nČetrdesmit divi\n860\n\n\n2\nRonijaa\n829\n\n\n3\nDP\n768\n\n\n4\nAZ\n760\n\n\n5\nANETUX\n749\n\n\n6\nAleksandrs\n696\n\n\n7\nInlove\n656\n\n\n8\nPaulīne\n634\n\n\n9\nBock Rottom\n634\n\n\n10\nKK\n617\n\n\n11\nIPA\n606\n\n\n12\nMatīt\n604\n\n\n13\nJurisV\n603\n\n\n14\nIKA\n580
URL:https://prataspeles.com/event/muzikalas-prata-speles-rezultati-40/
LOCATION:“Brūzis Manufaktūra”\, Brīvības gatve 401C\, Rīga\, Latvia
CATEGORIES:Muzikālās ''Prāta spēles''
END:VEVENT
BEGIN:VEVENT
DTSTART;VALUE=DATE:20260211
DTEND;VALUE=DATE:20260212
DTSTAMP:20260424T073046
CREATED:20260213T063458Z
LAST-MODIFIED:20260213T063458Z
UID:10001055-1770768000-1770854399@prataspeles.com
SUMMARY:Muzikālās "Prāta Spēles". Rezultāti
DESCRIPTION:Vieta\nSpēlētājs\nPunkti\n\n\n1\nInez\n1133\n\n\n2\nYellow\n1110\n\n\n3\nCukurzirnītis\n1097\n\n\n4\nKartupelis Free\n1091\n\n\n5\nsignekatsa\n1084\n\n\n6\nMEGA Biezenis\n1054\n\n\n7\nKartupelis(Samanta)\n1052\n\n\n8\nAleksejsss\n1051\n\n\n9\nMarinaa\n1049\n\n\n10\nKatee\n1048\n\n\n11\nZii\n1035\n\n\n12\nGlūmis\n1034\n\n\n13\nVasarniece\n1010\n\n\n14\nDeadgars\n1003\n\n\n15\nSorbets\n980\n\n\n16\nlaumiņa\n976\n\n\n17\nSignealien\n950\n\n\n18\nTetskis\n948\n\n\n19\nBaloži\n939\n\n\n20\nChangals\n922\n\n\n21\nKristaps Vītols\n918\n\n\n22\nSaldi un bez žēlastības\n918\n\n\n23\nDašeņka\n903\n\n\n24\naustris\n902\n\n\n25\nkate olīva\n894\n\n\n26\nKoala\n883\n\n\n27\nKalvadoss\n877\n\n\n28\nEvijaaa\n860\n\n\n29\nSantumiņš\n828\n\n\n30\nR \n822\n\n\n31\nRikitons\n797\n\n\n32\nM&M\n794\n\n\n33\nGG\n793\n\n\n34\nLā\n788\n\n\n35\nKarlis_KGV\n778\n\n\n36\nVāği\n759\n\n\n37\nZaneFane\n757\n\n\n38\nN2\n755\n\n\n39\nmonzi\n715\n\n\n40\nBerta\n708\n\n\n41\nSanta\n701\n\n\n42\nMARTIA\n583\n\n\n43\nVilnis\n511\n\n\n44\nbrass\n231\n\n\n45\nkrista\n222
URL:https://prataspeles.com/event/muzikalas-prata-speles-rezultati-41/
LOCATION:Tallinas kvartāla “Angārs”\, Tallinas iela 10-3\, Rīga
CATEGORIES:Muzikālās ''Prāta spēles''
END:VEVENT
BEGIN:VEVENT
DTSTART;TZID=Europe/Riga:20260211T190000
DTEND;TZID=Europe/Riga:20260211T210000
DTSTAMP:20260424T073046
CREATED:20260129T171955Z
LAST-MODIFIED:20260129T171955Z
UID:10001050-1770836400-1770843600@prataspeles.com
SUMMARY:Muzikālās "Prāta Spēles" ANGĀRĀ
DESCRIPTION: Ballīšu dziesmas | Muzikālās prāta spēles \nVai esi gatavs vakaram\, kur mūzika satiekas ar azartu?11. februārī Tallinas kvartāla Angārā aicinām uz Muzikālajām prāta spēlēm – “Ballīšu dziesmas”!\n Atpazīsti hitus\, dungojam līdzi un pārbaudi savu muzikālo intuīciju Gardi ēdieni\, dzērieni un laimes rats – jo bez pārsteigumiem neiztikt Lieliska atmosfēra\, draugi un ballītes noskaņa garantēta\n 11. februāris plkst. 19:00 Tallinas kvartāla Angārs\, Tallinas iela 10–3\, Rīga\nNāc viens vai ar draugiem – šis vakars ir domāts tiem\, kam mūzika ir asinīs Tiekamies Angārā! 
URL:https://prataspeles.com/event/muzikalas-prata-speles-angara/
LOCATION:“Brūzis Manufaktūra”\, Brīvības gatve 401C\, Rīga\, Latvia
CATEGORIES:Muzikālās ''Prāta spēles''
END:VEVENT
BEGIN:VEVENT
DTSTART;TZID=Europe/Riga:20260211T190000
DTEND;TZID=Europe/Riga:20260211T210000
DTSTAMP:20260424T073046
CREATED:20260205T122909Z
LAST-MODIFIED:20260205T122909Z
UID:10001052-1770836400-1770843600@prataspeles.com
SUMMARY:Muzikālās "Prāta Spēles"
DESCRIPTION:Brūzis Manufaktūra aicina Tevi uz Muzikālās “Prāta Spēles” vakaru\, kur mūzika\, jautrība un draudzīga sacensība garantēs neaizmirstamu pieredzi! \nKO SAGAIDĪT?🎤 Aizraujošus muzikālo viktorīnu par pēdējo gadu populārākajām dziesmām un māksliniekiem🎁 Pārsteigumus no laimes rata🏆 Balvas veiksmīgākajiem un atraktīvākajiem dalībniekiem🔥 Atmosfēru\, kas liks dziedāt līdzi pēdējo gadu hitus! 🔥 \n⏰ SVARĪGI! Ierodies jlaicīgi\, lai būtu gatavs startam 19:00! \n🪑 GALDIŅU SKAITS IEROBEŽOTS! Rezervē vietu\, sazinoties ar Brūzis Manufaktūra vai zvanot 28808178 . \nNāc viens vai kopā ar draugiem – tevi sagaida vakars\, kas būs pilns mūzikas\, jautrības un lieliskām emocijām! 🎶 \nPasākuma laikā dalībnieki var tikt fotografēti un filmēti. Iegūtie materiāli var tikt izmantoti publiski. \n#prataspeles #viktorīna #brūzismanufaktūra #muzikalasprataspeles
URL:https://prataspeles.com/event/muzikalas-prata-speles-16/
LOCATION:“Brūzis Manufaktūra”\, Brīvības gatve 401C\, Rīga\, Latvia
CATEGORIES:Muzikālās ''Prāta spēles''
END:VEVENT
BEGIN:VEVENT
DTSTART;VALUE=DATE:20260218
DTEND;VALUE=DATE:20260219
DTSTAMP:20260424T073046
CREATED:20260220T165500Z
LAST-MODIFIED:20260220T165500Z
UID:10001096-1771372800-1771459199@prataspeles.com
SUMMARY:Muzikālās "Prāta Spēles". Rezultāti
DESCRIPTION:Vieta\nSpēlētājs\nPunkti\n\n\n1\nRainisskrienviens\n1429\n\n\n2\nKK\n1387\n\n\n3\nKartupelis(Samanta)\n1281\n\n\n4\nZane\n1229\n\n\n5\nMadara\n1202\n\n\n6\nIkards\n1164\n\n\n7\nBaibuzzz\n1159\n\n\n8\nLiene\n1151\n\n\n9\nĢirts S\n1139\n\n\n10\nČetrdesmit deviņi\n1124\n\n\n11\ncicis\n1102\n\n\n12\nPēdējā Darba diena\n1090\n\n\n13\nUna\n1085\n\n\n14\nBlondīnes\n1011\n\n\n15\nZ\n1008\n\n\n16\nkika\n987\n\n\n17\nNe melomāns\n968\n\n\n18\nPS\n936\n\n\n19\nJurisV\n888\n\n\n20\nDP\n868\n\n\n21\nkriksis\n853\n\n\n22\nEKLK\n812\n\n\n23\nAleksandrs\n810\n\n\n24\nRock Bottom\n805\n\n\n25\nJusis\n795\n\n\n26\nRenars O\n690\n\n\n27\nArtūrs\n584\n\n\n28\nLeila\n582\n\n\n29\nLorenzo Lamas\n198\n\n\n30\nJavier\n21\n\n\n31\nMiki\n6
URL:https://prataspeles.com/event/muzikalas-prata-speles-rezultati-42/
LOCATION:“Prāta Spēles” zāle\, Blaumaņa iela 38/40\, Rīga\, Latvia
CATEGORIES:Muzikālās ''Prāta spēles''
END:VEVENT
BEGIN:VEVENT
DTSTART;TZID=Europe/Riga:20260218T190000
DTEND;TZID=Europe/Riga:20260218T210000
DTSTAMP:20260424T073046
CREATED:20260129T171432Z
LAST-MODIFIED:20260129T171432Z
UID:10001047-1771441200-1771448400@prataspeles.com
SUMMARY:Muzikālās "Prāta Spēles"
DESCRIPTION:Brūzis Manufaktūra aicina Tevi uz Muzikālās “Prāta Spēles” vakaru\, kur mūzika\, jautrība un draudzīga sacensība garantēs neaizmirstamu pieredzi! \nKO SAGAIDĪT?🎤 Aizraujošus muzikālo viktorīnu par pēdējo gadu populārākajām dziesmām un māksliniekiem🎁 Pārsteigumus no laimes rata🏆 Balvas veiksmīgākajiem un atraktīvākajiem dalībniekiem🔥 Atmosfēru\, kas liks dziedāt līdzi pēdējo gadu hitus! 🔥 \n⏰ SVARĪGI! Ierodies jlaicīgi\, lai būtu gatavs startam 19:00! \n🪑 GALDIŅU SKAITS IEROBEŽOTS! Rezervē vietu\, sazinoties ar Brūzis Manufaktūra vai zvanot 28808178 . \nNāc viens vai kopā ar draugiem – tevi sagaida vakars\, kas būs pilns mūzikas\, jautrības un lieliskām emocijām! 🎶 \nPasākuma laikā dalībnieki var tikt fotografēti un filmēti. Iegūtie materiāli var tikt izmantoti publiski. \n#prataspeles #viktorīna #brūzismanufaktūra #muzikalasprataspeles
URL:https://prataspeles.com/event/muzikalas-prata-speles-13/
LOCATION:“Brūzis Manufaktūra”\, Brīvības gatve 401C\, Rīga\, Latvia
CATEGORIES:Muzikālās ''Prāta spēles''
END:VEVENT
BEGIN:VEVENT
DTSTART;VALUE=DATE:20260225
DTEND;VALUE=DATE:20260226
DTSTAMP:20260424T073046
CREATED:20260226T143046Z
LAST-MODIFIED:20260226T143046Z
UID:10001098-1771977600-1772063999@prataspeles.com
SUMMARY:Muzikālās "Prāta Spēles". Rezultāti
DESCRIPTION:Vieta\nSpēlētājs\nPunkti\n\n\n1\nDiāna 🙂\n953\n\n\n2\nReiniks\n906\n\n\n3\nkika\n894\n\n\n4\nKartupelis(Samanta)\n883\n\n\n5\nGlūmis\n810\n\n\n6\nCukurzirnītis\n760\n\n\n7\nMEGA Biezenis\n755\n\n\n8\nKK\n719\n\n\n9\nLiriskā atkāpe\n701\n\n\n10\nSaies\n670\n\n\n11\nMadara\n604\n\n\n12\nIkards\n569\n\n\n13\nAleksandrs\n496\n\n\n14\nPoo\n422\n\n\n15\nInnga\n400\n\n\n16\nAgnese\n399\n\n\n17\nG\n387\n\n\n18\nZivis dīķī\n302\n\n\n19\nRonalds\n288\n\n\n20\nRiņķītis\n256
URL:https://prataspeles.com/event/muzikalas-prata-speles-rezultati-43/
LOCATION:“Brūzis Manufaktūra”\, Brīvības gatve 401C\, Rīga\, Latvia
CATEGORIES:Muzikālās ''Prāta spēles''
END:VEVENT
BEGIN:VEVENT
DTSTART;TZID=Europe/Riga:20260225T190000
DTEND;TZID=Europe/Riga:20260225T210000
DTSTAMP:20260424T073046
CREATED:20260129T171457Z
LAST-MODIFIED:20260129T171457Z
UID:10001048-1772046000-1772053200@prataspeles.com
SUMMARY:Muzikālās "Prāta Spēles"
DESCRIPTION:Brūzis Manufaktūra aicina Tevi uz Muzikālās “Prāta Spēles” vakaru\, kur mūzika\, jautrība un draudzīga sacensība garantēs neaizmirstamu pieredzi! \nKO SAGAIDĪT?🎤 Aizraujošus muzikālo viktorīnu par pēdējo gadu populārākajām dziesmām un māksliniekiem🎁 Pārsteigumus no laimes rata🏆 Balvas veiksmīgākajiem un atraktīvākajiem dalībniekiem🔥 Atmosfēru\, kas liks dziedāt līdzi pēdējo gadu hitus! 🔥 \n⏰ SVARĪGI! Ierodies jlaicīgi\, lai būtu gatavs startam 19:00! \n🪑 GALDIŅU SKAITS IEROBEŽOTS! Rezervē vietu\, sazinoties ar Brūzis Manufaktūra vai zvanot 28808178 . \nNāc viens vai kopā ar draugiem – tevi sagaida vakars\, kas būs pilns mūzikas\, jautrības un lieliskām emocijām! 🎶 \nPasākuma laikā dalībnieki var tikt fotografēti un filmēti. Iegūtie materiāli var tikt izmantoti publiski. \n#prataspeles #viktorīna #brūzismanufaktūra #muzikalasprataspeles
URL:https://prataspeles.com/event/muzikalas-prata-speles-14/
LOCATION:“Brūzis Manufaktūra”\, Brīvības gatve 401C\, Rīga\, Latvia
CATEGORIES:Muzikālās ''Prāta spēles''
END:VEVENT
END:VCALENDAR