BEGIN:VCALENDAR
VERSION:2.0
PRODID:-//Prāta spēles - ECPv6.15.20//NONSGML v1.0//EN
CALSCALE:GREGORIAN
METHOD:PUBLISH
X-ORIGINAL-URL:https://prataspeles.com
X-WR-CALDESC:Events for Prāta spēles
REFRESH-INTERVAL;VALUE=DURATION:PT1H
X-Robots-Tag:noindex
X-PUBLISHED-TTL:PT1H
BEGIN:VTIMEZONE
TZID:Europe/Riga
BEGIN:DAYLIGHT
TZOFFSETFROM:+0200
TZOFFSETTO:+0300
TZNAME:EEST
DTSTART:20240331T010000
END:DAYLIGHT
BEGIN:STANDARD
TZOFFSETFROM:+0300
TZOFFSETTO:+0200
TZNAME:EET
DTSTART:20241027T010000
END:STANDARD
BEGIN:DAYLIGHT
TZOFFSETFROM:+0200
TZOFFSETTO:+0300
TZNAME:EEST
DTSTART:20250330T010000
END:DAYLIGHT
BEGIN:STANDARD
TZOFFSETFROM:+0300
TZOFFSETTO:+0200
TZNAME:EET
DTSTART:20251026T010000
END:STANDARD
BEGIN:DAYLIGHT
TZOFFSETFROM:+0200
TZOFFSETTO:+0300
TZNAME:EEST
DTSTART:20260329T010000
END:DAYLIGHT
BEGIN:STANDARD
TZOFFSETFROM:+0300
TZOFFSETTO:+0200
TZNAME:EET
DTSTART:20261025T010000
END:STANDARD
END:VTIMEZONE
BEGIN:VEVENT
DTSTART;VALUE=DATE:20251203
DTEND;VALUE=DATE:20251204
DTSTAMP:20260424T102840
CREATED:20251204T102900Z
LAST-MODIFIED:20251204T102900Z
UID:10001013-1764720000-1764806399@prataspeles.com
SUMMARY:"Muzikālās" Prāta Spēles. Rezultāti
DESCRIPTION:Vieta\nSpēletājs\nPunkti\n\n\n1\nM&M\n1080\n\n\n2\nAG\n950\n\n\n3\nPaka čipsu\n923\n\n\n4\nANETUX\n786\n\n\n5\nAZ\n759\n\n\n6\nKristersP\n751\n\n\n7\nSimčiks\n694\n\n\n8\nEduardo\n688\n\n\n9\nĶengarags\n667\n\n\n10\nCreeping Hunger\n653\n\n\n11\nDNP\n634\n\n\n12\nAlise\n630\n\n\n13\nEdvards\n614\n\n\n14\nStrelnieks\n613\n\n\n15\nČetrdesmit divi\n598\n\n\n16\nAM\n581\n\n\n17\nDarcy\n529\n\n\n18\nMadara\n526\n\n\n19\nElizabete&Roberts\n525\n\n\n20\nRonija\n517\n\n\n21\nIkards\n498\n\n\n22\nKaifs\n383\n\n\n23\nAleksandrs\n343
URL:https://prataspeles.com/event/muzikalas-prata-speles-rezultati-32/
LOCATION:“Brūzis Manufaktūra”\, Brīvības gatve 401C\, Rīga\, Latvia
CATEGORIES:Muzikālās ''Prāta spēles''
END:VEVENT
BEGIN:VEVENT
DTSTART;TZID=Europe/Riga:20251203T190000
DTEND;TZID=Europe/Riga:20251203T210000
DTSTAMP:20260424T102840
CREATED:20251127T113004Z
LAST-MODIFIED:20251127T113004Z
UID:10000958-1764788400-1764795600@prataspeles.com
SUMMARY:Muzikālās "Prāta Spēles"
DESCRIPTION:📅 3. decembrīBrūzis Manufaktūra aicina Tevi uz Muzikālās “Prāta Spēles” vakaru\, kur mūzika\, jautrība un draudzīga sacensība garantēs neaizmirstamu pieredzi! \nKO SAGAIDĪT?🎤 Aizraujošus muzikālo viktorīnu par pēdējo gadu populārākajām dziesmām un māksliniekiem🎁 Pārsteigumus no laimes rata🏆 Balvas veiksmīgākajiem un atraktīvākajiem dalībniekiem🔥 Atmosfēru\, kas liks dziedāt līdzi pēdējo gadu hitus! 🔥 \n⏰ SVARĪGI! Ierodies jlaicīgi\, lai būtu gatavs startam 19:00! \n🪑 GALDIŅU SKAITS IEROBEŽOTS! Rezervē vietu\, sazinoties ar Brūzis Manufaktūra. \nNāc viens vai kopā ar draugiem – tevi sagaida vakars\, kas būs pilns mūzikas\, jautrības un lieliskām emocijām! 🎶 \nPasākuma laikā dalībnieki var tikt fotografēti un filmēti. Iegūtie materiāli var tikt izmantoti publiski. \n#prataspeles #viktorīna #brūzismanufaktūra #muzikalasprataspeles
URL:https://prataspeles.com/event/muzikalas-prata-speles-4/
LOCATION:“Brūzis Manufaktūra”\, Brīvības gatve 401C\, Rīga\, Latvia
CATEGORIES:Muzikālās ''Prāta spēles''
END:VEVENT
BEGIN:VEVENT
DTSTART;VALUE=DATE:20251210
DTEND;VALUE=DATE:20251211
DTSTAMP:20260424T102840
CREATED:20251211T104053Z
LAST-MODIFIED:20251211T104053Z
UID:10001014-1765324800-1765411199@prataspeles.com
SUMMARY:Muzikālās "Prāta Spēles". Rezultāti
DESCRIPTION:Vieta\nSpēlātājs\nPunkti\n\n\n1\nIndrika9\n1169\n\n\n2\nLaimis Vaikulis\n1145\n\n\n3\nNevermind1983\n1143\n\n\n4\nSkipy\n1105\n\n\n5\nSauleszaķis\n1091\n\n\n6\nDoroteja\n1062\n\n\n7\nDP\n1036\n\n\n8\nIņģis\n1007\n\n\n9\nGalvas blīve\n1003\n\n\n10\nJurisV\n974\n\n\n11\nBabete\n929\n\n\n12\nAleksandrs\n862\n\n\n13\nRonija\n832\n\n\n14\nRickety Cricket\n807\n\n\n15\nBāc\n748\n\n\n16\nMadara\n745\n\n\n17\nAlnis\n734\n\n\n18\nRoba\n632\n\n\n19\nJānisZ\n567\n\n\n20\nIkards\n508\n\n\n21\nOskarsP\n489\n\n\n22\nIlze\n449\n\n\n23\nKika\n341
URL:https://prataspeles.com/event/muzikalas-prata-speles-rezultati-33/
LOCATION:“Brūzis Manufaktūra”\, Brīvības gatve 401C\, Rīga\, Latvia
CATEGORIES:Muzikālās ''Prāta spēles''
END:VEVENT
BEGIN:VEVENT
DTSTART;TZID=Europe/Riga:20251210T190000
DTEND;TZID=Europe/Riga:20251210T210000
DTSTAMP:20260424T102840
CREATED:20251127T113040Z
LAST-MODIFIED:20251127T113040Z
UID:10000959-1765393200-1765400400@prataspeles.com
SUMMARY:Muzikālās "Prāta Spēles"
DESCRIPTION:📅 10. decembrīBrūzis Manufaktūra aicina Tevi uz Muzikālās “Prāta Spēles” vakaru\, kur mūzika\, jautrība un draudzīga sacensība garantēs neaizmirstamu pieredzi! \nKO SAGAIDĪT?🎤 Aizraujošus muzikālo viktorīnu par pēdējo gadu populārākajām dziesmām un māksliniekiem🎁 Pārsteigumus no laimes rata🏆 Balvas veiksmīgākajiem un atraktīvākajiem dalībniekiem🔥 Atmosfēru\, kas liks dziedāt līdzi pēdējo gadu hitus! 🔥 \n⏰ SVARĪGI! Ierodies jlaicīgi\, lai būtu gatavs startam 19:00! \n🪑 GALDIŅU SKAITS IEROBEŽOTS! Rezervē vietu\, sazinoties ar Brūzis Manufaktūra. \nNāc viens vai kopā ar draugiem – tevi sagaida vakars\, kas būs pilns mūzikas\, jautrības un lieliskām emocijām! 🎶 \nPasākuma laikā dalībnieki var tikt fotografēti un filmēti. Iegūtie materiāli var tikt izmantoti publiski. \n#prataspeles #viktorīna #brūzismanufaktūra #muzikalasprataspeles
URL:https://prataspeles.com/event/muzikalas-prata-speles-6/
LOCATION:“Brūzis Manufaktūra”\, Brīvības gatve 401C\, Rīga\, Latvia
CATEGORIES:Muzikālās ''Prāta spēles''
END:VEVENT
BEGIN:VEVENT
DTSTART;VALUE=DATE:20251217
DTEND;VALUE=DATE:20251218
DTSTAMP:20260424T102840
CREATED:20251218T085400Z
LAST-MODIFIED:20251218T085400Z
UID:10001016-1765929600-1766015999@prataspeles.com
SUMMARY:Muzikālās "Prāta Spēles". Rezultāti
DESCRIPTION:Vieta\nSpēlētājs\nPunkti\n\n\n1\nKartupelis(Samanta)\n1047\n\n\n2\nKK\n1034\n\n\n3\nSkipy\n1029\n\n\n4\nGlūmis\n1007\n\n\n5\nCukurzirnītis\n988\n\n\n6\nSimčiks\n973\n\n\n7\nMEGA Biezenis\n965\n\n\n8\nOne (s)hit wonder\n959\n\n\n9\nEduardo\n948\n\n\n10\nNoteikti neesmu dzirdējis\n864\n\n\n11\nMatemaatika\n838\n\n\n12\nBabete\n838\n\n\n13\nStrelnieks\n830\n\n\n14\nMadara\n827\n\n\n15\netgars\n797\n\n\n16\nAM\n795\n\n\n17\nAT\n784\n\n\n18\nDelfīns\n755\n\n\n19\nAleksandrs\n720\n\n\n20\nIkards\n707\n\n\n21\nRonija\n677\n\n\n22\nDP\n634\n\n\n23\nElīna\n623\n\n\n24\nSandra\n614\n\n\n25\nInese\n601\n\n\n26\nAgnese\n596\n\n\n27\nSaja\n587\n\n\n28\nJurisV\n575\n\n\n29\nIlze\n548\n\n\n30\nIveta\n522\n\n\n31\nRock bottom\n471\n\n\n32\nAnda\n450\n\n\n33\nRonalds\n374\n\n\n34\nDzeguze\n346\n\n\n35\nELENA\n245\n\n\n36\n¥$$\n63
URL:https://prataspeles.com/event/muzikalas-prata-speles-rezultati-34/
LOCATION:“Brūzis Manufaktūra”\, Brīvības gatve 401C\, Rīga\, Latvia
CATEGORIES:Muzikālās ''Prāta spēles''
END:VEVENT
END:VCALENDAR