BEGIN:VCALENDAR
VERSION:2.0
PRODID:-//Prāta spēles - ECPv6.15.20//NONSGML v1.0//EN
CALSCALE:GREGORIAN
METHOD:PUBLISH
X-ORIGINAL-URL:https://prataspeles.com
X-WR-CALDESC:Events for Prāta spēles
REFRESH-INTERVAL;VALUE=DURATION:PT1H
X-Robots-Tag:noindex
X-PUBLISHED-TTL:PT1H
BEGIN:VTIMEZONE
TZID:Europe/Riga
BEGIN:DAYLIGHT
TZOFFSETFROM:+0200
TZOFFSETTO:+0300
TZNAME:EEST
DTSTART:20240331T010000
END:DAYLIGHT
BEGIN:STANDARD
TZOFFSETFROM:+0300
TZOFFSETTO:+0200
TZNAME:EET
DTSTART:20241027T010000
END:STANDARD
BEGIN:DAYLIGHT
TZOFFSETFROM:+0200
TZOFFSETTO:+0300
TZNAME:EEST
DTSTART:20250330T010000
END:DAYLIGHT
BEGIN:STANDARD
TZOFFSETFROM:+0300
TZOFFSETTO:+0200
TZNAME:EET
DTSTART:20251026T010000
END:STANDARD
BEGIN:DAYLIGHT
TZOFFSETFROM:+0200
TZOFFSETTO:+0300
TZNAME:EEST
DTSTART:20260329T010000
END:DAYLIGHT
BEGIN:STANDARD
TZOFFSETFROM:+0300
TZOFFSETTO:+0200
TZNAME:EET
DTSTART:20261025T010000
END:STANDARD
END:VTIMEZONE
BEGIN:VEVENT
DTSTART;VALUE=DATE:20250813
DTEND;VALUE=DATE:20250814
DTSTAMP:20260424T161143
CREATED:20250818T083815Z
LAST-MODIFIED:20250818T083815Z
UID:10000884-1755043200-1755129599@prataspeles.com
SUMMARY:Muzikālās "Prāta Spēles" rezultāti
DESCRIPTION:Muzikālās “Prāta Spēles” rezultāti\, 13.08.2025. \n\n\n\n\n\n\n\nVieta\nSpēlētājs\nPunkti\n\n\n1\nAldis\n1043\n\n\n2\nKartupelis(Samanta)\n1026\n\n\n3\nIndrika9\n993\n\n\n4\nKK\n985\n\n\n5\nAura\n890\n\n\n6\nDB Cooper\n834\n\n\n7\nHhhhhh\n780\n\n\n8\nCaalis\n776\n\n\n9\nPotato\n766\n\n\n10\nkaterīna\n740\n\n\n11\nLelee\n735\n\n\n12\nagate\n726\n\n\n13\nMrata\n713\n\n\n14\nNT\n709\n\n\n15\nLushka\n707\n\n\n16\nŠķiņkis\n696\n\n\n17\nArtis bez Loras\n691\n\n\n18\nGateris\n689\n\n\n19\nPoncikins\n688\n\n\n20\nAI\n688\n\n\n21\nHehe\n652\n\n\n22\nJānis K\n650\n\n\n23\nAleksandrs\n642\n\n\n24\nMaybe\n623\n\n\n25\nDzintars\n612\n\n\n26\nBigTasty\n607\n\n\n27\nRūdis\n606\n\n\n28\nyeehaw\n574\n\n\n29\nJayJ\n573\n\n\n30\nDP\n573\n\n\n31\nTigra\n566\n\n\n32\nkriksis\n566\n\n\n33\nNine Inch Fingernails\n553\n\n\n34\nBlondīnes\n449\n\n\n35\nRock bottom\n441\n\n\n36\nedzuls\n370
URL:https://prataspeles.com/event/muzikalas-prata-speles-rezultati-17/
CATEGORIES:Muzikālās ''Prāta spēles''
END:VEVENT
BEGIN:VEVENT
DTSTART;VALUE=DATE:20250820
DTEND;VALUE=DATE:20250821
DTSTAMP:20260424T161143
CREATED:20250822T082731Z
LAST-MODIFIED:20250822T082731Z
UID:10000899-1755648000-1755734399@prataspeles.com
SUMMARY:Muzikālās "Prāta Spēles" rezultāti
DESCRIPTION:Vieta\nSpēlētājs\npunkti\n\n\n1\nsanta\n1063\n\n\n2\nDiāna 🙂\n1045\n\n\n3\nDIVI\n1037\n\n\n4\nVizma Mič\n1037\n\n\n5\nKK\n1033\n\n\n6\nAldis\n1029\n\n\n7\nOne (s)hit wonder\n1015\n\n\n8\nEltons Kleptons\n994\n\n\n9\nZuze\n988\n\n\n10\nPaulīne\n976\n\n\n11\nPaka čipšu\n976\n\n\n12\nAPizich\n939\n\n\n13\nMadarinjo\n923\n\n\n14\nSunshine10\n898\n\n\n15\nZoja\n884\n\n\n16\nBober\n852\n\n\n17\nLilons\n840\n\n\n18\nEvijas bijusī kolēģe\n828\n\n\n19\nVasarniece\n827\n\n\n20\nKoala\n814\n\n\n21\nEgija\n813\n\n\n22\nUldis\n779\n\n\n23\nMean Green Machine\n778\n\n\n24\nMāksliniece\n771\n\n\n25\nLletina\n766\n\n\n26\nRūdis\n766\n\n\n27\nHehe\n761\n\n\n28\nZilais valis\n759\n\n\n29\nAleksandrs\n758\n\n\n30\nCHARMING\n756\n\n\n31\nLil D\n755\n\n\n32\nBirze\n739\n\n\n33\nPotato\n705\n\n\n34\nAnsis\n703\n\n\n35\nPatricijina\n699\n\n\n36\nJancisko\n699\n\n\n37\nkityya\n693\n\n\n38\nČiekuriņš\n692\n\n\n39\nArtis bez Loras\n690\n\n\n40\nkaterīna\n689\n\n\n41\nCaalis\n684\n\n\n42\nedzuls\n673\n\n\n43\nSabix\n667\n\n\n44\nJayJ\n654\n\n\n45\nNT\n654\n\n\n46\nSils\n640\n\n\n47\nŠķiņkis\n628\n\n\n48\nDP\n618\n\n\n49\nBlondīnes 🙂\n591\n\n\n50\nKristīne\n557\n\n\n51\nguccibatman\n542\n\n\n52\nDzintars\n515\n\n\n53\nRock bottom\n503\n\n\n54\nmiķis\n0
URL:https://prataspeles.com/event/muzikalas-prata-speles-rezultati-18/
LOCATION:“Brūzis Manufaktūra”\, Brīvības gatve 401C\, Rīga\, Latvia
CATEGORIES:Muzikālās ''Prāta spēles''
END:VEVENT
END:VCALENDAR