BEGIN:VCALENDAR
VERSION:2.0
PRODID:-//Prāta spēles - ECPv6.15.20//NONSGML v1.0//EN
CALSCALE:GREGORIAN
METHOD:PUBLISH
X-ORIGINAL-URL:https://prataspeles.com
X-WR-CALDESC:Events for Prāta spēles
REFRESH-INTERVAL;VALUE=DURATION:PT1H
X-Robots-Tag:noindex
X-PUBLISHED-TTL:PT1H
BEGIN:VTIMEZONE
TZID:Europe/Riga
BEGIN:DAYLIGHT
TZOFFSETFROM:+0200
TZOFFSETTO:+0300
TZNAME:EEST
DTSTART:20240331T010000
END:DAYLIGHT
BEGIN:STANDARD
TZOFFSETFROM:+0300
TZOFFSETTO:+0200
TZNAME:EET
DTSTART:20241027T010000
END:STANDARD
BEGIN:DAYLIGHT
TZOFFSETFROM:+0200
TZOFFSETTO:+0300
TZNAME:EEST
DTSTART:20250330T010000
END:DAYLIGHT
BEGIN:STANDARD
TZOFFSETFROM:+0300
TZOFFSETTO:+0200
TZNAME:EET
DTSTART:20251026T010000
END:STANDARD
BEGIN:DAYLIGHT
TZOFFSETFROM:+0200
TZOFFSETTO:+0300
TZNAME:EEST
DTSTART:20260329T010000
END:DAYLIGHT
BEGIN:STANDARD
TZOFFSETFROM:+0300
TZOFFSETTO:+0200
TZNAME:EET
DTSTART:20261025T010000
END:STANDARD
END:VTIMEZONE
BEGIN:VEVENT
DTSTART;TZID=Europe/Riga:20250507T190000
DTEND;TZID=Europe/Riga:20250507T210000
DTSTAMP:20260424T222600
CREATED:20250509T094821Z
LAST-MODIFIED:20250509T094821Z
UID:10000831-1746644400-1746651600@prataspeles.com
SUMMARY:Muzikālās "Prāta Spēles" rezultāti
DESCRIPTION:Muzikālās “Prāta Spēles” 07.05.2025. rezultāti: \n  \n\n\n\nVieta\nDalībnieks\nRezultāts\n\n\n1\nMorena\n1103\n\n\n2\nŠņageris\n1064\n\n\n3\nRubenes taksists īstais\n990\n\n\n4\nKartupelis(Samanta)\n951\n\n\n5\nCukurzirnītis\n894\n\n\n6\nMarina\n873\n\n\n7\nMEGA Biezenis\n861\n\n\n8\nKlintbizkit\n856\n\n\n9\nGlūmis\n824\n\n\n10\nNicis\n823\n\n\n11\nCHARMING\n819\n\n\n12\nBaloži\n808\n\n\n13\nKarlis\n804\n\n\n14\nAnsis\n770\n\n\n15\nZemenite\n744\n\n\n16\nBitanlifts\n744\n\n\n17\nLauriX\n737\n\n\n18\nLapsa\n717\n\n\n19\nAgense\n709\n\n\n20\nDidii\n690\n\n\n21\nRrR\n666\n\n\n22\nSūzana\n643\n\n\n23\nArigo Toro\n578\n\n\n24\nKIKĪ\n547\n\n\n25\nS\n525\n\n\n26\nLinda\n506\n\n\n27\nDP\n471\n\n\n28\nTatjana P\n467\n\n\n29\nAleksandrs\n421\n\n\n30\nRock bottom\n395\n\n\n31\nMārīte\n325\n\n\n32\nNatali\n286\n\n\n33\nSecret\n232\n\n\n34\nRubenes taksists\n155
URL:https://prataspeles.com/event/muzikalas-prata-speles-rezultati-7/
LOCATION:“Brūzis Manufaktūra”\, Brīvības gatve 401C\, Rīga\, Latvia
CATEGORIES:Muzikālās ''Prāta spēles''
END:VEVENT
BEGIN:VEVENT
DTSTART;TZID=Europe/Riga:20250514T190000
DTEND;TZID=Europe/Riga:20250514T210000
DTSTAMP:20260424T222600
CREATED:20250516T134554Z
LAST-MODIFIED:20250516T134554Z
UID:10000832-1747249200-1747256400@prataspeles.com
SUMMARY:Muzikālās "Prāta Spēles" rezultāti
DESCRIPTION:Muzikālās “Prāta  Spēles” rezultāti\, 14.05.2025. \n\n\n\nVieta\nDalībnieks\nRezultāts\n\n\n1\nAr potenciālu\n1021\n\n\n2\nZeļļu solista frizieris\n1000\n\n\n3\nRikitons\n838\n\n\n4\nTevdarīne\n828\n\n\n5\nPaulīne\n708\n\n\n6\nSantumiņš\n697\n\n\n7\nCHARMING\n635\n\n\n8\nAyyooBeness\n624\n\n\n9\nAnnnjuuuu\n584\n\n\n10\nDP\n580\n\n\n11\nAnsis\n559\n\n\n12\nBaloži\n555\n\n\n13\nAleksandrs\n539\n\n\n14\nRonijaa\n534\n\n\n15\nMarina\n495\n\n\n16\nDancing Rain\n492\n\n\n17\nArigo Toro\n488\n\n\n18\nLapinja\n432\n\n\n\n 
URL:https://prataspeles.com/event/muzikalas-prata-speles-rezultati-8/
LOCATION:“Brūzis Manufaktūra”\, Brīvības gatve 401C\, Rīga\, Latvia
CATEGORIES:Muzikālās ''Prāta spēles''
END:VEVENT
BEGIN:VEVENT
DTSTART;TZID=Europe/Riga:20250521T190000
DTEND;TZID=Europe/Riga:20250521T210000
DTSTAMP:20260424T222600
CREATED:20250522T130505Z
LAST-MODIFIED:20250522T130505Z
UID:10000838-1747854000-1747861200@prataspeles.com
SUMMARY:Muzikālās "Prāta Spēles" rezultāti
DESCRIPTION:Muzikālās “Prāta Spēles” rezultāti\, 2.05.2025. \n\n\n\nVieta\nDalībnieks\nRezultāts\n\n\n1\nAldis\n1139\n\n\n2\nsignekatsa\n1122\n\n\n3\nKENĀRS\n1107\n\n\n4\nKateee\n1086\n\n\n5\nKartupelis Free\n1082\n\n\n6\nKrišjānēns 0rbid\n1073\n\n\n7\nMarina\n1065\n\n\n8\nCukurzirnītis\n1052\n\n\n9\nEltons Kleptons\n1049\n\n\n10\nUndine⭐️\n1035\n\n\n11\nKartupelis(Samanta)\n1031\n\n\n12\nKK\n1030\n\n\n13\nMEGA Biezenis\n1026\n\n\n14\nPaka čipšu\n997\n\n\n15\nZuze\n996\n\n\n16\nMaskackas erzelis\n991\n\n\n17\nBaloži\n989\n\n\n18\nIncis\n970\n\n\n19\nOrbi dance\n958\n\n\n20\nzhuu\n920\n\n\n21\nSkaifordžerijs\n865\n\n\n22\nCHARMING\n860\n\n\n23\nValtStrīts\n827\n\n\n24\nVikkki\n824\n\n\n25\nKārlis L\n811\n\n\n26\nDP\n810\n\n\n27\nVadzis\n801\n\n\n28\nDumais Laacis\n794\n\n\n29\nTigra\n772\n\n\n30\nMx\n762\n\n\n31\nAnsis\n761\n\n\n32\nAt Least I Tried\n717\n\n\n33\nSniegavīrs\n709\n\n\n34\nRL\n703\n\n\n35\nValtstrītas nulle\n686\n\n\n36\nblondīnes\n679\n\n\n37\nIevaap\n656\n\n\n38\nRock bottom\n642\n\n\n39\nLaura\n582\n\n\n40\nVii\n560\n\n\n41\nLuīze\n480\n\n\n42\nPriežuks\n440
URL:https://prataspeles.com/event/muzikalas-prata-speles-rezultati-9/
LOCATION:“Brūzis Manufaktūra”\, Brīvības gatve 401C\, Rīga\, Latvia
CATEGORIES:Muzikālās ''Prāta spēles''
END:VEVENT
BEGIN:VEVENT
DTSTART;TZID=Europe/Riga:20250528T190000
DTEND;TZID=Europe/Riga:20250528T210000
DTSTAMP:20260424T222600
CREATED:20250530T094704Z
LAST-MODIFIED:20250530T094704Z
UID:10000848-1748458800-1748466000@prataspeles.com
SUMMARY:Muzikālās "Prāta Spēles" rezultāti
DESCRIPTION:Muzikālās “Prāta Spēles” rezultāti\, 28.05.2025. \n\n\n\nVieta\nDalībnieks\nRezultāts\n\n\n1\nOne (s)hit wonder\n886\n\n\n2\nRīgassatiksme.cover\n789\n\n\n3\nCrisp Lager\n787\n\n\n4\nCHARMING\n709\n\n\n5\nAnsis\n641\n\n\n6\nDP\n622\n\n\n7\nLita\n582\n\n\n8\nBaska\n552\n\n\n9\nRock bottom\n516\n\n\n10\nPooo\n515\n\n\n11\nInese&Co\n441\n\n\n12\nIvo R.\n429\n\n\n13\nBERZS\n425\n\n\n14\nJJ\n397\n\n\n15\nG\n388\n\n\n16\nAmanda\n384\n\n\n17\nRalfs G\n336\n\n\n18\nKarlina\n334\n\n\n19\nVidzemesvip\n295\n\n\n20\nMaria\n290\n\n\n21\nRauč\n279
URL:https://prataspeles.com/event/muzikalas-prata-speles-rezultati-10/
LOCATION:“Brūzis Manufaktūra”\, Brīvības gatve 401C\, Rīga\, Latvia
CATEGORIES:Muzikālās ''Prāta spēles''
END:VEVENT
END:VCALENDAR