BEGIN:VCALENDAR
VERSION:2.0
PRODID:-//Prāta spēles - ECPv6.15.20//NONSGML v1.0//EN
CALSCALE:GREGORIAN
METHOD:PUBLISH
X-WR-CALNAME:Prāta spēles
X-ORIGINAL-URL:https://prataspeles.com
X-WR-CALDESC:Events for Prāta spēles
REFRESH-INTERVAL;VALUE=DURATION:PT1H
X-Robots-Tag:noindex
X-PUBLISHED-TTL:PT1H
BEGIN:VTIMEZONE
TZID:Europe/Riga
BEGIN:DAYLIGHT
TZOFFSETFROM:+0200
TZOFFSETTO:+0300
TZNAME:EEST
DTSTART:20240331T010000
END:DAYLIGHT
BEGIN:STANDARD
TZOFFSETFROM:+0300
TZOFFSETTO:+0200
TZNAME:EET
DTSTART:20241027T010000
END:STANDARD
BEGIN:DAYLIGHT
TZOFFSETFROM:+0200
TZOFFSETTO:+0300
TZNAME:EEST
DTSTART:20250330T010000
END:DAYLIGHT
BEGIN:STANDARD
TZOFFSETFROM:+0300
TZOFFSETTO:+0200
TZNAME:EET
DTSTART:20251026T010000
END:STANDARD
BEGIN:DAYLIGHT
TZOFFSETFROM:+0200
TZOFFSETTO:+0300
TZNAME:EEST
DTSTART:20260329T010000
END:DAYLIGHT
BEGIN:STANDARD
TZOFFSETFROM:+0300
TZOFFSETTO:+0200
TZNAME:EET
DTSTART:20261025T010000
END:STANDARD
END:VTIMEZONE
BEGIN:VEVENT
DTSTART;TZID=Europe/Riga:20250108T190000
DTEND;TZID=Europe/Riga:20250108T210000
DTSTAMP:20260425T032846
CREATED:20241226T134449Z
LAST-MODIFIED:20241226T134449Z
UID:10000685-1736362800-1736370000@prataspeles.com
SUMMARY:Muzikālās "Prāta Spēles" - ONE HIT WONDERS
DESCRIPTION:Jaunā gada brīnumus uzsākam ar ONE HOT WONDERS!  Nāc un pievienojies aizraujošai bezmaksas viktorīnai!\n\n8 . janvāris\, plkst. 19:00  Brūzis Manufaktūra\n\n Vai atceries vienreizējos hitus\, kas pasaulē popularitāti iekaroja fantastiskā ātrumā? One hit wonders dziesmu un to izpildītāju minēšana noteikti atsauks atmiņā pašus populārākos hitus\, kas reiz Tavam mieram lika iegriezt īstu vētru! Nāc uz mūsu foršo viktorīnas vakaru\, kur noķersi lielisku vaibu un\, iespējams\, varēsi iegriezt laimes ratu\, saņemot superīgu dāvanu no Brūzis Manufaktūra!\nTev nebūs jāuztraucas par: Dalības maksu – jo tādas nav! Vecuma ierobežojumiem – jo visi mīļi gaidīti!\n\nTevi sagaida: Pacilājoši mūzikas hiti\, kurus noteikti atpazīsi! Foršas balvas – gan noderīgas\, gan gardas. Alus un uzkodas – jo kas gan ir viktorīna bez našķiem un dzērieniem?\nPaķer draugus\, ģimeni vai nāc vienītī – būs forši!\n\n P.S. Esi gatavs\, ka vari tikt fotografēts.\n\n#muzikalasprataspeles #prataspeles #bruzismanufaktura
URL:https://prataspeles.com/event/muzikalas-prata-speles-one-hit-wonders/
LOCATION:“Brūzis Manufaktūra”\, Brīvības gatve 401C\, Rīga\, Latvia
CATEGORIES:Muzikālās ''Prāta spēles''
ATTACH;FMTTYPE=image/jpeg:https://prataspeles.com/wp-content/uploads/2024/12/Copy-of-Blue-Modern-Minimalist-Artificial-Intelligence-Technology-Presentation.jpg
END:VEVENT
BEGIN:VEVENT
DTSTART;TZID=Europe/Riga:20250115T190000
DTEND;TZID=Europe/Riga:20250115T210000
DTSTAMP:20260425T032846
CREATED:20250110T114327Z
LAST-MODIFIED:20250110T114327Z
UID:10000698-1736967600-1736974800@prataspeles.com
SUMMARY:Muzikālās "Prāta Spēles" 2000. - 2024. gadu hiti
DESCRIPTION:🎵 MUZIKĀLĀS PRĀTA SPĒLES: 2000.-2024. GADU HITU VAKARS! 🎵 \nAtceries to sajūtu\, kad radio skanēja dziesma\, kuru nevarēji dabūt ārā no galvas? Tās melodijas\, kas lika dejot un dziedāt līdzi? Tagad ir Tava iespēja pierādīt\, ka esi īsts mūzikas guru! \n📅 KAD: 15. janvāris\, plkst. 19:00 📍 KUR: Brūzis Manufaktūra \n💫 KĀPĒC TEV TO NEVAJADZĒTU PALAIST GARĀM: \n\nAizraujoša muzikālā viktorīna ar pēdējo 24 gadu karstākajiem hitiem\nBEZMAKSAS dalība – jā\, tu pareizi izlasīji!\nFantastiskas balvas uzvarētājiem\nGarda alus un uzkodu izvēle\nLieliska atmosfēra un pozitīvas emocijas garantētas!\n\n👥 IDEĀLI PIEMĒROTS: \n\nMūzikas entuziastiem\nNostalģijas cienītājiem\nDraugu kompānijām\nĢimenēm\nIkvienam\, kas meklē jautru vakaru!\n\n🎉 Nav vecuma ierobežojumu – nāc un pierādi\, ka mūzikas zināšanas nav gadu jautājums! \n⭐Fotografēsim pasākuma uzvarētāju\, tāpēc esi gatavs kļūt par vakara zvaigzni! \nVietu skaits nav ierobežots\, bet labākie galdiņi aiziet ātri! Tos vari rezervēt\, sazinoties ar “Brūzis Manufaktūra” \n#muzikalasprataspeles #prataspeles #bruzismanufaktura
URL:https://prataspeles.com/event/muzikalas-prata-speles-2000-2024-gadu-hiti/
LOCATION:“Brūzis Manufaktūra”\, Brīvības gatve 401C\, Rīga\, Latvia
CATEGORIES:Muzikālās ''Prāta spēles''
ATTACH;FMTTYPE=image/jpeg:https://prataspeles.com/wp-content/uploads/2025/01/Copy-of-Blue-Modern-Minimalist-Artificial-Intelligence-Technology-Presentation.jpg
END:VEVENT
BEGIN:VEVENT
DTSTART;TZID=Europe/Riga:20250122T190000
DTEND;TZID=Europe/Riga:20250122T210000
DTSTAMP:20260425T032846
CREATED:20250116T091902Z
LAST-MODIFIED:20250124T061519Z
UID:10000709-1737572400-1737579600@prataspeles.com
SUMMARY:Muzikālās "Prāta Spēles" - "Mikrofona aptauja"
DESCRIPTION:MIKROFONA APTAUJAS LEĢENDAS: LATVIJAS ZELTA MELODIJU NAKTS! 🎵 \nVai atceries tās neaizmirstamās melodijas\, kas veidoja Latvijas mūzikas vēsturi? Dziesmas\, kas lika mums smaidīt\, raudāt un sapņot? Tagad ir Tava iespēja atkal izdzīvot šos brīnišķīgos mirkļus! \nKAD: 22. janvāris\, plkst. 19:00 KUR: Brūzis Manufaktūra \nKĀPĒC ŠIS VAKARS BŪS ĪPAŠS: \n\nAizraujoša muzikālā viktorīna ar leģendārajām “Mikrofona aptaujas” dziesmām\nBEZMAKSAS dalība – mūzika vieno bez maksas!\nFantastiskas balvas zinātājiem\nGarda alus un uzkodu izvēle no Brūzis Manufaktūra virtuves\nNostalģiska un sirsnīga atmosfēra garantēta!\n\nPASĀKUMS IDEĀLI PIEMĒROTS: \n\nLatvijas mūzikas mīļotājiem\nTiem\, kas zina katru “Mikrofona aptaujas” dziesmas vārdu\nDraugu kompānijām\, kas vēlas dalīties atmiņās\nĢimenēm\, kas vēlas nodot mūzikas mantojumu tālāk\nIkvienam\, kas vēlas izbaudīt latviešu mūzikas pērles!\n\nŠis nav tikai viktorīnas vakars – tā ir ceļojums caur Latvijas mūzikas zelta fondu! Nav svarīgi\, vai Tu uzaugi ar šīm dziesmām vai tikai tagad tās atklāj – šeit vieta būs visiem! \nFotografēsim pasākuma uzvarētāju\, tāpēc esi gatavs kļūt par vakara zvaigzni! \nVietu skaits nav ierobežots\, bet labākie galdiņi aiziet ātri! Lai rezervētu savu vietu šajā neaizmirstamajā vakarā\, sazinies ar “Brūzis manufaktūra”! \n#MikrofonaAptauja #LatvijasZeltaMelodijas #BruzisManufaktura #prataspeles #muzikalasparataspeles \nREZULTĀTI: \n\n\n\nVieta\nDalībnieks\nPunkti\n\n\n1\nIndrika9\n984\n\n\n2\nRubenes taksists\n931\n\n\n3\nAnsis\n861\n\n\n4\nAnita\n827\n\n\n5\nCHARMING\n769\n\n\n6\nTevdarīne\n742\n\n\n7\nMelonamaniaks\n702\n\n\n8\nDrako malfojs\n688\n\n\n9\nDP\n572\n\n\n10\nsanta\n551\n\n\n11\nJēzus\n529\n\n\n12\nPaulaEli\n510\n\n\n13\nKomanda\n489\n\n\n14\nGlūmis\n473\n\n\n15\nRock bottom\n465\n\n\n16\nVadzis\n456\n\n\n17\nMEGA Biezenis\n451\n\n\n18\nCukurzirnītis\n443\n\n\n19\nRikitons\n435\n\n\n20\nEK\n414\n\n\n21\nLeldes galdiņš\n401\n\n\n22\nNoslogotais tosteris\n398\n\n\n23\nArtaaa\n396\n\n\n24\nSniegavīrs\n393\n\n\n25\nAleksandrs\n392\n\n\n26\nSantumiņš\n378\n\n\n27\nHarry Potter\n364\n\n\n28\nNadiina:)\n356\n\n\n29\nEt\n354\n\n\n30\nm&m\n343\n\n\n31\nSam\n342\n\n\n32\nĶĪŠEZERA MALIŅĀ\n326\n\n\n33\nIeva_S\n312\n\n\n34\nOskars mazais\n309\n\n\n35\ndakša\n287\n\n\n36\nKipis\n272\n\n\n37\nHārdža\n269\n\n\n38\nNotsure\n212\n\n\n39\nSalmiņš\n182\n\n\n40\nOskarsLielais\n181\n\n\n41\nAbsolventu boss Artūrs\n125\n\n\n42\nRokoko\n125\n\n\n43\nAlinsh\n88\n\n\n44\nMaģistrants\n67
URL:https://prataspeles.com/event/muzikalas-prata-speles-mikrofona-aptauja/
LOCATION:“Brūzis Manufaktūra”\, Brīvības gatve 401C\, Rīga\, Latvia
CATEGORIES:Muzikālās ''Prāta spēles''
ATTACH;FMTTYPE=image/jpeg:https://prataspeles.com/wp-content/uploads/2025/01/Copy-of-Blue-Modern-Minimalist-Artificial-Intelligence-Technology-Presentation-1.jpg
END:VEVENT
BEGIN:VEVENT
DTSTART;TZID=Europe/Riga:20250125T190000
DTEND;TZID=Europe/Riga:20250125T213000
DTSTAMP:20260425T032846
CREATED:20250116T071857Z
LAST-MODIFIED:20250127T073717Z
UID:10000706-1737831600-1737840600@prataspeles.com
SUMMARY:"MOBY KAFE" muzikālās "Prāta Spēles"
DESCRIPTION:🎵 LAIKS CEĻOT LAIKĀ – 90. GADU HITU VAKARS! 🎵 \nHei\, mūzikas guru! Vai esi gatavs pierādīt\, ka zini “Macarena” dejas soli un vari nodziedāt “Ice Ice Baby” vārdus no galvas? \n\njanvārī “Moby Kafe” aicina Tevi uz ĪPAŠO Muzikālās “Prāta Spēles” vakaru\, kur skanēs tikai 90. gadu karstākie hiti!\n\n💫 KAS TEV GARANTĒTS? \n\nCeļojums laikā caur leģendārākajām 90. gadu dziesmām\nNegaidīti pārsteigumi no laimes rata\nForšas dāvanas veiksmīgākajiem dziesmu zinātājiem\nAtmosfēra\, kas liks justies kā MTV ziedu laikos!\n\n⏰ SVARĪGI! Ierodies 19:00\, lai 19:30 būtu gatavs START pozīcijā! (Pasākums 16+ auditorijai) \n💰 CENA? Tikai 5 EUR! (Lētāk nekā 90. gadu CD!) \n🪑 BET UZMANĪBU! Vietu skaits ierobežots kā “Spice Girls” koncertā! Zvani un rezervē galdiņu: +371 29115115 \nNāc viens vai ņem līdzi visu savu 90. gadu fanu klubu – te būs forši visiem! \n*Pasākuma laikā dalībnieki var tikt fotografēti un filmēti. Iegūtie materiāli var tikt izmantoti publiski. \n#prataspeles #90tiehiti #mobykafe #jaunmārupe #muzikalasprataspeles \n  \nRezultāti: \n\n\n\nVieta\nDalībnieks\nRezultāts\n\n\n1\nVinnis\n655\n\n\n2\nOswalds\n567\n\n\n3\ndeminutiivs\n556\n\n\n4\nMeridiana\n554\n\n\n5\nMiška Džeksons\n532\n\n\n6\nBalu\n514\n\n\n7\nNixonz\n494\n\n\n8\nResns puika tievs\n488\n\n\n9\nBRITU SPIRA\n479\n\n\n10\nLī\n477\n\n\n11\nŠmuris\n449\n\n\n12\nSelīna Diode\n446\n\n\n13\nLāčuks\n437\n\n\n14\nJoel\n419\n\n\n15\nEs\n418\n\n\n16\nEdvīns\n407\n\n\n17\nAndris\n401\n\n\n18\nSmits\n395\n\n\n19\nElī\n393\n\n\n20\nEL\n384\n\n\n21\nAnete\n382\n\n\n22\nGangsteru paradīze\n373\n\n\n23\nUna\n369\n\n\n24\nSidlav\n354\n\n\n25\nDiāna\n350\n\n\n26\nBZ\n330\n\n\n27\nLapsa\n322\n\n\n28\nLe-Mu\n313\n\n\n29\nGunita\n309\n\n\n30\nMarcis\n304\n\n\n31\nZHU\n299\n\n\n32\nStudents\n295\n\n\n33\nTanyaPl\n267\n\n\n34\nIncis nr.1\n254\n\n\n35\nSanta\n254\n\n\n36\nElle\n211\n\n\n37\nVladimirs\n204\n\n\n38\nLācis1\n201\n\n\n39\nBusulis\n181\n\n\n40\nlexus\n137\n\n\n41\nLideris\n117\n\n\n42\nLācis\n10
URL:https://prataspeles.com/event/moby-kafe-muzikalas-prata-speles-2/
LOCATION:MOBY KAFE\, Dzirnas\, Mārupes novads\, Latvia
CATEGORIES:Muzikālās ''Prāta spēles''
ATTACH;FMTTYPE=image/jpeg:https://prataspeles.com/wp-content/uploads/2025/01/Blue-Modern-Minimalist-Artificial-Intelligence-Technology-Presentation-6.jpg
END:VEVENT
BEGIN:VEVENT
DTSTART;TZID=Europe/Riga:20250129T190000
DTEND;TZID=Europe/Riga:20250129T190000
DTSTAMP:20260425T032846
CREATED:20250124T083022Z
LAST-MODIFIED:20250131T063845Z
UID:10000746-1738177200-1738177200@prataspeles.com
SUMMARY:Muzikālās "Prāta Spēles" - dažādi hiti
DESCRIPTION:DAŽĀDI HITI – VAKARS\, KO TU NEDRĪKSTI PALAIST GARĀM! 🎶\nKAD: 29. janvāris\, plkst. 19:00\nKUR: Brūzis Manufaktūra \nHei! Vai esi gatavs vakaram\, kur skanēs pavisam dažādi hiti? Šī būs iespēja gan dzirdēt kādu sev iemīļotu senu hitu\, kas atgādinās Tev par seniem piedzīvojumiem\, gan arī dzirdēt kādu pavisam jaunu hitu\, kas var aizķerties galvā un kļūt par Tavu jauno TOP meldiņu! \nKO TU VARI SAGAIDĪT? \n\nMuzikālu viktorīnu\, kas izkustinās gan prātu\, gan atmiņas! Zini hitu – dziedi līdzi! 🎤\nBEZMAKSAS dalība\, jo foršam vakaram nav vajadzīgas ieejas biļetes.\nBalvas – jā\, pareizi! Tavām muzikālajām zināšanām būs sava atzinība! 🏆\nLaba atmosfēra un gardumi – Brūzis Manufaktūra rūpēsies par Tavu komfortu. Alus\, uzkodas un laba kompānija – kas gan vēl nepieciešams?\n100% laba noskaņa garantēta – dažādi hiti\, kas aizvedīs tevi gan atmiņu ceļojumā\, gan piedāvās kaut ko svaigu!\n\nKAS ŠO VAKARU PADARĪS LABĀKU?\nTu un Tavi draugi! Vai arī ģimene\, kolēģi vai pavisam sveši cilvēki\, kuriem vienkārši patīk mūzika un viktorīnas. Šeit galvenais ir forši pavadīt laiku! \nKĀPĒC REZERVĒT GALDIŅU TAGAD?\nJo labākie galdiņi pazūd ātri! Un Tu taču negribi sēdēt stūrī\, vai ne?  Rezervē galdiņu\, sazinoties ar “Brūzis Manufaktūra” \n  \nRezultāti: \n\n\n\nVieta\nDalībnieks\nRezultāts\n\n\n1\nOne (s)hit wonder\n1109\n\n\n2\nKartupelis(Samanta)\n1101\n\n\n3\nVajag vēl vienu\n1070\n\n\n4\nDagnija\n1065\n\n\n5\nEltons Kleptons\n1047\n\n\n6\nCukurzirnītis\n1019\n\n\n7\nCrisp Lager\n1011\n\n\n8\nNoslogotais tosteris\n991\n\n\n9\nCracklo\n985\n\n\n10\nFishin\n972\n\n\n11\nGlūmis\n968\n\n\n12\nMEGA Biezenis\n952\n\n\n13\nCHARMING\n943\n\n\n14\nEduardo\n933\n\n\n15\nLaurish\n929\n\n\n16\nSimčiks\n926\n\n\n17\nRīgas satiksme\n906\n\n\n18\nRuuzja\n904\n\n\n19\nRikitons\n897\n\n\n20\nT6\n894\n\n\n21\nElaiza\n891\n\n\n22\nAcīte\n878\n\n\n23\nZuze\n853\n\n\n24\nMikus\n848\n\n\n25\nbunba\n848\n\n\n26\nVasarniece\n843\n\n\n27\nkD\n842\n\n\n28\nAnsis\n842\n\n\n29\nMikrene\n840\n\n\n30\nSantumiņš\n836\n\n\n31\nAvokado\n836\n\n\n32\nRonijaa\n835\n\n\n33\nkicina\n829\n\n\n34\nFrigid Clock\n812\n\n\n35\nĶĪŠEZERA MALIŅĀ\n785\n\n\n36\nSamis\n764\n\n\n37\nKoala\n729\n\n\n38\nEsNekoNedzirdu\n728\n\n\n39\nHDpuzle\n679\n\n\n40\nDP\n674\n\n\n41\nEdvīns Degvīns\n654\n\n\n42\nNowig\n649\n\n\n43\nKalsarikänit\n635\n\n\n44\nRock bottom\n588\n\n\n45\nAlex\n496\n\n\n46\nRokoko\n478\n\n\n47\nMartini\n437\n\n\n48\nEga\n390\n\n\n49\nAleksandrs\n308\n\n\n50\nSniegavīrs\n305\n\n\n51\nVg\n46\n\n\n52\nTimeblocker\n24\n\n\n\n  \nwww.prataspeles.com \n#prataspeles #viktorīna #mūzika #izklaide #muzikalasprataspeles
URL:https://prataspeles.com/event/muzikalas-prata-speles-dazadi-hiti/
LOCATION:“Brūzis Manufaktūra”\, Brīvības gatve 401C\, Rīga\, Latvia
CATEGORIES:Muzikālās ''Prāta spēles''
ATTACH;FMTTYPE=image/jpeg:https://prataspeles.com/wp-content/uploads/2025/01/Copy-of-Blue-Modern-Minimalist-Artificial-Intelligence-Technology-Presentation-3.jpg
END:VEVENT
END:VCALENDAR