BEGIN:VCALENDAR
VERSION:2.0
PRODID:-//Prāta spēles - ECPv6.15.14//NONSGML v1.0//EN
CALSCALE:GREGORIAN
METHOD:PUBLISH
X-WR-CALNAME:Prāta spēles
X-ORIGINAL-URL:https://prataspeles.com
X-WR-CALDESC:Events for Prāta spēles
REFRESH-INTERVAL;VALUE=DURATION:PT1H
X-Robots-Tag:noindex
X-PUBLISHED-TTL:PT1H
BEGIN:VTIMEZONE
TZID:Europe/Riga
BEGIN:DAYLIGHT
TZOFFSETFROM:+0200
TZOFFSETTO:+0300
TZNAME:EEST
DTSTART:20240331T010000
END:DAYLIGHT
BEGIN:STANDARD
TZOFFSETFROM:+0300
TZOFFSETTO:+0200
TZNAME:EET
DTSTART:20241027T010000
END:STANDARD
BEGIN:DAYLIGHT
TZOFFSETFROM:+0200
TZOFFSETTO:+0300
TZNAME:EEST
DTSTART:20250330T010000
END:DAYLIGHT
BEGIN:STANDARD
TZOFFSETFROM:+0300
TZOFFSETTO:+0200
TZNAME:EET
DTSTART:20251026T010000
END:STANDARD
BEGIN:DAYLIGHT
TZOFFSETFROM:+0200
TZOFFSETTO:+0300
TZNAME:EEST
DTSTART:20260329T010000
END:DAYLIGHT
BEGIN:STANDARD
TZOFFSETFROM:+0300
TZOFFSETTO:+0200
TZNAME:EET
DTSTART:20261025T010000
END:STANDARD
END:VTIMEZONE
BEGIN:VEVENT
DTSTART;TZID=Europe/Riga:20250409T184500
DTEND;TZID=Europe/Riga:20250409T210000
DTSTAMP:20260421T164544
CREATED:20250225T143010Z
LAST-MODIFIED:20250225T143010Z
UID:10000771-1744224300-1744232400@prataspeles.com
SUMMARY:"Prāta Spēles" Pavasara sezona\, 7. spēle
DESCRIPTION:UZMANĪBU! JAUNU KOMANDU PIETEIKŠANA NAV IESPĒJAMA\, LĪDZ SEZONAS BEIGĀM TREŠDIENAS IR AIZPILDĪTAS!
URL:https://prataspeles.com/event/prata-speles-pavasara-sezona-7-spele-2/
LOCATION:“Prāta Spēles” zāle\, Blaumaņa iela 38/40\, Rīga\, Latvia
CATEGORIES:Prāta spēles
ATTACH;FMTTYPE=image/jpeg:https://prataspeles.com/wp-content/uploads/2025/02/7sp.jpg
END:VEVENT
BEGIN:VEVENT
DTSTART;TZID=Europe/Riga:20250409T190000
DTEND;TZID=Europe/Riga:20250409T210000
DTSTAMP:20260421T164544
CREATED:20250414T041352Z
LAST-MODIFIED:20250414T041948Z
UID:10000825-1744225200-1744232400@prataspeles.com
SUMMARY:Muzikālās "Prāta Spēles" rezultāti
DESCRIPTION:Vieta\nDalībnieks\nRezultāts\n\n\n1\nKartupelis(Samanta)\n1076\n\n\n2\nCukurzirnītis\n979\n\n\n3\nOne (s)hit wonder\n970\n\n\n4\nCrisp Lager\n967\n\n\n5\nSimčiks\n954\n\n\n6\nVasarniece\n925\n\n\n7\nGlūmis\n922\n\n\n8\nMEGA Biezenis\n895\n\n\n9\nKlintbizkit\n885\n\n\n10\nFlowing Sun\n877\n\n\n11\nEduardo\n844\n\n\n12\nZuze\n827\n\n\n13\nLauriXxX\n819\n\n\n14\nPaulīne\n816\n\n\n15\nEltons Kleptons\n806\n\n\n16\nCHARMING\n795\n\n\n17\nKoala\n795\n\n\n18\nRonijaa\n793\n\n\n19\nMean Green Machine\n761\n\n\n20\nRīgas satiksme\n737\n\n\n21\nViviiiiiiiiiiiiiiiiiiiiiiiiiiiii\n722\n\n\n22\nAyyooBeness\n719\n\n\n23\nVadzis\n646\n\n\n24\nBomzis\n601\n\n\n25\nKriki\n596\n\n\n26\nAleksandrs\n581\n\n\n27\nPoo\n438\n\n\n28\nDP\n383\n\n\n29\nPooo\n164
URL:https://prataspeles.com/event/muzikalas-prata-speles-rezultati-3/
CATEGORIES:Muzikālās ''Prāta spēles''
END:VEVENT
END:VCALENDAR