BEGIN:VCALENDAR
VERSION:2.0
PRODID:-//Prāta spēles - ECPv6.15.20//NONSGML v1.0//EN
CALSCALE:GREGORIAN
METHOD:PUBLISH
X-WR-CALNAME:Prāta spēles
X-ORIGINAL-URL:https://prataspeles.com
X-WR-CALDESC:Events for Prāta spēles
REFRESH-INTERVAL;VALUE=DURATION:PT1H
X-Robots-Tag:noindex
X-PUBLISHED-TTL:PT1H
BEGIN:VTIMEZONE
TZID:Europe/Riga
BEGIN:DAYLIGHT
TZOFFSETFROM:+0200
TZOFFSETTO:+0300
TZNAME:EEST
DTSTART:20240331T010000
END:DAYLIGHT
BEGIN:STANDARD
TZOFFSETFROM:+0300
TZOFFSETTO:+0200
TZNAME:EET
DTSTART:20241027T010000
END:STANDARD
BEGIN:DAYLIGHT
TZOFFSETFROM:+0200
TZOFFSETTO:+0300
TZNAME:EEST
DTSTART:20250330T010000
END:DAYLIGHT
BEGIN:STANDARD
TZOFFSETFROM:+0300
TZOFFSETTO:+0200
TZNAME:EET
DTSTART:20251026T010000
END:STANDARD
BEGIN:DAYLIGHT
TZOFFSETFROM:+0200
TZOFFSETTO:+0300
TZNAME:EEST
DTSTART:20260329T010000
END:DAYLIGHT
BEGIN:STANDARD
TZOFFSETFROM:+0300
TZOFFSETTO:+0200
TZNAME:EET
DTSTART:20261025T010000
END:STANDARD
END:VTIMEZONE
BEGIN:VEVENT
DTSTART;TZID=Europe/Riga:20250124T184500
DTEND;TZID=Europe/Riga:20250124T210000
DTSTAMP:20260424T041643
CREATED:20250128T134410Z
LAST-MODIFIED:20250128T134411Z
UID:10000701-1737744300-1737752400@prataspeles.com
SUMMARY:"Prāta Spēles"\, Pavasara sezona - 2. spēle
DESCRIPTION:Baudi kopā būšanas mirkļus izzinošā vidē kopā ar “Prāta Spēles” – pārbaudi savas zināšanas\, uzzini daudz ko jaunu un interesantu un izcili pavadi laiku!\n“Prāta Spēles” viktorīnas iekustina pelēkās šūniņas un rada veselīgu atkarību\, kas veicina smadzeņu darbību!\n\nMaksimālais dalībnieku skaits komandā – 6 personas.\n\nNorises vieta un laiks: “Prāta Spēles” spēļu zāle\, Blaumaņa iela 38/40\, 3. stāvs\, plkst. 18:45\n\nPiesakies: prataspeles@prataspeles.com\n\nPasākuma laikā apmeklētāji var tikt fotogrāfēti un filmēti. Iegūtie materiāli tiek izmantoti publiski.\nAtbalsta:PergalėDelfi.lvŽurnāls “Mezgls”ACME Film LatvijaVitabiotics Latvija “Neurozan”GABI apavu veikaliBrain Games LV\n\nRezultāti:\n\n\n\n\n\nKomanda/Kārta\n1\n2\n3\n4\n5\n6\n7\n8\n9\n10\nkopā\nVieta\n\n\nF1 Turbo\n3\n4\n3\n8\n6\n6\n9\n6\n7\n5\n57\n1\n\n\nRozīnes un Rieksti\n3\n4\n2\n8\n3\n3\n9\n5\n4\n6\n47\n2\n\n\nHigh end\n4\n3\n4\n8\n6\n3\n5\n5\n5\n3\n46\n3\n\n\nDomas giganti\n1\n4\n5\n8\n6\n4\n4\n3\n6\n3\n44\n4\5\n\n\nUz augšu\n2\n3\n2\n8\n6\n5\n4\n5\n4\n5\n44\n4\5\n\n\n5AM\n2\n2\n4\n7\n7\n3\n5\n5\n4\n4\,5\n43\,5\n6\7\n\n\nSeši sveši fleši\n3\n2\n4\n7\n6\n4\n4\n3\n4\n6\,5\n43\,5\n6\7\n\n\nZZZ\n2\n1\n3\n7\n6\n3\n4\n5\n6\n6\n43\n8\n\n\nĶirbju zupiņa\n2\n4\n2\n6\n6\n4\n6\n4\n2\n6\n42\n9\n\n\nKefīrkaķi\n1\n0\n4\n7\n5\n4\n7\n4\n5\n1\n38\n10\11\n\n\nSfērisks zirgs vakuumā\n2\n4\n4\n3\n5\n3\n5\n4\n5\n3\n38\n10\11\n\n\nKlepus sīrups un paklājs\n2\n1\n4\n4\n5\n3\n3\n5\n4\n5\n36\n12\n\n\nGušan Bei\n2\n3\n4\n6\n5\n2\n3\n4\n4\n2\n35\n13\n\n\nTuvu sviestam\n3\n2\n3\n4\n6\n2\n1\n2\n5\n4\n32\n14\n\n\nZīmuļi\n1\n3\n3\n6\n4\n3\n1\n3\n4\n3\n31\n15\n\n\nIncognito\n2\n3\n6\n2\n5\n1\n0\n1\n6\n3\n29\n16\n\n\nEs Neesmu Pret\n2\n1\n2\n5\n4\n3\n1\n3\n3\n4\n28\n17\18\n\n\nPelēkie Zirņi\n0\n2\n2\n3\n4\n2\n1\n3\n6\n5\n28\n17\18\n\n\nKeep On Tolkien\n2\n0\n4\n3\n4\n2\n1\n4\n4\n2\,5\n26\,5\n19\n\n\nVāverbrekši\n1\n1\n5\n2\n6\n2\n1\n1\n4\n3\n26\n20\n\n\nMaigonis Magonēs\n2\n1\n2\n2\n5\n1\n2\n1\n5\n3\n24\n21\n\n\nKarstās dzelzs kalēji\n3\n4\n1\n4\n2\n0\n1\n2\n2\n2\n21\n22\n\n\n\n\n\n\n\n\n\n\n\n\n\n\n\n\n\nVidējais punktu skaits\n1\,96\n2\,26\n3\,17\n5\,13\n4\,87\n2\,74\n3\,35\n3\,39\n4\,3\n3\,72\n34\,89
URL:https://prataspeles.com/event/prata-speles-pavasara-sezona-2-spele-4/
LOCATION:“Prāta Spēles” zāle\, Blaumaņa iela 38/40\, Rīga\, Latvia
CATEGORIES:Prāta spēles
ATTACH;FMTTYPE=image/jpeg:https://prataspeles.com/wp-content/uploads/2025/01/Blue-Modern-Minimalist-Artificial-Intelligence-Technology-Presentation-5.jpg
END:VEVENT
END:VCALENDAR