BEGIN:VCALENDAR
VERSION:2.0
PRODID:-//Prāta spēles - ECPv6.15.14//NONSGML v1.0//EN
CALSCALE:GREGORIAN
METHOD:PUBLISH
X-ORIGINAL-URL:https://prataspeles.com
X-WR-CALDESC:Events for Prāta spēles
REFRESH-INTERVAL;VALUE=DURATION:PT1H
X-Robots-Tag:noindex
X-PUBLISHED-TTL:PT1H
BEGIN:VTIMEZONE
TZID:Europe/Riga
BEGIN:DAYLIGHT
TZOFFSETFROM:+0200
TZOFFSETTO:+0300
TZNAME:EEST
DTSTART:20240331T010000
END:DAYLIGHT
BEGIN:STANDARD
TZOFFSETFROM:+0300
TZOFFSETTO:+0200
TZNAME:EET
DTSTART:20241027T010000
END:STANDARD
BEGIN:DAYLIGHT
TZOFFSETFROM:+0200
TZOFFSETTO:+0300
TZNAME:EEST
DTSTART:20250330T010000
END:DAYLIGHT
BEGIN:STANDARD
TZOFFSETFROM:+0300
TZOFFSETTO:+0200
TZNAME:EET
DTSTART:20251026T010000
END:STANDARD
BEGIN:DAYLIGHT
TZOFFSETFROM:+0200
TZOFFSETTO:+0300
TZNAME:EEST
DTSTART:20260329T010000
END:DAYLIGHT
BEGIN:STANDARD
TZOFFSETFROM:+0300
TZOFFSETTO:+0200
TZNAME:EET
DTSTART:20261025T010000
END:STANDARD
END:VTIMEZONE
BEGIN:VEVENT
DTSTART;TZID=Europe/Riga:20250109T184500
DTEND;TZID=Europe/Riga:20250109T210000
DTSTAMP:20260420T045412
CREATED:20250128T130510Z
LAST-MODIFIED:20250128T130511Z
UID:10000687-1736448300-1736456400@prataspeles.com
SUMMARY:"Prāta Spēles"\, Pavasara sezona - 1. spēle
DESCRIPTION:Baudi kopā būšanas mirkļus izzinošā vidē kopā ar “Prāta Spēles” – pārbaudi savas zināšanas\, uzzini daudz ko jaunu un interesantu un izcili pavadi laiku!\n“Prāta Spēles” viktorīnas iekustina pelēkās šūniņas un rada veselīgu atkarību\, kas veicina smadzeņu darbību!\n\nMaksimālais dalībnieku skaits komandā – 6 personas.\n\nNorises vieta un laiks: “Prāta Spēles” spēļu zāle\, Blaumaņa iela 38/40\, 3. stāvs\, plkst. 18:45\n\nPiesakies: prataspeles@prataspeles.com\n\nPasākuma laikā apmeklētāji var tikt fotogrāfēti un filmēti. Iegūtie materiāli tiek izmantoti publiski.\nAtbalsta:PergalėDelfi.lvŽurnāls “Mezgls”ACME Film LatvijaVitabiotics Latvija “Neurozan”GABI apavu veikaliBrain Games LV\n\nRezultāti:\n\n\n\n\nKomanda/Kārta\n1\n2\n3\n4\n5\n6\n7\n8\n9\n10\nkopā\nVieta\n\n\nKopā jautrāk\n6\n6\n6\n7\n7\n5\n8\n4\n7\n5\,5\n61\,5\n1\n\n\nCilvēki\n5\n5\n7\n6\n7\n6\n9\n3\n7\n4\n59\n2\n\n\nJumji ne dumji\n5\n6\n7\n9\n6\n5\n8\n1\n6\n5\,5\n58\,5\n3\n\n\nKapu mafija\n4\n6\n7\n7\n7\n4\n8\n6\n6\n3\n58\n4\n\n\nSingle malt\n4\n5\n7\n9\n5\n3\n6\n5\n7\n3\,5\n54\,5\n5\6\n\n\nŠaursliežu dzelzceļš\n5\n5\n7\n4\n7\n5\n6\n5\n7\n3\,5\n54\,5\n5\6\n\n\nTērauda Bārbijas\n5\n7\n7\n3\n7\n4\n5\n4\n7\n4\,5\n53\,5\n7\n\n\nD.A.++++\n5\n4\n6\n5\n6\n5\n7\n4\n7\n4\n53\n8\n\n\nGandrīz Normāli\n4\n5\n7\n5\n7\n5\n8\n2\n6\n3\,5\n52\,5\n9\n\n\n1. komanda\n4\n6\n7\n7\n7\n4\n5\n1\n6\n4\,5\n51\,5\n10\12\n\n\nKARMEJS\n4\n5\n5\n6\n6\n3\n8\n3\n7\n4\,5\n51\,5\n10\12\n\n\nKlepus sīrups un paklājs\n3\n5\n7\n7\n5\n4\n7\n4\n7\n2\,5\n51\,5\n10\12\n\n\nIVARA KRASTA SIEVIETES\n4\n4\n6\n5\n5\n2\n4\n4\n5\n2\n41\n13\14\n\n\nGrimstošais kuģis\n2\n4\n5\n5\n5\n3\n8\n0\n7\n2\n41\n13\14\n\n\nTwiterī izlasīju\n4\n3\n5\n3\n5\n4\n6\n2\n6\n1\n39\n15\n\n\nVISS SKAIDRS\n1\n3\n5\n3\n7\n3\n7\n2\n6\n0\,5\n37\,5\n16\n\n\nSweet16\n2\n3\n5\n4\n5\n3\n4\n2\n5\n1\n34\n17\n\n\n\n\n\n\n\n\n\n\n\n\n\n\n\n\n\nVidējais punktu skaits\n3\,94\n4\,82\n6\,24\n5\,59\n6\,12\n4\n6\,71\n3\,06\n6\,41\n3\,24\n50\,12
URL:https://prataspeles.com/event/prata-speles-pavasara-sezona-1-spele-3/
LOCATION:“Prāta Spēles” zāle\, Blaumaņa iela 38/40\, Rīga\, Latvia
CATEGORIES:Prāta spēles
ATTACH;FMTTYPE=image/jpeg:https://prataspeles.com/wp-content/uploads/2025/01/Blue-Modern-Minimalist-Artificial-Intelligence-Technology-Presentation-3.jpg
END:VEVENT
END:VCALENDAR