BEGIN:VCALENDAR
VERSION:2.0
PRODID:-//Prāta spēles - ECPv6.15.14//NONSGML v1.0//EN
CALSCALE:GREGORIAN
METHOD:PUBLISH
X-WR-CALNAME:Prāta spēles
X-ORIGINAL-URL:https://prataspeles.com
X-WR-CALDESC:Events for Prāta spēles
REFRESH-INTERVAL;VALUE=DURATION:PT1H
X-Robots-Tag:noindex
X-PUBLISHED-TTL:PT1H
BEGIN:VTIMEZONE
TZID:Europe/Riga
BEGIN:DAYLIGHT
TZOFFSETFROM:+0200
TZOFFSETTO:+0300
TZNAME:EEST
DTSTART:20240331T010000
END:DAYLIGHT
BEGIN:STANDARD
TZOFFSETFROM:+0300
TZOFFSETTO:+0200
TZNAME:EET
DTSTART:20241027T010000
END:STANDARD
BEGIN:DAYLIGHT
TZOFFSETFROM:+0200
TZOFFSETTO:+0300
TZNAME:EEST
DTSTART:20250330T010000
END:DAYLIGHT
BEGIN:STANDARD
TZOFFSETFROM:+0300
TZOFFSETTO:+0200
TZNAME:EET
DTSTART:20251026T010000
END:STANDARD
BEGIN:DAYLIGHT
TZOFFSETFROM:+0200
TZOFFSETTO:+0300
TZNAME:EEST
DTSTART:20260329T010000
END:DAYLIGHT
BEGIN:STANDARD
TZOFFSETFROM:+0300
TZOFFSETTO:+0200
TZNAME:EET
DTSTART:20261025T010000
END:STANDARD
END:VTIMEZONE
BEGIN:VEVENT
DTSTART;TZID=Europe/Riga:20250107T184500
DTEND;TZID=Europe/Riga:20250107T210000
DTSTAMP:20260420T044037
CREATED:20250128T125836Z
LAST-MODIFIED:20250128T125837Z
UID:10000686-1736275500-1736283600@prataspeles.com
SUMMARY:"Prāta Spēles"\, Pavasara sezona - 1. spēle
DESCRIPTION:Baudi kopā būšanas mirkļus izzinošā vidē kopā ar “Prāta Spēles” – pārbaudi savas zināšanas\, uzzini daudz ko jaunu un interesantu un izcili pavadi laiku!\n“Prāta Spēles” viktorīnas iekustina pelēkās šūniņas un rada veselīgu atkarību\, kas veicina smadzeņu darbību!\n\nMaksimālais dalībnieku skaits komandā – 6 personas.\n\nNorises vieta un laiks: “Prāta Spēles” spēļu zāle\, Blaumaņa iela 38/40\, 3. stāvs\, plkst. 18:45\n\nPiesakies: prataspeles@prataspeles.com\n\nPasākuma laikā apmeklētāji var tikt fotogrāfēti un filmēti. Iegūtie materiāli tiek izmantoti publiski.\nAtbalsta:PergalėDelfi.lvŽurnāls “Mezgls”ACME Film LatvijaVitabiotics Latvija “Neurozan”GABI apavu veikaliBrain Games LV\n\nRezultāti:\n\n\n\n\nKomanda/Kārta\n1\n2\n3\n4\n5\n6\n7\n8\n9\n10\nkopā\nVieta\n\n\nŠtepselētāju atgriešanās\n7\n6\n7\n7\n7\n6\n9\n5\n5\n6\n65\n1\n\n\nNostradamusa marasms\n7\n6\n7\n4\n7\n6\n9\n6\n4\n6\n62\n2\n\n\nDomā\n5\n6\n7\n9\n6\n6\n8\n3\n6\n4\n60\n3\4\n\n\nPinam medāļus\n6\n6\n7\n8\n6\n4\n8\n5\n7\n3\n60\n3\4\n\n\nOh?\n6\n7\n7\n7\n7\n4\n9\n2\n6\n4\,5\n59\,5\n5\n\n\nUlmaņa bekons\n4\n7\n7\n6\n6\n3\n9\n6\n7\n4\n59\n6\n\n\nBez Google\n6\n5\n6\n6\n7\n5\n8\n5\n7\n2\n57\n7\n\n\nSaules nogurdinātie\n5\n6\n5\n7\n6\n5\n7\n5\n7\n3\n56\n8\n\n\nSlīpie vilki\n4\n5\n5\n7\n7\n7\n7\n1\n7\n3\,5\n53\,5\n9\10\n\n\nTrocka alpīnisma skola\n6\n6\n7\n6\n5\n5\n6\n2\n6\n4\,5\n53\,5\n9\10\n\n\nEdvīna komanda\n4\n5\n7\n5\n7\n5\n7\n4\n7\n2\n53\n11\n\n\nDaugavas Lauvas\n5\n6\n7\n4\n5\n6\n7\n2\n6\n4\n52\n12\13\n\n\nSlaucēja balss\n5\n5\n7\n5\n6\n4\n7\n3\n5\n5\n52\n12\13\n\n\nAtprātotāji\n4\n7\n7\n5\n7\n3\n9\n1\n6\n2\,5\n51\,5\n14\n\n\nPozitīvs koptests\n5\n7\n7\n3\n6\n4\n6\n2\n6\n4\,5\n50\,5\n15\n\n\nCosmo krējums\n4\n5\n7\n5\n7\n4\n8\n0\n7\n2\,5\n49\,5\n16\18\n\n\nRozā bārbijzeme\n3\n5\n6\n6\n6\n3\n8\n4\n5\n3\,5\n49\,5\n16\18\n\n\nSpēlē vai smēdē\n5\n5\n7\n6\n5\n3\n5\n5\n6\n2\,5\n49\,5\n16\18\n\n\nPamatam nav uztraukuma\n3\n3\n7\n4\n7\n3\n9\n4\n5\n1\,5\n46\,5\n19\n\n\nGUĻA\n4\n6\n6\n7\n4\n4\n6\n1\n5\n3\n46\n20\n\n\nConcordia\n3\n5\n6\n3\n6\n0\n7\n4\n7\n3\,5\n44\,5\n21\n\n\nSabojātā reputācija\n2\n6\n7\n5\n5\n4\n7\n2\n5\n1\n44\n22\n\n\nPlānais galdiņš\n3\n5\n7\n5\n6\n1\n7\n0\n5\n1\,5\n40\,5\n23\n\n\nMaksimālais ātrums\n2\n6\n7\n3\n6\n5\n2\n2\n4\n3\n40\n24\n\n\nPelītes un Dace\n2\n5\n5\n5\n3\n5\n3\n1\n5\n3\,5\n37\,5\n25\n\n\nMonta\n1\n4\n3\n4\n6\n2\n8\n1\n3\n2\n34\n26\n\n\n\n\n\n\n\n\n\n\n\n\n\n\n\n\n\nVidējais punktu skaits\n4\,27\n5\,58\n6\,46\n5\,46\n6\n4\,12\n7\,15\n2\,92\n5\,73\n3\,31\n51
URL:https://prataspeles.com/event/prata-speles-pavasara-sezona-1-spele-2/
LOCATION:“Prāta Spēles” zāle\, Blaumaņa iela 38/40\, Rīga\, Latvia
CATEGORIES:Prāta spēles
ATTACH;FMTTYPE=image/jpeg:https://prataspeles.com/wp-content/uploads/2025/01/Blue-Modern-Minimalist-Artificial-Intelligence-Technology-Presentation-3.jpg
END:VEVENT
END:VCALENDAR