BEGIN:VCALENDAR
VERSION:2.0
PRODID:-//Prāta spēles - ECPv6.15.14//NONSGML v1.0//EN
CALSCALE:GREGORIAN
METHOD:PUBLISH
X-ORIGINAL-URL:https://prataspeles.com
X-WR-CALDESC:Events for Prāta spēles
REFRESH-INTERVAL;VALUE=DURATION:PT1H
X-Robots-Tag:noindex
X-PUBLISHED-TTL:PT1H
BEGIN:VTIMEZONE
TZID:Europe/Riga
BEGIN:DAYLIGHT
TZOFFSETFROM:+0200
TZOFFSETTO:+0300
TZNAME:EEST
DTSTART:20230326T010000
END:DAYLIGHT
BEGIN:STANDARD
TZOFFSETFROM:+0300
TZOFFSETTO:+0200
TZNAME:EET
DTSTART:20231029T010000
END:STANDARD
BEGIN:DAYLIGHT
TZOFFSETFROM:+0200
TZOFFSETTO:+0300
TZNAME:EEST
DTSTART:20240331T010000
END:DAYLIGHT
BEGIN:STANDARD
TZOFFSETFROM:+0300
TZOFFSETTO:+0200
TZNAME:EET
DTSTART:20241027T010000
END:STANDARD
BEGIN:DAYLIGHT
TZOFFSETFROM:+0200
TZOFFSETTO:+0300
TZNAME:EEST
DTSTART:20250330T010000
END:DAYLIGHT
BEGIN:STANDARD
TZOFFSETFROM:+0300
TZOFFSETTO:+0200
TZNAME:EET
DTSTART:20251026T010000
END:STANDARD
END:VTIMEZONE
BEGIN:VEVENT
DTSTART;TZID=Europe/Riga:20241127T184500
DTEND;TZID=Europe/Riga:20241127T210000
DTSTAMP:20260421T164729
CREATED:20241121T140549Z
LAST-MODIFIED:20241121T140851Z
UID:10000306-1732733100-1732741200@prataspeles.com
SUMMARY:“Prāta Spēles” rudens/ziemas sezona\, 7. spēle
DESCRIPTION:Baudi kopā būšanas mirkļus izzinošā vidē kopā ar “Prāta Spēles” – pārbaudi savas zināšanas\, uzzini daudz ko jaunu un interesantu un izcili pavadi laiku!\n\n“Prāta Spēles” viktorīnas iekustina pelēkās šūniņas un rada veselīgu atkarību\, kas veicina smadzeņu darbību!\n\nMaksimālais dalībnieku skaits komandā – 6 personas.\n\nNorises vieta un laiks: “Prāta Spēles” spēļu zāle\, Blaumaņa iela 38/40\, 3. stāvs\, plkst. 18:45\n\nPiesakies: prataspeles@prataspeles.com\n\nPasākuma laikā apmeklētāji var tikt fotogrāfēti un filmēti. Iegūtie materiāli tiek izmantoti publiski.
URL:https://prataspeles.com/event/prata-speles-rudens-ziemas-sezona-7-spele/2024-11-27/
LOCATION:“Prāta Spēles” zāle\, Blaumaņa iela 38/40\, Rīga\, Latvia
CATEGORIES:Prāta spēles
ATTACH;FMTTYPE=image/jpeg:https://prataspeles.com/wp-content/uploads/2024/11/Blue-Modern-Minimalist-Artificial-Intelligence-Technology-Presentation-6-scaled.jpg
END:VEVENT
BEGIN:VEVENT
DTSTART;TZID=Europe/Riga:20241127T190000
DTEND;TZID=Europe/Riga:20241127T210000
DTSTAMP:20260421T164729
CREATED:20241122T155753Z
LAST-MODIFIED:20241122T155753Z
UID:10000678-1732734000-1732741200@prataspeles.com
SUMMARY:Muzikālās "Prāta Spēles"\, ballīšu dziesmas
DESCRIPTION:Aizraujošs vakars gaida tieši Tevi! \n 27. novembrī plkst. 19:00 tiekamies Brūzis Manufaktūrā! Aicini draugus\, ģimeni\, kolēģus vai nāc viens pats – Tev būs iespēja baudīt interaktīvu un muzikālu pasākumu\, kur skanēs populārākās ballīšu dziesmas! \n\n Kāpēc apmeklēt?\nBEZ dalības maksas – nāc un piedalies!BEZ vecuma ierobežojuma – der ikvienam!Laimes rats ar pārsteigumiem Brīnišķīgas balvas no Brūzis Manufaktūra!  Baudi uz vietas gardumus!\nPasākuma laikā Tev būs iespēja nogaršot gardus Brūzis Manufaktūra ēdienus un izbaudīt uz vietas brūvētu alu – svaigu un dzirkstošu dažādām garšas gaumēm.\n\n Svarīgi: Pasākuma laikā dalībnieki var tikt fotografēti un filmēšti\, iegūtie materiāli var tikt izmantoti publiskai komunikācijai.
URL:https://prataspeles.com/event/muzikalas-prata-speles-ballisu-dziesmas/
LOCATION:“Brūzis Manufaktūra”\, Brīvības gatve 401C\, Rīga\, Latvia
CATEGORIES:Muzikālās ''Prāta spēles''
ATTACH;FMTTYPE=image/jpeg:https://prataspeles.com/wp-content/uploads/2024/11/Blue-Modern-Minimalist-Artificial-Intelligence-Technology-Presentation-2-scaled.jpg
END:VEVENT
END:VCALENDAR