BEGIN:VCALENDAR
VERSION:2.0
PRODID:-//Prāta spēles - ECPv6.15.14//NONSGML v1.0//EN
CALSCALE:GREGORIAN
METHOD:PUBLISH
X-ORIGINAL-URL:https://prataspeles.com
X-WR-CALDESC:Events for Prāta spēles
REFRESH-INTERVAL;VALUE=DURATION:PT1H
X-Robots-Tag:noindex
X-PUBLISHED-TTL:PT1H
BEGIN:VTIMEZONE
TZID:Europe/Riga
BEGIN:DAYLIGHT
TZOFFSETFROM:+0200
TZOFFSETTO:+0300
TZNAME:EEST
DTSTART:20230326T010000
END:DAYLIGHT
BEGIN:STANDARD
TZOFFSETFROM:+0300
TZOFFSETTO:+0200
TZNAME:EET
DTSTART:20231029T010000
END:STANDARD
BEGIN:DAYLIGHT
TZOFFSETFROM:+0200
TZOFFSETTO:+0300
TZNAME:EEST
DTSTART:20240331T010000
END:DAYLIGHT
BEGIN:STANDARD
TZOFFSETFROM:+0300
TZOFFSETTO:+0200
TZNAME:EET
DTSTART:20241027T010000
END:STANDARD
BEGIN:DAYLIGHT
TZOFFSETFROM:+0200
TZOFFSETTO:+0300
TZNAME:EEST
DTSTART:20250330T010000
END:DAYLIGHT
BEGIN:STANDARD
TZOFFSETFROM:+0300
TZOFFSETTO:+0200
TZNAME:EET
DTSTART:20251026T010000
END:STANDARD
END:VTIMEZONE
BEGIN:VEVENT
DTSTART;TZID=Europe/Riga:20241117T120000
DTEND;TZID=Europe/Riga:20241117T190000
DTSTAMP:20260421T164621
CREATED:20241112T102919Z
LAST-MODIFIED:20241112T102919Z
UID:10000289-1731844800-1731870000@prataspeles.com
SUMMARY:BINGO
DESCRIPTION:Nāc uz “ŅEMAM!”\, iepērcies un atpūties!  No 15. līdz 17. novembrim “AKROPOLE Rīga” pasākumu zonā starp A un F ieeju par skanīgiem hitiem un muzikālu atmosfēru “ŅEMAM!” laikā parūpēsies DJ Pulss. Azartu nodrošinās aizraujoša BINGO spēle\, kurā piedaloties\, varēsi laimēt vērtīgas balvas no “AKROPOLE Rīga” veikaliem: Evelatus\, The Body Shop un citiem! Ar gardiem pārsteigumiem un degustācijām apmeklētājus iepriecinās: Latvijas Mazinieks\, Spilva\, Oreo\, Lavazza\, AVON\, Dimdiņi\, Gaļas nams Ādaži\, Halls\, Martini\, Akvile\, Pedigree\, M&Ms\, ProVape tējas.\n Piektdiena\, 15.11.:12.00 – 19.00 “AKROPOLE Rīga” maskots ar gardiem pārsteigumiem14.00 – 19.00 Aizraujoša BINGO spēle ar balvām no “AKROPOLE Rīga” nomniekiem14.00 – 19.00 DJ Pulss\n Sestdiena\, 16.11.12.00 – 19.00 “AKROPOLE Rīga” maskots ar gardiem pārsteigumiem12.00 – 19.00 Aizraujoša BINGO spēle ar balvām no “AKROPOLE Rīga” nomniekiem12.00 – 19.00 DJ Pulss\n Svētdiena\, 17.11.12.00 – 19.00 “AKROPOLE Rīga” maskots ar gardiem pārsteigumiem12.00 – 19.00 Aizraujoša BINGO spēle ar balvām no “AKROPOLE Rīga” nomniekiem12.00 – 19.00 DJ Pulss\nUz tikšanos “AKROPOLE Rīga”!\n—————————————————-\n\nNāc uz “ŅEMAM!”\, iepērcies un pavadi laiku aizraujoši!  No 15. līdz 17. novembrim “AKROPOLE Alfa” centrālajā laukumā pie informācijas centra par skanīgiem hitiem un muzikālu atmosfēru “ŅEMAM!” laikā parūpēsies DJ Edgars Bercis. Azartu nodrošinās aizraujoša BINGO spēle\, kurā piedaloties\, varēsi laimēt vērtīgas balvas no “AKROPOLE Alfa” veikaliem: Evelatus\, Gabi\, BENU Aptieka\, The Body Shop\, Dan John un citiem! Ar gardiem pārsteigumiem un degustācijām apmeklētājus iepriecinās: Gutta\, Spilva\, Oreo\, Lavazza\, Halls\, Martini\, Akvile\, Mangu Mangas\, M&Ms\, PorVape tējas\, Pedigree.\n Piektdiena\, 15.11.:12.00 – 19.00 “AKROPOLE Alfa” maskots ar gardiem pārsteigumiem14.00 – 19.00 Aizraujoša BINGO spēle ar balvām no “AKROPOLE Alfa” nomniekiem14.00 – 19.00 DJ Edgars Bercis\n Sestdiena\, 16.11.12.00 – 19.00 “AKROPOLE Alfa” maskots ar gardiem pārsteigumiem12.00 – 19.00 Aizraujoša BINGO spēle ar balvām no “AKROPOLE Alfa” nomniekiem12.00 – 19.00 DJ Edgars Bercis\n Svētdiena\, 17.11.12.00 – 19.00 “AKROPOLE Alfa” maskots ar gardiem pārsteigumiem12.00 – 19.00 Aizraujoša BINGO spēle ar balvām no “AKROPOLE Alfa” nomniekiem12.00 – 19.00 DJ Edgars Bercis\nUz tikšanos “AKROPOLE Alfa”!
URL:https://prataspeles.com/event/bingo/2024-11-17/
END:VEVENT
END:VCALENDAR