BEGIN:VCALENDAR
VERSION:2.0
PRODID:-//Prāta spēles - ECPv6.15.14//NONSGML v1.0//EN
CALSCALE:GREGORIAN
METHOD:PUBLISH
X-WR-CALNAME:Prāta spēles
X-ORIGINAL-URL:https://prataspeles.com
X-WR-CALDESC:Events for Prāta spēles
REFRESH-INTERVAL;VALUE=DURATION:PT1H
X-Robots-Tag:noindex
X-PUBLISHED-TTL:PT1H
BEGIN:VTIMEZONE
TZID:Europe/Riga
BEGIN:DAYLIGHT
TZOFFSETFROM:+0200
TZOFFSETTO:+0300
TZNAME:EEST
DTSTART:20240331T010000
END:DAYLIGHT
BEGIN:STANDARD
TZOFFSETFROM:+0300
TZOFFSETTO:+0200
TZNAME:EET
DTSTART:20241027T010000
END:STANDARD
BEGIN:DAYLIGHT
TZOFFSETFROM:+0200
TZOFFSETTO:+0300
TZNAME:EEST
DTSTART:20250330T010000
END:DAYLIGHT
BEGIN:STANDARD
TZOFFSETFROM:+0300
TZOFFSETTO:+0200
TZNAME:EET
DTSTART:20251026T010000
END:STANDARD
BEGIN:DAYLIGHT
TZOFFSETFROM:+0200
TZOFFSETTO:+0300
TZNAME:EEST
DTSTART:20260329T010000
END:DAYLIGHT
BEGIN:STANDARD
TZOFFSETFROM:+0300
TZOFFSETTO:+0200
TZNAME:EET
DTSTART:20261025T010000
END:STANDARD
END:VTIMEZONE
BEGIN:VEVENT
DTSTART;TZID=Europe/Riga:20250121T184500
DTEND;TZID=Europe/Riga:20250121T210000
DTSTAMP:20260422T141509
CREATED:20250128T133443Z
LAST-MODIFIED:20250128T133443Z
UID:1757-1737485100-1737493200@prataspeles.com
SUMMARY:"Prāta Spēles"\, Pavasara sezona - 2. spēle
DESCRIPTION:Baudi kopā būšanas mirkļus izzinošā vidē kopā ar “Prāta Spēles” – pārbaudi savas zināšanas\, uzzini daudz ko jaunu un interesantu un izcili pavadi laiku!\n“Prāta Spēles” viktorīnas iekustina pelēkās šūniņas un rada veselīgu atkarību\, kas veicina smadzeņu darbību!\n\nMaksimālais dalībnieku skaits komandā – 6 personas.\n\nNorises vieta un laiks: “Prāta Spēles” spēļu zāle\, Blaumaņa iela 38/40\, 3. stāvs\, plkst. 18:45\n\nPiesakies: prataspeles@prataspeles.com\n\nPasākuma laikā apmeklētāji var tikt fotogrāfēti un filmēti. Iegūtie materiāli tiek izmantoti publiski.\nAtbalsta:PergalėDelfi.lvŽurnāls “Mezgls”ACME Film LatvijaVitabiotics Latvija “Neurozan”GABI apavu veikaliBrain Games LV\n\nRezultāti:\n\n\n\n\n\nKomanda/Kārta\n1\n2\n3\n4\n5\n6\n7\n8\n9\n10\nkopā\nVieta\n\n\nDomā\n4\n4\n4\n8\n5\n5\n9\n6\n6\n6\n57\n1\n\n\nNostradamusa marasms\n3\n4\n5\n8\n7\n5\n8\n4\n5\n6\n55\n2\3\n\n\nUlmaņa bekons\n3\n5\n4\n8\n6\n5\n8\n5\n5\n6\n55\n2\3\n\n\nOh?\n4\n5\n4\n8\n5\n5\n9\n5\n5\n4\n54\n4\n\n\nDaugavas Lauvas\n1\n2\n4\n8\n6\n4\n9\n7\n6\n3\n50\n5\6\n\n\nSaules nogurdinātie\n2\n3\n4\n8\n7\n4\n7\n4\n6\n5\n50\n5\6\n\n\nD.A.++++\n4\n5\n4\n3\n5\n5\n7\n6\n6\n3\n48\n7\n\n\nSlīpie vilki\n2\n4\n5\n3\n5\n5\n9\n5\n5\n3\n46\n8\n\n\nCosmo krējums\n2\n3\n4\n8\n7\n4\n3\n5\n3\n5\n44\n9\10\n\n\nSlaucēja balss\n4\n1\n6\n8\n4\n3\n5\n2\n5\n6\n44\n9\10\n\n\nMaksimālais ātrums\n2\n3\n2\n7\n3\n4\n8\n5\n5\n4\n43\n11\12\n\n\nPinam medāļus\n2\n2\n4\n7\n6\n4\n6\n4\n4\n4\n43\n11\12\n\n\nŠerijs\n2\n2\n2\n6\n5\n4\n5\n5\n6\n5\n42\n13\n\n\nBez Google\n3\n4\n3\n5\n6\n3\n3\n4\n5\n5\n41\n14\15\n\n\nPamatam nav uztraukuma\n3\n5\n1\n3\n6\n5\n5\n3\n5\n5\n41\n14\15\n\n\nConcordia\n4\n5\n4\n6\n4\n2\n5\n4\n4\n2\n40\n16\n\n\nAtprātotāji\n2\n3\n4\n5\n4\n4\n2\n4\n5\n6\n39\n17\n\n\nGUĻA\n2\n4\n3\n3\n6\n3\n3\n4\n5\n4\n37\n18\n\n\nSamākslotais intelekts\n1\n3\n4\n6\n5\n4\n3\n3\n4\n3\n36\n19\n\n\nBez pārsteiguma!\n1\n5\n6\n3\n4\n5\n3\n1\n5\n2\n35\n20\n\n\nPlānais galdiņš\n3\n1\n3\n4\n5\n4\n5\n2\n5\n2\n34\n21\22\n\n\nSpēlē vai smēdē\n2\n1\n3\n4\n4\n6\n3\n1\n5\n5\n34\n21\22\n\n\nPozitīvs koptests\n1\n2\n1\n4\n6\n3\n3\n4\n4\n3\,5\n31\,5\n23\n\n\n\n\n\n\n\n\n\n\n\n\n\n\n\n\n\nVidējais punktu skaits\n2\,48\n3\,3\n3\,65\n5\,78\n5\,26\n4\,17\n5\,57\n4\,04\n4\,96\n4\,24\n43\,46
URL:https://prataspeles.com/event/prata-speles-pavasara-sezona-2-spele-2/
LOCATION:“Prāta Spēles” zāle\, Blaumaņa iela 38/40\, Rīga\, Latvia
CATEGORIES:Prāta spēles
ATTACH;FMTTYPE=image/jpeg:https://prataspeles.com/wp-content/uploads/2025/01/Blue-Modern-Minimalist-Artificial-Intelligence-Technology-Presentation-5.jpg
END:VEVENT
END:VCALENDAR