BEGIN:VCALENDAR
VERSION:2.0
PRODID:-//Prāta spēles - ECPv6.15.14//NONSGML v1.0//EN
CALSCALE:GREGORIAN
METHOD:PUBLISH
X-WR-CALNAME:Prāta spēles
X-ORIGINAL-URL:https://prataspeles.com
X-WR-CALDESC:Events for Prāta spēles
REFRESH-INTERVAL;VALUE=DURATION:PT1H
X-Robots-Tag:noindex
X-PUBLISHED-TTL:PT1H
BEGIN:VTIMEZONE
TZID:Europe/Riga
BEGIN:DAYLIGHT
TZOFFSETFROM:+0200
TZOFFSETTO:+0300
TZNAME:EEST
DTSTART:20240331T010000
END:DAYLIGHT
BEGIN:STANDARD
TZOFFSETFROM:+0300
TZOFFSETTO:+0200
TZNAME:EET
DTSTART:20241027T010000
END:STANDARD
BEGIN:DAYLIGHT
TZOFFSETFROM:+0200
TZOFFSETTO:+0300
TZNAME:EEST
DTSTART:20250330T010000
END:DAYLIGHT
BEGIN:STANDARD
TZOFFSETFROM:+0300
TZOFFSETTO:+0200
TZNAME:EET
DTSTART:20251026T010000
END:STANDARD
BEGIN:DAYLIGHT
TZOFFSETFROM:+0200
TZOFFSETTO:+0300
TZNAME:EEST
DTSTART:20260329T010000
END:DAYLIGHT
BEGIN:STANDARD
TZOFFSETFROM:+0300
TZOFFSETTO:+0200
TZNAME:EET
DTSTART:20261025T010000
END:STANDARD
END:VTIMEZONE
BEGIN:VEVENT
DTSTART;TZID=Europe/Riga:20250513T184500
DTEND;TZID=Europe/Riga:20250513T210000
DTSTAMP:20260422T010547
CREATED:20250410T084217Z
LAST-MODIFIED:20250410T084217Z
UID:10000803-1747161900-1747170000@prataspeles.com
SUMMARY:“Prāta Spēles” Pavasara sezona\, 10. spēle
DESCRIPTION:Vai meklē kaut ko aizraujošu\, kas liks tavām smadzenēm strādāt pilnīgi citādā veidā? “Prāta Spēles” ir tava iespēja pacelties jaunos augstumos! Šeit zināšanas iegūst jaunu dzīvotspēju\, un katra pareiza atbilde tuvina tevi uzvarai. \nKĀDU PIEREDZI VARĒSI GAIDĪT: \n\n\nJautājumi\, kas liks tev aplūkot pasauli no jaunas perspektīvas \n\n\nDraudzīga konkurence\, kas uzkarsēs asinis un uzlabos azartu \n\n\nSmiekli un negaidīti atklājumi katrā solī \n\n\nBalvas\, kas gaida savus čempionus \n\n\n🎯 Vieta: Blaumaņa iela 38/40\, 3. stāvs⏰ Laiks: 18:45🤝 Komandas lielums: līdz 6 spēlētājiem \nPIESAKIES: 📲 prataspeles@prataspeles.com \nMūsu atbalstītāji: Pergalė | Delfi.lv | “Mezgls” | ACME Film Latvija | Vitabiotics Latvia “Neurozan” | GABI apavu veikali | Brain Games LV \n*Fotografēsim tavas uzvaras mirkļus un dalīsimies ar tiem publiski! \nDOMĀ DROSĪGI – PIEŅEM IZAICINĀJUMU – IEGŪSTI NEAIZSTĀJAMU PIEREDZI! \n#PrātaSpēles #prataspeles #Izklaide #Viktorīna
URL:https://prataspeles.com/event/prata-speles-pavasara-sezona-10-spele/2025-05-13/
LOCATION:“Prāta Spēles” zāle\, Blaumaņa iela 38/40\, Rīga\, Latvia
CATEGORIES:Prāta spēles
ATTACH;FMTTYPE=image/jpeg:https://prataspeles.com/wp-content/uploads/2025/04/10.jpg
END:VEVENT
END:VCALENDAR