BEGIN:VCALENDAR
VERSION:2.0
PRODID:-//Prāta spēles - ECPv6.15.14//NONSGML v1.0//EN
CALSCALE:GREGORIAN
METHOD:PUBLISH
X-WR-CALNAME:Prāta spēles
X-ORIGINAL-URL:https://prataspeles.com
X-WR-CALDESC:Events for Prāta spēles
REFRESH-INTERVAL;VALUE=DURATION:PT1H
X-Robots-Tag:noindex
X-PUBLISHED-TTL:PT1H
BEGIN:VTIMEZONE
TZID:Europe/Riga
BEGIN:DAYLIGHT
TZOFFSETFROM:+0200
TZOFFSETTO:+0300
TZNAME:EEST
DTSTART:20240331T010000
END:DAYLIGHT
BEGIN:STANDARD
TZOFFSETFROM:+0300
TZOFFSETTO:+0200
TZNAME:EET
DTSTART:20241027T010000
END:STANDARD
BEGIN:DAYLIGHT
TZOFFSETFROM:+0200
TZOFFSETTO:+0300
TZNAME:EEST
DTSTART:20250330T010000
END:DAYLIGHT
BEGIN:STANDARD
TZOFFSETFROM:+0300
TZOFFSETTO:+0200
TZNAME:EET
DTSTART:20251026T010000
END:STANDARD
BEGIN:DAYLIGHT
TZOFFSETFROM:+0200
TZOFFSETTO:+0300
TZNAME:EEST
DTSTART:20260329T010000
END:DAYLIGHT
BEGIN:STANDARD
TZOFFSETFROM:+0300
TZOFFSETTO:+0200
TZNAME:EET
DTSTART:20261025T010000
END:STANDARD
END:VTIMEZONE
BEGIN:VEVENT
DTSTART;TZID=Europe/Riga:20250116T184500
DTEND;TZID=Europe/Riga:20250116T210000
DTSTAMP:20260422T142700
CREATED:20250128T132734Z
LAST-MODIFIED:20250128T132735Z
UID:1754-1737053100-1737061200@prataspeles.com
SUMMARY:"Prāta Spēles"\, Pavasara sezona - 1. spēle
DESCRIPTION:Baudi kopā būšanas mirkļus izzinošā vidē kopā ar “Prāta Spēles” – pārbaudi savas zināšanas\, uzzini daudz ko jaunu un interesantu un izcili pavadi laiku!\n“Prāta Spēles” viktorīnas iekustina pelēkās šūniņas un rada veselīgu atkarību\, kas veicina smadzeņu darbību!\n\nMaksimālais dalībnieku skaits komandā – 6 personas.\n\nNorises vieta un laiks: “Prāta Spēles” spēļu zāle\, Blaumaņa iela 38/40\, 3. stāvs\, plkst. 18:45\n\nPiesakies: prataspeles@prataspeles.com\n\nPasākuma laikā apmeklētāji var tikt fotogrāfēti un filmēti. Iegūtie materiāli tiek izmantoti publiski.\nAtbalsta:PergalėDelfi.lvŽurnāls “Mezgls”ACME Film LatvijaVitabiotics Latvija “Neurozan”GABI apavu veikaliBrain Games LV\n\nRezultāti:\n\n\n\n\n\nKomanda/Kārta\n1\n2\n3\n4\n5\n6\n7\n8\n9\n10\nkopā\nVieta\n\n\nGaba\n4\n6\n6\n9\n7\n6\n9\n6\n7\n7\n67\n1\n\n\nNu tad neko\n4\n6\n7\n9\n7\n4\n9\n6\n7\n5\,5\n64\,5\n2\n\n\nAtbilde ir 42\n5\n6\n6\n7\n6\n5\n6\n3\n6\n5\,5\n55\,5\n3\n\n\nDomas giganti\n6\n5\n7\n4\n6\n4\n7\n2\n7\n4\n52\n4\5\n\n\nDrāmas pulciņš\n3\n3\n7\n3\n7\n5\n9\n6\n6\n3\n52\n4\5\n\n\nPēteri-2016\n4\n5\n7\n7\n7\n4\n7\n0\n7\n2\,5\n50\,5\n6\7\n\n\nŠeldoni\n5\n6\n7\n4\n6\n6\n7\n1\n6\n2\,5\n50\,5\n6\7\n\n\nCikos ēdam?\n4\n7\n7\n5\n5\n5\n5\n3\n7\n2\n50\n8\n\n\nCūkas laime\n4\n5\n6\n7\n6\n4\n8\n1\n4\n4\n49\n9\n\n\n99\n5\n4\n7\n4\n5\n4\n7\n2\n5\n5\n48\n10\n\n\nIlga\n5\n4\n7\n6\n7\n5\n4\n2\n5\n2\n47\n11\n\n\nČumslis\n3\n7\n6\n3\n6\n2\n7\n3\n6\n3\,5\n46\,5\n12\n\n\nPilnmēness dīleri\n5\n6\n5\n7\n4\n2\n9\n1\n6\n1\n46\n13\n\n\nKrāmu ielas konsultanti\n5\n4\n6\n6\n6\n4\n2\n4\n6\n2\,5\n45\,5\n14\n\n\nДа ладно?\n5\n3\n6\n4\n6\n6\n4\n3\n6\n2\n45\n15\n\n\nVernova\n1\n5\n7\n4\n7\n5\n2\n2\n7\n3\,5\n43\,5\n16\n\n\n6 banāni\n3\n4\n7\n4\n7\n3\n5\n1\n4\n4\,5\n42\,5\n17\n\n\nJustas\n3\n5\n6\n5\n4\n5\n4\n2\n4\n4\n42\n18\n\n\nAB Normal\n3\n3\n6\n3\n5\n4\n6\n4\n5\n2\n41\n19\n\n\nĀtri\, ātri\n4\n5\n4\n5\n7\n1\n3\n1\n6\n2\,5\n38\,5\n20\21\n\n\nSamākslotais intelekts\n6\n5\n5\n4\n6\n4\n2\n0\n5\n1\,5\n38\,5\n20\21\n\n\nFika\n3\n3\n6\n2\n5\n2\n4\n1\n6\n3\,5\n35\,5\n22\n\n\nAmatieru teātris\n3\n3\n6\n4\n7\n3\n3\n0\n4\n2\n35\n23\24\n\n\nJāpadomā\n4\n3\n4\n5\n5\n4\n2\n1\n5\n2\n35\n23\24\n\n\nTIK UZ AUGŠU\n2\n5\n5\n4\n4\n2\n2\n0\n5\n1\n30\n25\n\n\n\n\n\n\n\n\n\n\n\n\n\n\n\n\n\nVidējais punktu skaits\n3\,88\n4\,52\n5\,92\n4\,84\n5\,76\n3\,88\n5\,24\n2\,2\n5\,48\n3\,1\n44\,82
URL:https://prataspeles.com/event/prata-speles-pavasara-sezona-1-spele-8/
LOCATION:“Prāta Spēles” zāle\, Blaumaņa iela 38/40\, Rīga\, Latvia
CATEGORIES:Prāta spēles
ATTACH;FMTTYPE=image/jpeg:https://prataspeles.com/wp-content/uploads/2025/01/Blue-Modern-Minimalist-Artificial-Intelligence-Technology-Presentation-3.jpg
END:VEVENT
END:VCALENDAR