BEGIN:VCALENDAR
VERSION:2.0
PRODID:-//Prāta spēles - ECPv6.15.14//NONSGML v1.0//EN
CALSCALE:GREGORIAN
METHOD:PUBLISH
X-WR-CALNAME:Prāta spēles
X-ORIGINAL-URL:https://prataspeles.com
X-WR-CALDESC:Events for Prāta spēles
REFRESH-INTERVAL;VALUE=DURATION:PT1H
X-Robots-Tag:noindex
X-PUBLISHED-TTL:PT1H
BEGIN:VTIMEZONE
TZID:Europe/Riga
BEGIN:DAYLIGHT
TZOFFSETFROM:+0200
TZOFFSETTO:+0300
TZNAME:EEST
DTSTART:20240331T010000
END:DAYLIGHT
BEGIN:STANDARD
TZOFFSETFROM:+0300
TZOFFSETTO:+0200
TZNAME:EET
DTSTART:20241027T010000
END:STANDARD
BEGIN:DAYLIGHT
TZOFFSETFROM:+0200
TZOFFSETTO:+0300
TZNAME:EEST
DTSTART:20250330T010000
END:DAYLIGHT
BEGIN:STANDARD
TZOFFSETFROM:+0300
TZOFFSETTO:+0200
TZNAME:EET
DTSTART:20251026T010000
END:STANDARD
BEGIN:DAYLIGHT
TZOFFSETFROM:+0200
TZOFFSETTO:+0300
TZNAME:EEST
DTSTART:20260329T010000
END:DAYLIGHT
BEGIN:STANDARD
TZOFFSETFROM:+0300
TZOFFSETTO:+0200
TZNAME:EET
DTSTART:20261025T010000
END:STANDARD
END:VTIMEZONE
BEGIN:VEVENT
DTSTART;TZID=Europe/Riga:20250115T184500
DTEND;TZID=Europe/Riga:20250115T210000
DTSTAMP:20260422T111203
CREATED:20250128T132123Z
LAST-MODIFIED:20250128T132124Z
UID:1751-1736966700-1736974800@prataspeles.com
SUMMARY:"Prāta Spēles"\, Pavasara sezona - 1. spēle
DESCRIPTION:Baudi kopā būšanas mirkļus izzinošā vidē kopā ar “Prāta Spēles” – pārbaudi savas zināšanas\, uzzini daudz ko jaunu un interesantu un izcili pavadi laiku!\n“Prāta Spēles” viktorīnas iekustina pelēkās šūniņas un rada veselīgu atkarību\, kas veicina smadzeņu darbību!\n\nMaksimālais dalībnieku skaits komandā – 6 personas.\n\nNorises vieta un laiks: “Prāta Spēles” spēļu zāle\, Blaumaņa iela 38/40\, 3. stāvs\, plkst. 18:45\n\nPiesakies: prataspeles@prataspeles.com\n\nPasākuma laikā apmeklētāji var tikt fotogrāfēti un filmēti. Iegūtie materiāli tiek izmantoti publiski.\nAtbalsta:PergalėDelfi.lvŽurnāls “Mezgls”ACME Film LatvijaVitabiotics Latvija “Neurozan”GABI apavu veikaliBrain Games LV\n\nRezultāti:\n\n\n\n\n\nKomanda/Kārta\n1\n2\n3\n4\n5\n6\n7\n8\n9\n10\nkopā\nVieta\n\n\nStikla kalns\n5\n7\n7\n9\n7\n7\n6\n1\n7\n6\n62\n1\n\n\nMans intīms\n5\n7\n7\n7\n7\n5\n6\n5\n7\n4\n60\n2\n\n\nPrācViņZin\n5\n6\n7\n9\n7\n4\n4\n7\n6\n4\,5\n59\,5\n3\n\n\nVasaras radi\n6\n7\n7\n6\n6\n4\n8\n3\n7\n4\,5\n58\,5\n4\n\n\nSfinksa\n7\n6\n7\n9\n5\n6\n8\n2\n5\n3\n58\n5\n\n\nIbumetīns 400\n6\n4\n6\n6\n7\n5\n9\n5\n5\n4\,5\n57\,5\n6\n\n\nB3\n5\n5\n7\n6\n6\n7\n8\n2\n7\n4\n57\n7\8\n\n\nĶertie ķenguri\n4\n5\n7\n9\n5\n5\n9\n1\n7\n5\n57\n7\8\n\n\nTimijs ir iekritis akā\n4\n4\n7\n7\n7\n5\n7\n7\n6\n2\,5\n56\,5\n9\n\n\nGrieze\n5\n4\n7\n7\n6\n5\n8\n3\n6\n4\n55\n10\11\n\n\nValsts pieņēmumu dienests\n4\n6\n7\n7\n7\n3\n8\n2\n7\n4\n55\n10\11\n\n\nKarību novembris\n4\n7\n7\n6\n6\n2\n8\n2\n6\n6\n54\n12\n\n\nBing Bang\n4\n4\n7\n5\n5\n4\n9\n2\n7\n2\,5\n49\,5\n13\n\n\nTītiņi un Vālodzes\n5\n5\n6\n6\n7\n3\n7\n0\n7\n2\,5\n48\,5\n14\n\n\nPēdējā brīdī\n4\n7\n6\n5\n6\n4\n6\n1\n7\n2\n48\n15\n\n\nKFC Outsourced\n4\n3\n6\n8\n5\n4\n5\n4\n7\n1\,5\n47\,5\n16\n\n\nLasis Stasis\n5\n5\n7\n3\n6\n3\n8\n0\n7\n2\n46\n17\n\n\nLaivotāji\n6\n3\n7\n7\n4\n5\n3\n2\n5\n2\,5\n44\,5\n18\n\n\nPatiesie labuma guvēji\n4\n3\n6\n5\n6\n3\n4\n2\n6\n2\,5\n41\,5\n19\n\n\nŅuruls\n3\n2\n6\n4\n7\n2\n7\n1\n7\n1\,5\n40\,5\n20\n\n\nVienkāršie prāti\n3\n4\n6\n3\n5\n4\n4\n2\n4\n1\,5\n36\,5\n21\n\n\n\n\n\n\n\n\n\n\n\n\n\n\n\n\n\nVidējais punktu skaits\n4\,67\n4\,95\n6\,67\n6\,38\n6\,05\n4\,29\n6\,76\n2\,57\n6\,33\n3\,36\n52\,02
URL:https://prataspeles.com/event/prata-speles-pavasara-sezona-1-spele-7/
LOCATION:“Prāta Spēles” zāle\, Blaumaņa iela 38/40\, Rīga\, Latvia
CATEGORIES:Prāta spēles
ATTACH;FMTTYPE=image/jpeg:https://prataspeles.com/wp-content/uploads/2025/01/Blue-Modern-Minimalist-Artificial-Intelligence-Technology-Presentation-3.jpg
END:VEVENT
END:VCALENDAR