BEGIN:VCALENDAR
VERSION:2.0
PRODID:-//Prāta spēles - ECPv6.15.14//NONSGML v1.0//EN
CALSCALE:GREGORIAN
METHOD:PUBLISH
X-WR-CALNAME:Prāta spēles
X-ORIGINAL-URL:https://prataspeles.com
X-WR-CALDESC:Events for Prāta spēles
REFRESH-INTERVAL;VALUE=DURATION:PT1H
X-Robots-Tag:noindex
X-PUBLISHED-TTL:PT1H
BEGIN:VTIMEZONE
TZID:Europe/Riga
BEGIN:DAYLIGHT
TZOFFSETFROM:+0200
TZOFFSETTO:+0300
TZNAME:EEST
DTSTART:20240331T010000
END:DAYLIGHT
BEGIN:STANDARD
TZOFFSETFROM:+0300
TZOFFSETTO:+0200
TZNAME:EET
DTSTART:20241027T010000
END:STANDARD
BEGIN:DAYLIGHT
TZOFFSETFROM:+0200
TZOFFSETTO:+0300
TZNAME:EEST
DTSTART:20250330T010000
END:DAYLIGHT
BEGIN:STANDARD
TZOFFSETFROM:+0300
TZOFFSETTO:+0200
TZNAME:EET
DTSTART:20251026T010000
END:STANDARD
BEGIN:DAYLIGHT
TZOFFSETFROM:+0200
TZOFFSETTO:+0300
TZNAME:EEST
DTSTART:20260329T010000
END:DAYLIGHT
BEGIN:STANDARD
TZOFFSETFROM:+0300
TZOFFSETTO:+0200
TZNAME:EET
DTSTART:20261025T010000
END:STANDARD
END:VTIMEZONE
BEGIN:VEVENT
DTSTART;TZID=Europe/Riga:20250423T190000
DTEND;TZID=Europe/Riga:20250423T210000
DTSTAMP:20260421T233730
CREATED:20250424T074444Z
LAST-MODIFIED:20250424T074444Z
UID:2294-1745434800-1745442000@prataspeles.com
SUMMARY:Muzikālās "Prāta Spēles" rezultāti
DESCRIPTION:Muzikālās “Prāta Spēles”\, 23.04.2025. rezultāti \n\n\n\nVieta\nDalībnieks\nRezultāts\n\n\n1\nNoslogotais tosteris\n822\n\n\n2\nmm\n753\n\n\n3\nOne (s)hit wonder\n731\n\n\n4\nTiny_Jane\n693\n\n\n5\nVadzis\n685\n\n\n6\nCrisp Lager\n684\n\n\n7\nVasarniece\n682\n\n\n8\nOrtija\n669\n\n\n9\nBaloži\n656\n\n\n10\nRīgassatiksme.mp4\n650\n\n\n11\nAldis\n623\n\n\n12\nVai tev patik mani auskari?\n573\n\n\n13\nLaura\n569\n\n\n14\nCHARMING\n568\n\n\n15\nKK\n564\n\n\n16\nCallous Rose\n560\n\n\n17\nRonijaa\n541\n\n\n18\nAidža22\n533\n\n\n19\nBitanlifts\n533\n\n\n20\nAnsis\n499\n\n\n21\nDP\n415\n\n\n22\nRock bottom\n406\n\n\n23\nKRko\n334\n\n\n24\nZaķisR\n269\n\n\n25\nAlunāns\n143
URL:https://prataspeles.com/event/muzikalas-prata-speles-rezultati-5/
CATEGORIES:Muzikālās ''Prāta spēles''
END:VEVENT
END:VCALENDAR