BEGIN:VCALENDAR
VERSION:2.0
PRODID:-//Prāta spēles - ECPv6.15.14//NONSGML v1.0//EN
CALSCALE:GREGORIAN
METHOD:PUBLISH
X-WR-CALNAME:Prāta spēles
X-ORIGINAL-URL:https://prataspeles.com
X-WR-CALDESC:Events for Prāta spēles
REFRESH-INTERVAL;VALUE=DURATION:PT1H
X-Robots-Tag:noindex
X-PUBLISHED-TTL:PT1H
BEGIN:VTIMEZONE
TZID:Europe/Riga
BEGIN:DAYLIGHT
TZOFFSETFROM:+0200
TZOFFSETTO:+0300
TZNAME:EEST
DTSTART:20240331T010000
END:DAYLIGHT
BEGIN:STANDARD
TZOFFSETFROM:+0300
TZOFFSETTO:+0200
TZNAME:EET
DTSTART:20241027T010000
END:STANDARD
BEGIN:DAYLIGHT
TZOFFSETFROM:+0200
TZOFFSETTO:+0300
TZNAME:EEST
DTSTART:20250330T010000
END:DAYLIGHT
BEGIN:STANDARD
TZOFFSETFROM:+0300
TZOFFSETTO:+0200
TZNAME:EET
DTSTART:20251026T010000
END:STANDARD
BEGIN:DAYLIGHT
TZOFFSETFROM:+0200
TZOFFSETTO:+0300
TZNAME:EEST
DTSTART:20260329T010000
END:DAYLIGHT
BEGIN:STANDARD
TZOFFSETFROM:+0300
TZOFFSETTO:+0200
TZNAME:EET
DTSTART:20261025T010000
END:STANDARD
END:VTIMEZONE
BEGIN:VEVENT
DTSTART;VALUE=DATE:20250917
DTEND;VALUE=DATE:20250918
DTSTAMP:20260422T141612
CREATED:20250919T075925Z
LAST-MODIFIED:20250919T075925Z
UID:5781-1758067200-1758153599@prataspeles.com
SUMMARY:Muzikālās "Prāta Spēles". Rezultāti
DESCRIPTION:Vieta\nSpēlētājs\nRezultāts\n\n\n1\nEltons Kleptons\n1031\n\n\n2\nDP\n1016\n\n\n3\nZuze\n967\n\n\n4\nČetrdesmit divi\n889\n\n\n5\nKatliņpauris\n886\n\n\n6\nRock bottom\n881\n\n\n7\nRonijaa\n879\n\n\n8\nCilvēks Pelēkais\n842\n\n\n9\nAleksandrs\n832\n\n\n10\nPelēkais Cilvēks\n820\n\n\n11\nPaulīne\n802\n\n\n12\nBober\n756\n\n\n13\nZanet\n680\n\n\n14\nKristīne\n679\n\n\n15\nSaule\n675\n\n\n16\nAldis\n649\n\n\n17\nJurciks\n599\n\n\n18\nNotsure\n572\n\n\n19\nMC Nostradamus\n505\n\n\n20\nGruu\n470\n\n\n21\nBoomer\n400\n\n\n22\nLofts\n188\n\n\n23\nEdijs\n184\n\n\n24\nPuikas\n168\n\n\n25\nCukuriņš\n107\n\n\n26\nJubilāra galdiņš\n96
URL:https://prataspeles.com/event/muzikalas-prata-speles-rezultati-22/
END:VEVENT
END:VCALENDAR