BEGIN:VCALENDAR
VERSION:2.0
PRODID:-//Prāta spēles - ECPv6.15.14//NONSGML v1.0//EN
CALSCALE:GREGORIAN
METHOD:PUBLISH
X-WR-CALNAME:Prāta spēles
X-ORIGINAL-URL:https://prataspeles.com
X-WR-CALDESC:Events for Prāta spēles
REFRESH-INTERVAL;VALUE=DURATION:PT1H
X-Robots-Tag:noindex
X-PUBLISHED-TTL:PT1H
BEGIN:VTIMEZONE
TZID:Europe/Riga
BEGIN:DAYLIGHT
TZOFFSETFROM:+0200
TZOFFSETTO:+0300
TZNAME:EEST
DTSTART:20240331T010000
END:DAYLIGHT
BEGIN:STANDARD
TZOFFSETFROM:+0300
TZOFFSETTO:+0200
TZNAME:EET
DTSTART:20241027T010000
END:STANDARD
BEGIN:DAYLIGHT
TZOFFSETFROM:+0200
TZOFFSETTO:+0300
TZNAME:EEST
DTSTART:20250330T010000
END:DAYLIGHT
BEGIN:STANDARD
TZOFFSETFROM:+0300
TZOFFSETTO:+0200
TZNAME:EET
DTSTART:20251026T010000
END:STANDARD
BEGIN:DAYLIGHT
TZOFFSETFROM:+0200
TZOFFSETTO:+0300
TZNAME:EEST
DTSTART:20260329T010000
END:DAYLIGHT
BEGIN:STANDARD
TZOFFSETFROM:+0300
TZOFFSETTO:+0200
TZNAME:EET
DTSTART:20261025T010000
END:STANDARD
END:VTIMEZONE
BEGIN:VEVENT
DTSTART;VALUE=DATE:20250910
DTEND;VALUE=DATE:20250911
DTSTAMP:20260422T142604
CREATED:20250911T081223Z
LAST-MODIFIED:20250911T081223Z
UID:5762-1757462400-1757548799@prataspeles.com
SUMMARY:Muzikālās "Prāta Spēles". Rezultāti
DESCRIPTION:Vieta\nSpēlētājs\nPunkti\n\n\n1\nOne (s)hit wonder\n1103\n\n\n2\nAldis\n1023\n\n\n3\nKartupelis(Samanta)\n1019\n\n\n4\nOrbis\n1018\n\n\n5\nKK\n1002\n\n\n6\nDB Cooper\n952\n\n\n7\nagate\n909\n\n\n8\nLil D\n872\n\n\n9\nLilons\n866\n\n\n10\nAnna\n854\n\n\n11\nGeida\n841\n\n\n12\nPatricijina\n815\n\n\n13\nSpilvuks\n794\n\n\n14\nAleksandrs\n740\n\n\n15\nAidža22\n694\n\n\n16\nSaja\n629\n\n\n17\nblondīnes\n607\n\n\n18\nDP\n600\n\n\n19\nSabix\n587\n\n\n20\nDāvis\n565\n\n\n21\ngrauzdiņš\n551\n\n\n22\nAguciz\n528
URL:https://prataspeles.com/event/muzikalas-prata-speles-rezultati-21/
END:VEVENT
END:VCALENDAR