BEGIN:VCALENDAR
VERSION:2.0
PRODID:-//Prāta spēles - ECPv6.15.14//NONSGML v1.0//EN
CALSCALE:GREGORIAN
METHOD:PUBLISH
X-WR-CALNAME:Prāta spēles
X-ORIGINAL-URL:https://prataspeles.com
X-WR-CALDESC:Events for Prāta spēles
REFRESH-INTERVAL;VALUE=DURATION:PT1H
X-Robots-Tag:noindex
X-PUBLISHED-TTL:PT1H
BEGIN:VTIMEZONE
TZID:Europe/Riga
BEGIN:DAYLIGHT
TZOFFSETFROM:+0200
TZOFFSETTO:+0300
TZNAME:EEST
DTSTART:20240331T010000
END:DAYLIGHT
BEGIN:STANDARD
TZOFFSETFROM:+0300
TZOFFSETTO:+0200
TZNAME:EET
DTSTART:20241027T010000
END:STANDARD
BEGIN:DAYLIGHT
TZOFFSETFROM:+0200
TZOFFSETTO:+0300
TZNAME:EEST
DTSTART:20250330T010000
END:DAYLIGHT
BEGIN:STANDARD
TZOFFSETFROM:+0300
TZOFFSETTO:+0200
TZNAME:EET
DTSTART:20251026T010000
END:STANDARD
BEGIN:DAYLIGHT
TZOFFSETFROM:+0200
TZOFFSETTO:+0300
TZNAME:EEST
DTSTART:20260329T010000
END:DAYLIGHT
BEGIN:STANDARD
TZOFFSETFROM:+0300
TZOFFSETTO:+0200
TZNAME:EET
DTSTART:20261025T010000
END:STANDARD
END:VTIMEZONE
BEGIN:VEVENT
DTSTART;VALUE=DATE:20250903
DTEND;VALUE=DATE:20250904
DTSTAMP:20260422T142603
CREATED:20250904T093304Z
LAST-MODIFIED:20250904T093304Z
UID:5752-1756857600-1756943999@prataspeles.com
SUMMARY:Muzikālās "Prāta Spēles". Rezultāti
DESCRIPTION:Vieta\nSpēlētājs\nPunkti\n\n\n1\nKartupelis(Samanta)\n1051\n\n\n2\nDiāna 🙂\n1033\n\n\n3\nGlūmis\n876\n\n\n4\nPaulīne\n826\n\n\n5\nJenoc\n758\n\n\n6\nPookie\n717\n\n\n7\nPatricijina\n712\n\n\n8\nSpilvuks\n672\n\n\n9\nBober\n652\n\n\n10\nVlad\n644\n\n\n11\nAleksandrs\n629\n\n\n12\nHehe\n543\n\n\n13\nGavile\n524\n\n\n14\nMaybe\n477\n\n\n15\nArtis\n472\n\n\n16\nAgnesio\n471\n\n\n17\nAliGi\n454\n\n\n18\nSaja\n403\n\n\n19\nAldis\n271\n\n\n20\nJurciks\n156\n\n\n21\nZanet\n71
URL:https://prataspeles.com/event/muzikalas-prata-speles-rezultati-19/
END:VEVENT
END:VCALENDAR