BEGIN:VCALENDAR
VERSION:2.0
PRODID:-//Prāta spēles - ECPv6.15.14//NONSGML v1.0//EN
CALSCALE:GREGORIAN
METHOD:PUBLISH
X-WR-CALNAME:Prāta spēles
X-ORIGINAL-URL:https://prataspeles.com
X-WR-CALDESC:Events for Prāta spēles
REFRESH-INTERVAL;VALUE=DURATION:PT1H
X-Robots-Tag:noindex
X-PUBLISHED-TTL:PT1H
BEGIN:VTIMEZONE
TZID:Europe/Riga
BEGIN:DAYLIGHT
TZOFFSETFROM:+0200
TZOFFSETTO:+0300
TZNAME:EEST
DTSTART:20240331T010000
END:DAYLIGHT
BEGIN:STANDARD
TZOFFSETFROM:+0300
TZOFFSETTO:+0200
TZNAME:EET
DTSTART:20241027T010000
END:STANDARD
BEGIN:DAYLIGHT
TZOFFSETFROM:+0200
TZOFFSETTO:+0300
TZNAME:EEST
DTSTART:20250330T010000
END:DAYLIGHT
BEGIN:STANDARD
TZOFFSETFROM:+0300
TZOFFSETTO:+0200
TZNAME:EET
DTSTART:20251026T010000
END:STANDARD
BEGIN:DAYLIGHT
TZOFFSETFROM:+0200
TZOFFSETTO:+0300
TZNAME:EEST
DTSTART:20260329T010000
END:DAYLIGHT
BEGIN:STANDARD
TZOFFSETFROM:+0300
TZOFFSETTO:+0200
TZNAME:EET
DTSTART:20261025T010000
END:STANDARD
END:VTIMEZONE
BEGIN:VEVENT
DTSTART;VALUE=DATE:20250806
DTEND;VALUE=DATE:20250807
DTSTAMP:20260422T172057
CREATED:20250811T081040Z
LAST-MODIFIED:20250811T081040Z
UID:5616-1754438400-1754524799@prataspeles.com
SUMMARY:Muzikālās "Prāta Spēles" rezultāti
DESCRIPTION:Muzikālās “Prāta Spēles” rezultāti\, 06.08.2025. \n\n\n\n\n\n\n\nVieta\nDalībnieks\nRezultāts\n\n\n1\nKristaps\n956\n\n\n2\nKarpačo\n901\n\n\n3\nMalvīne & Ğirts\n895\n\n\n4\nCNZ\n867\n\n\n5\n1.9TDI\n817\n\n\n6\nBOD\n809\n\n\n7\nDP\n808\n\n\n8\nLLetina\n798\n\n\n9\nDāvis\n782\n\n\n10\nNine Inch Fingernails\n781\n\n\n11\nĒrzelis\n779\n\n\n12\nPaulīne\n756\n\n\n13\nZoja\n744\n\n\n14\nPūpēdis\n726\n\n\n15\nMimis\n716\n\n\n16\nJacque le Facque\n702\n\n\n17\nRock bottom\n701\n\n\n18\nAleksandrs\n698\n\n\n19\nlk\n685\n\n\n20\nRūfs\n679\n\n\n21\nArtis ar Loru\n670\n\n\n22\nIShowSlow\n653\n\n\n23\nKi-Lo\n648\n\n\n24\nUldis\n637\n\n\n25\nievishhhh\n637\n\n\n26\nMika dzimene\n634\n\n\n27\nNespēlēju\n618\n\n\n28\nLilons\n614\n\n\n29\nJoey TRIVIAni\n596\n\n\n30\nHehe\n587\n\n\n31\nLil D\n583\n\n\n32\nSabix\n547\n\n\n33\nBirze\n526\n\n\n34\nSincha\n503\n\n\n35\nG-unit\n481\n\n\n36\nSils\n467\n\n\n37\nElektriskais Dī\n379\n\n\n38\nSaja\n317\n\n\n39\nElektriskais Dīvāns\n137
URL:https://prataspeles.com/event/muzikalas-prata-speles-rezultati-16/
END:VEVENT
END:VCALENDAR