BEGIN:VCALENDAR
VERSION:2.0
PRODID:-//Prāta spēles - ECPv6.15.14//NONSGML v1.0//EN
CALSCALE:GREGORIAN
METHOD:PUBLISH
X-WR-CALNAME:Prāta spēles
X-ORIGINAL-URL:https://prataspeles.com
X-WR-CALDESC:Events for Prāta spēles
REFRESH-INTERVAL;VALUE=DURATION:PT1H
X-Robots-Tag:noindex
X-PUBLISHED-TTL:PT1H
BEGIN:VTIMEZONE
TZID:Europe/Riga
BEGIN:DAYLIGHT
TZOFFSETFROM:+0200
TZOFFSETTO:+0300
TZNAME:EEST
DTSTART:20240331T010000
END:DAYLIGHT
BEGIN:STANDARD
TZOFFSETFROM:+0300
TZOFFSETTO:+0200
TZNAME:EET
DTSTART:20241027T010000
END:STANDARD
BEGIN:DAYLIGHT
TZOFFSETFROM:+0200
TZOFFSETTO:+0300
TZNAME:EEST
DTSTART:20250330T010000
END:DAYLIGHT
BEGIN:STANDARD
TZOFFSETFROM:+0300
TZOFFSETTO:+0200
TZNAME:EET
DTSTART:20251026T010000
END:STANDARD
BEGIN:DAYLIGHT
TZOFFSETFROM:+0200
TZOFFSETTO:+0300
TZNAME:EEST
DTSTART:20260329T010000
END:DAYLIGHT
BEGIN:STANDARD
TZOFFSETFROM:+0300
TZOFFSETTO:+0200
TZNAME:EET
DTSTART:20261025T010000
END:STANDARD
END:VTIMEZONE
BEGIN:VEVENT
DTSTART;TZID=Europe/Riga:20250611T190000
DTEND;TZID=Europe/Riga:20250611T210000
DTSTAMP:20260422T054607
CREATED:20250613T100327Z
LAST-MODIFIED:20250613T100327Z
UID:2433-1749668400-1749675600@prataspeles.com
SUMMARY:Muzikālās "Prāta Spēles" rezultāti
DESCRIPTION:Muzikālās “Prāta Spēles” rezultāti\, 11.06.2025. \n\n\n\nVieta\nDalībnieks\nRezultāts\n\n\n1\nEltons Kleptons\n1074\n\n\n2\nAsteroid\n1045\n\n\n3\nZuze\n1033\n\n\n4\nCNZ\n1028\n\n\n5\nCukurzirnītis\n1017\n\n\n6\nKicina\n1016\n\n\n7\nMEGA Biezenis\n1010\n\n\n8\nVadzis\n1006\n\n\n9\nMandarīns\n986\n\n\n10\nEvo\n983\n\n\n11\nKotangens\n970\n\n\n12\nKartupelis(Samanta)\n968\n\n\n13\nGlūmis\n955\n\n\n14\nBurgeris\n943\n\n\n15\nmm\n907\n\n\n16\nAG\n865\n\n\n17\nDP\n830\n\n\n18\nManc nau dumjšs\n825\n\n\n19\nAleksandrs\n787\n\n\n20\nCHARMING\n785\n\n\n21\nAnsis\n749\n\n\n22\nDudinas\n683\n\n\n23\nC’est la vie\n574\n\n\n24\nInese&Co\n573\n\n\n25\nRain\n485\n\n\n26\nZandale\n482\n\n\n27\nAndris\n447\n\n\n28\nEvelīna\n442\n\n\n29\nKkine\n441\n\n\n30\nKetons\n413\n\n\n31\nVii24\n182\n\n\n32\nFartunat\n125\n\n\n33\nHi\n88\n\n\n34\nMartini\n13
URL:https://prataspeles.com/event/muzikalas-prata-speles-rezultati-11/
LOCATION:“Brūzis Manufaktūra”\, Brīvības gatve 401C\, Rīga\, Latvia
CATEGORIES:Muzikālās ''Prāta spēles''
END:VEVENT
END:VCALENDAR