BEGIN:VCALENDAR
VERSION:2.0
PRODID:-//Prāta spēles - ECPv6.15.14//NONSGML v1.0//EN
CALSCALE:GREGORIAN
METHOD:PUBLISH
X-WR-CALNAME:Prāta spēles
X-ORIGINAL-URL:https://prataspeles.com
X-WR-CALDESC:Events for Prāta spēles
REFRESH-INTERVAL;VALUE=DURATION:PT1H
X-Robots-Tag:noindex
X-PUBLISHED-TTL:PT1H
BEGIN:VTIMEZONE
TZID:Europe/Riga
BEGIN:DAYLIGHT
TZOFFSETFROM:+0200
TZOFFSETTO:+0300
TZNAME:EEST
DTSTART:20240331T010000
END:DAYLIGHT
BEGIN:STANDARD
TZOFFSETFROM:+0300
TZOFFSETTO:+0200
TZNAME:EET
DTSTART:20241027T010000
END:STANDARD
BEGIN:DAYLIGHT
TZOFFSETFROM:+0200
TZOFFSETTO:+0300
TZNAME:EEST
DTSTART:20250330T010000
END:DAYLIGHT
BEGIN:STANDARD
TZOFFSETFROM:+0300
TZOFFSETTO:+0200
TZNAME:EET
DTSTART:20251026T010000
END:STANDARD
BEGIN:DAYLIGHT
TZOFFSETFROM:+0200
TZOFFSETTO:+0300
TZNAME:EEST
DTSTART:20260329T010000
END:DAYLIGHT
BEGIN:STANDARD
TZOFFSETFROM:+0300
TZOFFSETTO:+0200
TZNAME:EET
DTSTART:20261025T010000
END:STANDARD
END:VTIMEZONE
BEGIN:VEVENT
DTSTART;TZID=Europe/Riga:20250108T190000
DTEND;TZID=Europe/Riga:20250108T210000
DTSTAMP:20260420T063256
CREATED:20241226T134449Z
LAST-MODIFIED:20241226T134449Z
UID:1565-1736362800-1736370000@prataspeles.com
SUMMARY:Muzikālās "Prāta Spēles" - ONE HIT WONDERS
DESCRIPTION:Jaunā gada brīnumus uzsākam ar ONE HOT WONDERS!  Nāc un pievienojies aizraujošai bezmaksas viktorīnai!\n\n8 . janvāris\, plkst. 19:00  Brūzis Manufaktūra\n\n Vai atceries vienreizējos hitus\, kas pasaulē popularitāti iekaroja fantastiskā ātrumā? One hit wonders dziesmu un to izpildītāju minēšana noteikti atsauks atmiņā pašus populārākos hitus\, kas reiz Tavam mieram lika iegriezt īstu vētru! Nāc uz mūsu foršo viktorīnas vakaru\, kur noķersi lielisku vaibu un\, iespējams\, varēsi iegriezt laimes ratu\, saņemot superīgu dāvanu no Brūzis Manufaktūra!\nTev nebūs jāuztraucas par: Dalības maksu – jo tādas nav! Vecuma ierobežojumiem – jo visi mīļi gaidīti!\n\nTevi sagaida: Pacilājoši mūzikas hiti\, kurus noteikti atpazīsi! Foršas balvas – gan noderīgas\, gan gardas. Alus un uzkodas – jo kas gan ir viktorīna bez našķiem un dzērieniem?\nPaķer draugus\, ģimeni vai nāc vienītī – būs forši!\n\n P.S. Esi gatavs\, ka vari tikt fotografēts.\n\n#muzikalasprataspeles #prataspeles #bruzismanufaktura
URL:https://prataspeles.com/event/muzikalas-prata-speles-one-hit-wonders/
LOCATION:“Brūzis Manufaktūra”\, Brīvības gatve 401C\, Rīga\, Latvia
CATEGORIES:Muzikālās ''Prāta spēles''
ATTACH;FMTTYPE=image/jpeg:https://prataspeles.com/wp-content/uploads/2024/12/Copy-of-Blue-Modern-Minimalist-Artificial-Intelligence-Technology-Presentation.jpg
END:VEVENT
END:VCALENDAR