BEGIN:VCALENDAR
VERSION:2.0
PRODID:-//Prāta spēles - ECPv6.15.14//NONSGML v1.0//EN
CALSCALE:GREGORIAN
METHOD:PUBLISH
X-WR-CALNAME:Prāta spēles
X-ORIGINAL-URL:https://prataspeles.com
X-WR-CALDESC:Events for Prāta spēles
REFRESH-INTERVAL;VALUE=DURATION:PT1H
X-Robots-Tag:noindex
X-PUBLISHED-TTL:PT1H
BEGIN:VTIMEZONE
TZID:Europe/Riga
BEGIN:DAYLIGHT
TZOFFSETFROM:+0200
TZOFFSETTO:+0300
TZNAME:EEST
DTSTART:20230326T010000
END:DAYLIGHT
BEGIN:STANDARD
TZOFFSETFROM:+0300
TZOFFSETTO:+0200
TZNAME:EET
DTSTART:20231029T010000
END:STANDARD
BEGIN:DAYLIGHT
TZOFFSETFROM:+0200
TZOFFSETTO:+0300
TZNAME:EEST
DTSTART:20240331T010000
END:DAYLIGHT
BEGIN:STANDARD
TZOFFSETFROM:+0300
TZOFFSETTO:+0200
TZNAME:EET
DTSTART:20241027T010000
END:STANDARD
BEGIN:DAYLIGHT
TZOFFSETFROM:+0200
TZOFFSETTO:+0300
TZNAME:EEST
DTSTART:20250330T010000
END:DAYLIGHT
BEGIN:STANDARD
TZOFFSETFROM:+0300
TZOFFSETTO:+0200
TZNAME:EET
DTSTART:20251026T010000
END:STANDARD
END:VTIMEZONE
BEGIN:VEVENT
DTSTART;TZID=Europe/Riga:20241211T190000
DTEND;TZID=Europe/Riga:20241211T210000
DTSTAMP:20260420T013624
CREATED:20241206T140631Z
LAST-MODIFIED:20241206T140631Z
UID:1541-1733943600-1733950800@prataspeles.com
SUMMARY:Muzikālās "Prāta Spēles" - balādes
DESCRIPTION:Balādes\, kas aizkustina sirdi\, un viktorīna\, kas izaicina prātu – vakars\, kuru Tu nedrīksti palaist garām! \n11. decembrī plkst. 19:00 tiekamies Brūzis Manufaktūrā – vietā\, kur jautrība un muzikālās zināšanas savijas unikālā piedzīvojumā! \nIelūdz draugus\, ģimeni vai kolēģus\, vai nāc viens – mēs garantējam aizraujošu vakaru visiem! Populārākās balādes un aizraujoša viktorīna izaicinās tavas zināšanas un prātu. 🎸 \n\nKāpēc apmeklēt?\n🌟 Dalība bez maksas – vienkārši nāc un piedalies!\n🌟 Piemērots ikvienam – bez vecuma ierobežojumiem!\n🌟 Laimes rats – iespēja laimēt lieliskas pārsteiguma balvas! 🎁\n🌟 Īpašas balvas no Brūzis Manufaktūra! \n🍔 Garšas baudījums: Izmēģini gardos ēdienus un uz vietas brūvēto alu – svaigu\, bagātīgu un piemērotu jebkurai gaumei. \n\n📸 Atceries: Pasākuma laikā var notikt fotografēšana un filmēšana – uzņemtie materiāli var tikt izmantoti publiskajā komunikācijā. \n🎉 Vakars\, kas sniegs gan zināšanas\, gan jautrību – tiekamies! ✨
URL:https://prataspeles.com/event/muzikalas-prata-speles-balades/
LOCATION:“Brūzis Manufaktūra”\, Brīvības gatve 401C\, Rīga\, Latvia
CATEGORIES:Muzikālās ''Prāta spēles''
ATTACH;FMTTYPE=image/jpeg:https://prataspeles.com/wp-content/uploads/2024/12/Blue-Modern-Minimalist-Artificial-Intelligence-Technology-Presentation-1-scaled.jpg
END:VEVENT
END:VCALENDAR