BEGIN:VCALENDAR
VERSION:2.0
PRODID:-//Prāta spēles - ECPv6.15.20//NONSGML v1.0//EN
CALSCALE:GREGORIAN
METHOD:PUBLISH
X-WR-CALNAME:Prāta spēles
X-ORIGINAL-URL:https://prataspeles.com
X-WR-CALDESC:Events for Prāta spēles
REFRESH-INTERVAL;VALUE=DURATION:PT1H
X-Robots-Tag:noindex
X-PUBLISHED-TTL:PT1H
BEGIN:VTIMEZONE
TZID:Europe/Riga
BEGIN:DAYLIGHT
TZOFFSETFROM:+0200
TZOFFSETTO:+0300
TZNAME:EEST
DTSTART:20250330T010000
END:DAYLIGHT
BEGIN:STANDARD
TZOFFSETFROM:+0300
TZOFFSETTO:+0200
TZNAME:EET
DTSTART:20251026T010000
END:STANDARD
BEGIN:DAYLIGHT
TZOFFSETFROM:+0200
TZOFFSETTO:+0300
TZNAME:EEST
DTSTART:20260329T010000
END:DAYLIGHT
BEGIN:STANDARD
TZOFFSETFROM:+0300
TZOFFSETTO:+0200
TZNAME:EET
DTSTART:20261025T010000
END:STANDARD
BEGIN:DAYLIGHT
TZOFFSETFROM:+0200
TZOFFSETTO:+0300
TZNAME:EEST
DTSTART:20270328T010000
END:DAYLIGHT
BEGIN:STANDARD
TZOFFSETFROM:+0300
TZOFFSETTO:+0200
TZNAME:EET
DTSTART:20271031T010000
END:STANDARD
END:VTIMEZONE
BEGIN:VEVENT
DTSTART;TZID=Europe/Riga:20260429T190000
DTEND;TZID=Europe/Riga:20260429T210000
DTSTAMP:20260425T010027
CREATED:20260424T091756Z
LAST-MODIFIED:20260424T091756Z
UID:6436-1777489200-1777496400@prataspeles.com
SUMMARY:Muzikālās Prāta spēles Angārā 🎤 / Muzikālais Bingo
DESCRIPTION:Vienā dienā – DIVI MUZIKĀLIE PASĀKUMI! Kas var būt labāks par to? \nLielisks trešdienas vakars ir garantēts 29. Aprīlī angārā\, kur varēsi pārbaudīt savas mūzikas zināšanas un laimēt foršas balvas\, kā arī izdziedāties no sirds uz angāra skatuves kā īsta zvaigzne! \n\n\n 19:00 Muzikālās prāta spēles | Muzikālais Bingo\n\n\nVai esi gatavs vakaram\, kur mūzika\, azarts un laba kompānija saplūst vienā lieliskā piedzīvojumā?\n29. aprīlī Tallinas kvartāla Angārā aicinām uz Muzikālo Bingo!\n\n\n Šī vakara tēma – Muzikālais Bingo. Skanēs dažādu žanru un laiku dziesmas – tavs uzdevums ir tās atpazīt\, just līdzi un noķert īstos brīžus.\n No labi zināmiem hitiem līdz negaidītiem “guilty pleasure” gabaliem\n Dzērieni\, uzkodas un patīkama atmosfēra\n Smiekli\, azarts un pārsteigumi visa vakara garumā\nNāc viens vai ar draugiem – šis vakars ir domāts visiem\, kuri grib trešdienas vakaru pavadīt jautrībā!\n\n\n No 21:00 Karaoke vakars angārā ar Pupelnieci\n\n\nVai esi dziedājis dušas kabīnē kā īsta zvaigzne? Tagad ir tā iespēja parādīt savu talantu arī ārpus tās!\n\n\n 29. aprīlī plkst. 21:00 tiekamies Angārā\, lai iedziedātu tā mazo skatuvi kopā ar kolosālo vakara vadītāju Pupelnieci.\n\n\nKAS JĀŅEM LĪDZI?\nLabs garastāvoklis\, jautra kompānija un savu mīļāko hitu saraksts\, kuriem nespēj pretoties.\n\n\nVAKARA PLĀNĀ?\nBrīvais mikrofons jeb izvēlies dziesmu\, sagaidi kārtu un izbaudi slavas mirkli. Dziedi viens vai ar draugiem\, šķībi vai kā Supernovas finālists\, bet esi drošs – šī virsotne ir Tev pa spēkam!\n\n\nVai esi gatavs muzikālam un aizraujošam trešdienas vakaram? Tiekamies!\n\n\n 29. aprīlī no 19:00\n Tallinas kvartāla angārā\, Tallinas ielā 10\, Rīgā\nIEEJA BEZ MAKSAS
URL:https://prataspeles.com/event/muzikalas-prata-speles-angara-%f0%9f%8e%a4-muzikalais-bingo1/
CATEGORIES:Muzikālās ''Prāta spēles''
END:VEVENT
END:VCALENDAR